BEGIN:VCALENDAR
VERSION:2.0
PRODID:-//OTC Eco Granada - ECPv6.15.20//NONSGML v1.0//EN
CALSCALE:GREGORIAN
METHOD:PUBLISH
X-ORIGINAL-URL:https://otcecogranada.es
X-WR-CALDESC:Eventos para OTC Eco Granada
REFRESH-INTERVAL;VALUE=DURATION:PT1H
X-Robots-Tag:noindex
X-PUBLISHED-TTL:PT1H
BEGIN:VTIMEZONE
TZID:Europe/Madrid
BEGIN:DAYLIGHT
TZOFFSETFROM:+0100
TZOFFSETTO:+0200
TZNAME:CEST
DTSTART:20230326T010000
END:DAYLIGHT
BEGIN:STANDARD
TZOFFSETFROM:+0200
TZOFFSETTO:+0100
TZNAME:CET
DTSTART:20231029T010000
END:STANDARD
BEGIN:DAYLIGHT
TZOFFSETFROM:+0100
TZOFFSETTO:+0200
TZNAME:CEST
DTSTART:20240331T010000
END:DAYLIGHT
BEGIN:STANDARD
TZOFFSETFROM:+0200
TZOFFSETTO:+0100
TZNAME:CET
DTSTART:20241027T010000
END:STANDARD
BEGIN:DAYLIGHT
TZOFFSETFROM:+0100
TZOFFSETTO:+0200
TZNAME:CEST
DTSTART:20250330T010000
END:DAYLIGHT
BEGIN:STANDARD
TZOFFSETFROM:+0200
TZOFFSETTO:+0100
TZNAME:CET
DTSTART:20251026T010000
END:STANDARD
END:VTIMEZONE
BEGIN:VEVENT
DTSTART;TZID=Europe/Madrid:20240422T103000
DTEND;TZID=Europe/Madrid:20240422T233000
DTSTAMP:20260424T054342
CREATED:20240510T110944Z
LAST-MODIFIED:20240510T111350Z
UID:10000018-1713781800-1713828600@otcecogranada.es
SUMMARY:Jornada Comarcal de la OTC en Huéscar
DESCRIPTION:Esta es la cuarta jornada que realiza la OTC en la provincia de Granada. Se ha realizado en el salón de plenos del Ayuntamiento de Huéscar. Tuvo lugar a las 10:30 el día 22 de abril de 2024. En esta jornada se llevó a cabo una presentación sobre Comunidades Energéticas\, el papel fundamental que juegan las Entidades Locales en su creación y la exposición\, tanto de las dos OTC que coexisten en la provincia de Granada\, como los servicios\, herramientas y ayudas\, que ofrecen dichas oficinas. En esta jornada\, se detectó una iniciativa incipiente de una CEL\, y también se detectó un interés en la creación de otra por parte del público asistente.
URL:https://otcecogranada.es/evento/jornada-comarcal-otc-huescar/
LOCATION:Salón de plenos del Ayuntamiento de Huéscar
END:VEVENT
END:VCALENDAR