BEGIN:VCALENDAR
VERSION:2.0
PRODID:-//OTC Eco Granada - ECPv6.15.20//NONSGML v1.0//EN
CALSCALE:GREGORIAN
METHOD:PUBLISH
X-WR-CALNAME:OTC Eco Granada
X-ORIGINAL-URL:https://otcecogranada.es
X-WR-CALDESC:Eventos para OTC Eco Granada
REFRESH-INTERVAL;VALUE=DURATION:PT1H
X-Robots-Tag:noindex
X-PUBLISHED-TTL:PT1H
BEGIN:VTIMEZONE
TZID:Europe/Madrid
BEGIN:DAYLIGHT
TZOFFSETFROM:+0100
TZOFFSETTO:+0200
TZNAME:CEST
DTSTART:20230326T010000
END:DAYLIGHT
BEGIN:STANDARD
TZOFFSETFROM:+0200
TZOFFSETTO:+0100
TZNAME:CET
DTSTART:20231029T010000
END:STANDARD
BEGIN:DAYLIGHT
TZOFFSETFROM:+0100
TZOFFSETTO:+0200
TZNAME:CEST
DTSTART:20240331T010000
END:DAYLIGHT
BEGIN:STANDARD
TZOFFSETFROM:+0200
TZOFFSETTO:+0100
TZNAME:CET
DTSTART:20241027T010000
END:STANDARD
BEGIN:DAYLIGHT
TZOFFSETFROM:+0100
TZOFFSETTO:+0200
TZNAME:CEST
DTSTART:20250330T010000
END:DAYLIGHT
BEGIN:STANDARD
TZOFFSETFROM:+0200
TZOFFSETTO:+0100
TZNAME:CET
DTSTART:20251026T010000
END:STANDARD
END:VTIMEZONE
BEGIN:VEVENT
DTSTART;TZID=Europe/Madrid:20240424T100000
DTEND;TZID=Europe/Madrid:20240424T230000
DTSTAMP:20260424T054244
CREATED:20240510T111856Z
LAST-MODIFIED:20240510T111856Z
UID:10000019-1713952800-1713999600@otcecogranada.es
SUMMARY:Jornada Comarcal de la OTC en Guadix
DESCRIPTION:Esta es la quinta jornada que realiza la OTC en la provincia de Granada. Se ha realizado en el salón de plenos del Ayuntamiento de Guadix. Tuvo lugar a las 10:00 el día 24 de abril de 2024. En esta jornada se llevó a cabo una presentación sobre Comunidades Energéticas\, el papel fundamental que juegan las Entidades Locales en su creación y la exposición\, tanto de las dos OTC que coexisten en la provincia de Granada\, como los servicios\, herramientas y ayudas\, que ofrecen dichas oficinas. Se detectaron un par de iniciativas en lo referente a las CEL. Se publicó una notica en la prensa local sobre la jornada ayudando así a la difusión.
URL:https://otcecogranada.es/evento/jornada-comarcal-otc-guadix/
LOCATION:Salón de plenos del Ayuntamiento de Guadix
END:VEVENT
END:VCALENDAR