BEGIN:VCALENDAR
VERSION:2.0
PRODID:-//OTC Eco Granada - ECPv6.15.20//NONSGML v1.0//EN
CALSCALE:GREGORIAN
METHOD:PUBLISH
X-ORIGINAL-URL:https://otcecogranada.es
X-WR-CALDESC:Eventos para OTC Eco Granada
REFRESH-INTERVAL;VALUE=DURATION:PT1H
X-Robots-Tag:noindex
X-PUBLISHED-TTL:PT1H
BEGIN:VTIMEZONE
TZID:Europe/Madrid
BEGIN:DAYLIGHT
TZOFFSETFROM:+0100
TZOFFSETTO:+0200
TZNAME:CEST
DTSTART:20230326T010000
END:DAYLIGHT
BEGIN:STANDARD
TZOFFSETFROM:+0200
TZOFFSETTO:+0100
TZNAME:CET
DTSTART:20231029T010000
END:STANDARD
BEGIN:DAYLIGHT
TZOFFSETFROM:+0100
TZOFFSETTO:+0200
TZNAME:CEST
DTSTART:20240331T010000
END:DAYLIGHT
BEGIN:STANDARD
TZOFFSETFROM:+0200
TZOFFSETTO:+0100
TZNAME:CET
DTSTART:20241027T010000
END:STANDARD
BEGIN:DAYLIGHT
TZOFFSETFROM:+0100
TZOFFSETTO:+0200
TZNAME:CEST
DTSTART:20250330T010000
END:DAYLIGHT
BEGIN:STANDARD
TZOFFSETFROM:+0200
TZOFFSETTO:+0100
TZNAME:CET
DTSTART:20251026T010000
END:STANDARD
END:VTIMEZONE
BEGIN:VEVENT
DTSTART;TZID=Europe/Madrid:20240429T100000
DTEND;TZID=Europe/Madrid:20240429T230000
DTSTAMP:20260424T043242
CREATED:20240510T113745Z
LAST-MODIFIED:20240510T113808Z
UID:10000021-1714384800-1714431600@otcecogranada.es
SUMMARY:Jornada Comarcal de la OTC en Iznalloz
DESCRIPTION:Esta es la séptima jornada que realiza la OTC en la provincia de Granada. Se ha realizado en el salón de plenos del Ayuntamiento de Iznalloz. Tuvo lugar a las 10:00 el día 29 de abril de 2024. En esta jornada se llevó a cabo una presentación sobre Comunidades Energéticas\, el papel fundamental que juegan las Entidades Locales en su creación y la exposición\, tanto de las dos OTC que coexisten en la provincia de Granada\, como los servicios\, herramientas y ayudas\, que ofrecen dichas oficinas. Gracias a la jornada\, se detectó una iniciativa en un municipio de la comarca y una empresa que fue añadida al recurso de empresas locales disponible en nuestra web (bajo registro).
URL:https://otcecogranada.es/evento/jornada-comarcal-otc-guadix-2/
LOCATION:Salón de plenos del Ayuntamiento de Iznalloz
END:VEVENT
END:VCALENDAR