BEGIN:VCALENDAR
VERSION:2.0
PRODID:-//OTC Eco Granada - ECPv6.15.20//NONSGML v1.0//EN
CALSCALE:GREGORIAN
METHOD:PUBLISH
X-ORIGINAL-URL:https://otcecogranada.es
X-WR-CALDESC:Eventos para OTC Eco Granada
REFRESH-INTERVAL;VALUE=DURATION:PT1H
X-Robots-Tag:noindex
X-PUBLISHED-TTL:PT1H
BEGIN:VTIMEZONE
TZID:Europe/Madrid
BEGIN:DAYLIGHT
TZOFFSETFROM:+0100
TZOFFSETTO:+0200
TZNAME:CEST
DTSTART:20230326T010000
END:DAYLIGHT
BEGIN:STANDARD
TZOFFSETFROM:+0200
TZOFFSETTO:+0100
TZNAME:CET
DTSTART:20231029T010000
END:STANDARD
BEGIN:DAYLIGHT
TZOFFSETFROM:+0100
TZOFFSETTO:+0200
TZNAME:CEST
DTSTART:20240331T010000
END:DAYLIGHT
BEGIN:STANDARD
TZOFFSETFROM:+0200
TZOFFSETTO:+0100
TZNAME:CET
DTSTART:20241027T010000
END:STANDARD
BEGIN:DAYLIGHT
TZOFFSETFROM:+0100
TZOFFSETTO:+0200
TZNAME:CEST
DTSTART:20250330T010000
END:DAYLIGHT
BEGIN:STANDARD
TZOFFSETFROM:+0200
TZOFFSETTO:+0100
TZNAME:CET
DTSTART:20251026T010000
END:STANDARD
END:VTIMEZONE
BEGIN:VEVENT
DTSTART;TZID=Europe/Madrid:20240522T183000
DTEND;TZID=Europe/Madrid:20240522T203000
DTSTAMP:20260424T043355
CREATED:20240515T094447Z
LAST-MODIFIED:20240523T104304Z
UID:10000028-1716402600-1716409800@otcecogranada.es
SUMMARY:Jornada sobre Comunidades Energéticas en Órgiva
DESCRIPTION:Jornada organizada por la OSCE (Oficina social de las Comunidades Energéticas) junto con la colaboración de la OTC ECO Granada y el ayuntamiento de Órgiva.
URL:https://otcecogranada.es/evento/jornada-comunidades-energeticas-orgiva/
LOCATION:Salón de plenos del Ayuntamiento de Órgiva
END:VEVENT
END:VCALENDAR