BEGIN:VCALENDAR
VERSION:2.0
PRODID:-//OTC Eco Granada - ECPv6.15.20//NONSGML v1.0//EN
CALSCALE:GREGORIAN
METHOD:PUBLISH
X-ORIGINAL-URL:https://otcecogranada.es
X-WR-CALDESC:Eventos para OTC Eco Granada
REFRESH-INTERVAL;VALUE=DURATION:PT1H
X-Robots-Tag:noindex
X-PUBLISHED-TTL:PT1H
BEGIN:VTIMEZONE
TZID:Europe/Madrid
BEGIN:DAYLIGHT
TZOFFSETFROM:+0100
TZOFFSETTO:+0200
TZNAME:CEST
DTSTART:20230326T010000
END:DAYLIGHT
BEGIN:STANDARD
TZOFFSETFROM:+0200
TZOFFSETTO:+0100
TZNAME:CET
DTSTART:20231029T010000
END:STANDARD
BEGIN:DAYLIGHT
TZOFFSETFROM:+0100
TZOFFSETTO:+0200
TZNAME:CEST
DTSTART:20240331T010000
END:DAYLIGHT
BEGIN:STANDARD
TZOFFSETFROM:+0200
TZOFFSETTO:+0100
TZNAME:CET
DTSTART:20241027T010000
END:STANDARD
BEGIN:DAYLIGHT
TZOFFSETFROM:+0100
TZOFFSETTO:+0200
TZNAME:CEST
DTSTART:20250330T010000
END:DAYLIGHT
BEGIN:STANDARD
TZOFFSETFROM:+0200
TZOFFSETTO:+0100
TZNAME:CET
DTSTART:20251026T010000
END:STANDARD
END:VTIMEZONE
BEGIN:VEVENT
DTSTART;VALUE=DATE:20240917
DTEND;VALUE=DATE:20240918
DTSTAMP:20260423T233140
CREATED:20241028T121407Z
LAST-MODIFIED:20241028T123857Z
UID:10000036-1726531200-1726617599@otcecogranada.es
SUMMARY:Comunidades por el Clima (Communities 4 Climate EU)
DESCRIPTION:La Comisión Europea ha puesto en marcha la acción piloto Comunidades por el Clima (C4C)\, diseñada para empoderar a las comunidades locales de toda Europa para que adopten medidas significativas para hacer frente al cambio climático. C4C apoyará 50 proyectos locales situados en once países de la UE admisibles\, centrados en la regeneración de la biodiversidad\, la gestión del agua\, las economías circulares o las energías renovables. La convocatoria de candidaturas permanecerá abierta hasta el 3 de abril de 2024. \nEn el siguiente enlace\, pueden verse las distintas iniciativas que desarrolla este programa de la Unión Europea: https://ec.europa.eu/regional_policy/sources/policy/communities-and-networks/c4c/C4C_50_selected_projects_annex.pdf \nEn concreto en Granada tenemos el siguiente proyecto (Texto traducido del anterior enlace): \n«COMMUTE Granada: Movilidad comunitaria en las zonas turísticas del sur de España Desde 2021\, la Diputación de Granada ha abanderado el desarrollo de la energía local comunidades\, iniciando proyectos centrados hasta ahora únicamente en el autoconsumo fotovoltaico. A través de nuevos colaboraciones\, proyectos y servicios\, como los sistemas de uso compartido de coches eléctricos rurales\, COMMMUTE Granada tiene como objetivo diversificar su oferta y fomentar soluciones energéticas innovadoras y lideradas por la comunidad que abordar tanto la eficiencia energética como la movilidad sostenible\, mejorando la calidad de vida en las zonas rurales.»
URL:https://otcecogranada.es/evento/comunidades-clima-communities-4-climate-eu/
LOCATION:Unión Europea
ATTACH;FMTTYPE=image/jpeg:https://otcecogranada.es/wp-content/uploads/2024/10/european-parliament.jpeg
ORGANIZER;CN="Oficina Provincial de la Energ%C3%ADa Diputaci%C3%B3n de Granada":MAILTO:oficinaenergia@dipgra.es
END:VEVENT
END:VCALENDAR