BEGIN:VCALENDAR
VERSION:2.0
PRODID:-//OTC Eco Granada - ECPv6.15.20//NONSGML v1.0//EN
CALSCALE:GREGORIAN
METHOD:PUBLISH
X-WR-CALNAME:OTC Eco Granada
X-ORIGINAL-URL:https://otcecogranada.es
X-WR-CALDESC:Eventos para OTC Eco Granada
REFRESH-INTERVAL;VALUE=DURATION:PT1H
X-Robots-Tag:noindex
X-PUBLISHED-TTL:PT1H
BEGIN:VTIMEZONE
TZID:Europe/Madrid
BEGIN:DAYLIGHT
TZOFFSETFROM:+0100
TZOFFSETTO:+0200
TZNAME:CEST
DTSTART:20230326T010000
END:DAYLIGHT
BEGIN:STANDARD
TZOFFSETFROM:+0200
TZOFFSETTO:+0100
TZNAME:CET
DTSTART:20231029T010000
END:STANDARD
BEGIN:DAYLIGHT
TZOFFSETFROM:+0100
TZOFFSETTO:+0200
TZNAME:CEST
DTSTART:20240331T010000
END:DAYLIGHT
BEGIN:STANDARD
TZOFFSETFROM:+0200
TZOFFSETTO:+0100
TZNAME:CET
DTSTART:20241027T010000
END:STANDARD
BEGIN:DAYLIGHT
TZOFFSETFROM:+0100
TZOFFSETTO:+0200
TZNAME:CEST
DTSTART:20250330T010000
END:DAYLIGHT
BEGIN:STANDARD
TZOFFSETFROM:+0200
TZOFFSETTO:+0100
TZNAME:CET
DTSTART:20251026T010000
END:STANDARD
END:VTIMEZONE
BEGIN:VEVENT
DTSTART;TZID=Europe/Madrid:20240919T103000
DTEND;TZID=Europe/Madrid:20240919T120000
DTSTAMP:20260423T234215
CREATED:20241028T122858Z
LAST-MODIFIED:20241028T123227Z
UID:10000038-1726741800-1726747200@otcecogranada.es
SUMMARY:Webinar 'Presentación de las convocatorias 5ª y 6ª del programa CE Implementa'
DESCRIPTION:Dotadas con 120 millones de euros del Plan de Recuperación para la creación de nuevas comunidades energéticas\, incentivarán\, especialmente\, proyectos multicomponente que combinen varias actuaciones e incorporen las dos nuevas figuras legales de comunidades energéticas. \nEn esta Jornada informativa online en la que se dan a conocer las líneas generales de las nuevas convocatorias y el proceso de presentación de solicitudes por medio del tramitador. \nEl enlace a la página oficial es: \nhttps://www.idae.es/index.php/evento/webinar-presentacion-de-las-convocatorias-5a-y-6a-del-programa-ce-implementa \nEn ella se pueden visualizar la agenda del evento y el vídeo de la grabación de las distintas presentaciones.
URL:https://otcecogranada.es/evento/webinar-presentacian-convocatorias-5a6adel-programa-ce-implementa/
LOCATION:Salón de Actos de la Sede de la Diputación de Granada\, C/ Periodista Barrios Talavera\, 1\, Granada\, Granada\, 18014\, España
ATTACH;FMTTYPE=image/png:https://otcecogranada.es/wp-content/uploads/2024/10/header_logo.png
ORGANIZER;CN="Oficina Provincial de la Energ%C3%ADa Diputaci%C3%B3n de Granada":MAILTO:oficinaenergia@dipgra.es
END:VEVENT
END:VCALENDAR