BEGIN:VCALENDAR
VERSION:2.0
PRODID:-//OTC Eco Granada - ECPv6.15.20//NONSGML v1.0//EN
CALSCALE:GREGORIAN
METHOD:PUBLISH
X-ORIGINAL-URL:https://otcecogranada.es
X-WR-CALDESC:Eventos para OTC Eco Granada
REFRESH-INTERVAL;VALUE=DURATION:PT1H
X-Robots-Tag:noindex
X-PUBLISHED-TTL:PT1H
BEGIN:VTIMEZONE
TZID:Europe/Madrid
BEGIN:DAYLIGHT
TZOFFSETFROM:+0100
TZOFFSETTO:+0200
TZNAME:CEST
DTSTART:20230326T010000
END:DAYLIGHT
BEGIN:STANDARD
TZOFFSETFROM:+0200
TZOFFSETTO:+0100
TZNAME:CET
DTSTART:20231029T010000
END:STANDARD
BEGIN:DAYLIGHT
TZOFFSETFROM:+0100
TZOFFSETTO:+0200
TZNAME:CEST
DTSTART:20240331T010000
END:DAYLIGHT
BEGIN:STANDARD
TZOFFSETFROM:+0200
TZOFFSETTO:+0100
TZNAME:CET
DTSTART:20241027T010000
END:STANDARD
BEGIN:DAYLIGHT
TZOFFSETFROM:+0100
TZOFFSETTO:+0200
TZNAME:CEST
DTSTART:20250330T010000
END:DAYLIGHT
BEGIN:STANDARD
TZOFFSETFROM:+0200
TZOFFSETTO:+0100
TZNAME:CET
DTSTART:20251026T010000
END:STANDARD
END:VTIMEZONE
BEGIN:VEVENT
DTSTART;TZID=Europe/Madrid:20240930T120000
DTEND;TZID=Europe/Madrid:20240930T130000
DTSTAMP:20260423T232832
CREATED:20241028T092007Z
LAST-MODIFIED:20241028T092050Z
UID:10000032-1727697600-1727701200@otcecogranada.es
SUMMARY:Asistencia jurídico-técnica a la C.E de Castril
DESCRIPTION:Gracias a la OTC ECO Granada\, se organizó una asistencia jurídica online a la incipiente CE de Castril. En las primeras fases del proyecto que se está gestando en dicho municipio\, surgieron muchas dudas jurídicas y técnicas\, por ejemplo: ¿Con qué figura jurídica nos constituimos? ¿Cómo encajar la participación del Ayuntamiento en la CE? ¿Cuál sería el radio máximo para autoconsumo de las instalaciones que ya tienen disponibles? Entre otras. \nEn los inicios todo son interrogantes\, dudas\, problemas\, el proyecto inicial pierde fuerza… Pero gracias a la asistencia de expertos en su materia\, el proyecto tomó buena dirección. Desde la idea inicial\, hasta la final que se ejecuta\, se producen muchos cambios debido a las distintas decisiones que hay que tomar. Además\, siempre surgen problemas técnicos que hay que resolver de muy distinta índole. \nAl terminar la reunión\, Castril tomó varias decisiones para continuar con un ambicioso proyecto\, que una vez esté en funcionamiento\, atraerá beneficios económicos\, sociales y medio ambientales a toda su región.
URL:https://otcecogranada.es/evento/asistencia-juridico-tecnica-c-e-castril/
LOCATION:Online
ATTACH;FMTTYPE=image/jpeg:https://otcecogranada.es/wp-content/uploads/2024/10/castril-evento.jpg
ORGANIZER;CN="Oficina Provincial de la Energ%C3%ADa Diputaci%C3%B3n de Granada":MAILTO:oficinaenergia@dipgra.es
END:VEVENT
END:VCALENDAR