BEGIN:VCALENDAR
VERSION:2.0
PRODID:-//OTC Eco Granada - ECPv6.15.20//NONSGML v1.0//EN
CALSCALE:GREGORIAN
METHOD:PUBLISH
X-WR-CALNAME:OTC Eco Granada
X-ORIGINAL-URL:https://otcecogranada.es
X-WR-CALDESC:Eventos para OTC Eco Granada
REFRESH-INTERVAL;VALUE=DURATION:PT1H
X-Robots-Tag:noindex
X-PUBLISHED-TTL:PT1H
BEGIN:VTIMEZONE
TZID:Europe/Madrid
BEGIN:DAYLIGHT
TZOFFSETFROM:+0100
TZOFFSETTO:+0200
TZNAME:CEST
DTSTART:20230326T010000
END:DAYLIGHT
BEGIN:STANDARD
TZOFFSETFROM:+0200
TZOFFSETTO:+0100
TZNAME:CET
DTSTART:20231029T010000
END:STANDARD
BEGIN:DAYLIGHT
TZOFFSETFROM:+0100
TZOFFSETTO:+0200
TZNAME:CEST
DTSTART:20240331T010000
END:DAYLIGHT
BEGIN:STANDARD
TZOFFSETFROM:+0200
TZOFFSETTO:+0100
TZNAME:CET
DTSTART:20241027T010000
END:STANDARD
BEGIN:DAYLIGHT
TZOFFSETFROM:+0100
TZOFFSETTO:+0200
TZNAME:CEST
DTSTART:20250330T010000
END:DAYLIGHT
BEGIN:STANDARD
TZOFFSETFROM:+0200
TZOFFSETTO:+0100
TZNAME:CET
DTSTART:20251026T010000
END:STANDARD
END:VTIMEZONE
BEGIN:VEVENT
DTSTART;TZID=Europe/Madrid:20241021T100000
DTEND;TZID=Europe/Madrid:20241021T110000
DTSTAMP:20260423T222250
CREATED:20241028T102704Z
LAST-MODIFIED:20241031T095005Z
UID:10000034-1729504800-1729508400@otcecogranada.es
SUMMARY:Reunión con municipio de la provincia para evaluar la promoción activa de una comunidad energética local desde la entidad local
DESCRIPTION:La OTC ECO Granada ha tenido el placer de recibir la visita de un Alcalde de un municipio de Granada. El Alcalde vino a informarse sobre las Comunidades Energéticas Locales. Actualmente\, existe la problemática de llenar con placas fotovoltaicas los tejados de las viviendas del precioso municipio que viste las faldas de la montaña. Por ello\, se desea crear una CE que abastezca a los vecinos\, pero situando la planta fuera del núcleo urbano. Con esto\, se conseguiría seguir trabajando por la transición energética\, pero sin tener los problemas de un gran impacto visual\, derivado de la instalación de placas sobre las cubiertas de las viviendas. \nTras la reunión\, se acordó que el municipio\, solicitaría formalmente la ayuda de la OTC ECO Granada para la creación de su CE.
URL:https://otcecogranada.es/evento/visita-del-alcalde-guejar-sierra-otc-eco-granada/
LOCATION:Oficina de la OTC ECO Granada
ATTACH;FMTTYPE=image/jpeg:https://otcecogranada.es/wp-content/uploads/2024/10/lavaderos-de-la-reina-guejar-sierra.jpg
ORGANIZER;CN="Oficina Provincial de la Energ%C3%ADa Diputaci%C3%B3n de Granada":MAILTO:oficinaenergia@dipgra.es
END:VEVENT
BEGIN:VEVENT
DTSTART;TZID=Europe/Madrid:20241021T100000
DTEND;TZID=Europe/Madrid:20241021T120000
DTSTAMP:20260423T222250
CREATED:20241028T100252Z
LAST-MODIFIED:20241028T100433Z
UID:10000033-1729504800-1729512000@otcecogranada.es
SUMMARY:Reunión para la asistencia de la CE de la Alpujarra junto al Ayuntamiento y ENREDCOOP y asistencia jurídica
DESCRIPTION:En la imagen podemos ver una des las posibles localizaciones para la planta fotovoltaica de la CE (actualmente descartada) y la sala presencial en el Ayuntamiento de Órgiva. \nDesde el grupo motor de la CE de la Alpujarra se lleva trabajando desde principios de este año en la creación de una Comunidad Energética con base en los habitantes del municipio. En esta reunión estuvieron presentes el Ayuntamiento (alcalde\, concejales\, técnicos…)\, la cooperativa ENREDCOOP\, la asistencia jurídica de la Oficina de la Energía de Diputación de Granada y la OTC ECO Granada. \nCon esta reunión se consiguió clarificar las cubiertas disponibles para la instalación de módulos fotovoltaicos\, localizar el posible punto de conexión de la instalación a red y la puesta en común y presentación del proyecto por las distintas partes. \nPese a descubrir ciertos inconvenientes al inicio de la reunión\, finalmente se dieron diversas soluciones para lograr la continuidad del proyecto y su posible inclusión en las ayudas de la quinta convocatoria del CE Implementa (actualmente activo). \nPoco a poco la CE de la Alpujarra sale adelante.
URL:https://otcecogranada.es/evento/reunion-asistencia-ce-alpujarra-junto-al-ayuntamiento-enredcoop-asistencia-juridica/
LOCATION:Ayuntamiento de Órgiva\, Órgiva\, Granada\, España
ATTACH;FMTTYPE=image/jpeg:https://otcecogranada.es/wp-content/uploads/2024/10/reunion-presencial-orgiva.jpg
ORGANIZER;CN="Oficina Provincial de la Energ%C3%ADa Diputaci%C3%B3n de Granada":MAILTO:oficinaenergia@dipgra.es
END:VEVENT
END:VCALENDAR