BEGIN:VCALENDAR
VERSION:2.0
PRODID:-//OTC Eco Granada - ECPv6.15.20//NONSGML v1.0//EN
CALSCALE:GREGORIAN
METHOD:PUBLISH
X-ORIGINAL-URL:https://otcecogranada.es
X-WR-CALDESC:Eventos para OTC Eco Granada
REFRESH-INTERVAL;VALUE=DURATION:PT1H
X-Robots-Tag:noindex
X-PUBLISHED-TTL:PT1H
BEGIN:VTIMEZONE
TZID:Europe/Madrid
BEGIN:DAYLIGHT
TZOFFSETFROM:+0100
TZOFFSETTO:+0200
TZNAME:CEST
DTSTART:20230326T010000
END:DAYLIGHT
BEGIN:STANDARD
TZOFFSETFROM:+0200
TZOFFSETTO:+0100
TZNAME:CET
DTSTART:20231029T010000
END:STANDARD
BEGIN:DAYLIGHT
TZOFFSETFROM:+0100
TZOFFSETTO:+0200
TZNAME:CEST
DTSTART:20240331T010000
END:DAYLIGHT
BEGIN:STANDARD
TZOFFSETFROM:+0200
TZOFFSETTO:+0100
TZNAME:CET
DTSTART:20241027T010000
END:STANDARD
BEGIN:DAYLIGHT
TZOFFSETFROM:+0100
TZOFFSETTO:+0200
TZNAME:CEST
DTSTART:20250330T010000
END:DAYLIGHT
BEGIN:STANDARD
TZOFFSETFROM:+0200
TZOFFSETTO:+0100
TZNAME:CET
DTSTART:20251026T010000
END:STANDARD
END:VTIMEZONE
BEGIN:VEVENT
DTSTART;TZID=Europe/Madrid:20241107T090000
DTEND;TZID=Europe/Madrid:20241107T100000
DTSTAMP:20260423T210623
CREATED:20241108T071649Z
LAST-MODIFIED:20241108T071649Z
UID:10000054-1730970000-1730973600@otcecogranada.es
SUMMARY:Reunión con empresa del sector del Hidrógeno Verde
DESCRIPTION:La OTC ECO Granada tuvo una reunión con una empresa del sector del Hidrógeno Verde. En concreto el grupo empresarial\, tiene otras líneas de negocio de energías renovables y gestión del agua. Concretamente a la OTC\, le interesaba escuchar las propuestas de productos y servicios que ofrece esta compañía\, sobre el hidrógeno. Una pequeña instalación de hidrógeno verde puede ser una actividad que encaje muy bien en una CE. Pese a que hay diversos proyectos muy interesantes\, actualmente se enfocan a escalas más grandes. Esto quiere decir\, que estos proyectos se enfocan a proyectos de uso industrial o grandes consumos\, que aún no se integrarían bien en las CE\, que existen en la provincia de Granada. \n\nPese a ello\, día a día\, son más los proyectos que se ponen en marcha\, tanto para movilidad\, producción y generación de hidrógeno verde. Los precios de esta tecnología son cada vez más bajos\, logrando poco a poco incorporase al mercado energético\, industrial y de transporte.
URL:https://otcecogranada.es/evento/reunion-empresa-del-sector-del-hidrogeno-verde/
LOCATION:Online
ATTACH;FMTTYPE=image/jpeg:https://otcecogranada.es/wp-content/uploads/2024/11/hidrogeno-verde.jpg
END:VEVENT
END:VCALENDAR