BEGIN:VCALENDAR
VERSION:2.0
PRODID:-//OTC Eco Granada - ECPv6.15.20//NONSGML v1.0//EN
CALSCALE:GREGORIAN
METHOD:PUBLISH
X-WR-CALNAME:OTC Eco Granada
X-ORIGINAL-URL:https://otcecogranada.es
X-WR-CALDESC:Eventos para OTC Eco Granada
REFRESH-INTERVAL;VALUE=DURATION:PT1H
X-Robots-Tag:noindex
X-PUBLISHED-TTL:PT1H
BEGIN:VTIMEZONE
TZID:Europe/Madrid
BEGIN:DAYLIGHT
TZOFFSETFROM:+0100
TZOFFSETTO:+0200
TZNAME:CEST
DTSTART:20230326T010000
END:DAYLIGHT
BEGIN:STANDARD
TZOFFSETFROM:+0200
TZOFFSETTO:+0100
TZNAME:CET
DTSTART:20231029T010000
END:STANDARD
BEGIN:DAYLIGHT
TZOFFSETFROM:+0100
TZOFFSETTO:+0200
TZNAME:CEST
DTSTART:20240331T010000
END:DAYLIGHT
BEGIN:STANDARD
TZOFFSETFROM:+0200
TZOFFSETTO:+0100
TZNAME:CET
DTSTART:20241027T010000
END:STANDARD
BEGIN:DAYLIGHT
TZOFFSETFROM:+0100
TZOFFSETTO:+0200
TZNAME:CEST
DTSTART:20250330T010000
END:DAYLIGHT
BEGIN:STANDARD
TZOFFSETFROM:+0200
TZOFFSETTO:+0100
TZNAME:CET
DTSTART:20251026T010000
END:STANDARD
END:VTIMEZONE
BEGIN:VEVENT
DTSTART;TZID=Europe/Madrid:20241120T100000
DTEND;TZID=Europe/Madrid:20241120T120000
DTSTAMP:20260423T210034
CREATED:20241120T120817Z
LAST-MODIFIED:20241120T120817Z
UID:10000056-1732096800-1732104000@otcecogranada.es
SUMMARY:Promoción de la OTC ECO Granada en proyecto Europeo SHARED GREEN DEAL
DESCRIPTION:El Pacto Verde Europeo\, conocido como «Shared Green Deal»\, es una iniciativa continental de la Unión Europea destinada a combatir el cambio climático\, con el objetivo de que Europa se convierta en el primer continente climáticamente neutro para el año 2050. Para lograrlo\, la Comisión Europea ha implementado este ambicioso acuerdo que busca establecer una economía limpia\, con cero emisiones\, y proteger nuestro entorno natural. De esta manera\, se pretende mejorar el bienestar de las personas y la sostenibilidad de las empresas\, posicionando a Europa como líder en la acción climática a nivel global. \nEn dicha reunión la OTC ECO Granada tuvo la oportunidad de mostrarse al ámbito Europeo exponiendo sus iniciativas y actuaciones a otros agentes europeos relacionados con la energía y el clima. Este tipo de eventos son muy interesantes e importantes\, no sólo para conseguir sinergias entre otros organismos homólogos\, sino también para captar nuevas ideas que nos permitan llegar más lejos en nuestro trabajo y ofrecer nuevas herramientas que permitan la consecución de nuestro objetivo: La creación de nuevas Comunidades Energéticas.
URL:https://otcecogranada.es/evento/promocion-otc-eco-granada-proyecto-europeo-shared-green-deal/
LOCATION:Reunión Online
ATTACH;FMTTYPE=image/png:https://otcecogranada.es/wp-content/uploads/2024/11/shared-green-deallogotransparentpng_0.png
END:VEVENT
END:VCALENDAR