BEGIN:VCALENDAR
VERSION:2.0
PRODID:-//OTC Eco Granada - ECPv6.15.20//NONSGML v1.0//EN
CALSCALE:GREGORIAN
METHOD:PUBLISH
X-WR-CALNAME:OTC Eco Granada
X-ORIGINAL-URL:https://otcecogranada.es
X-WR-CALDESC:Eventos para OTC Eco Granada
REFRESH-INTERVAL;VALUE=DURATION:PT1H
X-Robots-Tag:noindex
X-PUBLISHED-TTL:PT1H
BEGIN:VTIMEZONE
TZID:Europe/Madrid
BEGIN:DAYLIGHT
TZOFFSETFROM:+0100
TZOFFSETTO:+0200
TZNAME:CEST
DTSTART:20230326T010000
END:DAYLIGHT
BEGIN:STANDARD
TZOFFSETFROM:+0200
TZOFFSETTO:+0100
TZNAME:CET
DTSTART:20231029T010000
END:STANDARD
BEGIN:DAYLIGHT
TZOFFSETFROM:+0100
TZOFFSETTO:+0200
TZNAME:CEST
DTSTART:20240331T010000
END:DAYLIGHT
BEGIN:STANDARD
TZOFFSETFROM:+0200
TZOFFSETTO:+0100
TZNAME:CET
DTSTART:20241027T010000
END:STANDARD
BEGIN:DAYLIGHT
TZOFFSETFROM:+0100
TZOFFSETTO:+0200
TZNAME:CEST
DTSTART:20250330T010000
END:DAYLIGHT
BEGIN:STANDARD
TZOFFSETFROM:+0200
TZOFFSETTO:+0100
TZNAME:CET
DTSTART:20251026T010000
END:STANDARD
END:VTIMEZONE
BEGIN:VEVENT
DTSTART;TZID=Europe/Madrid:20241204T110000
DTEND;TZID=Europe/Madrid:20241204T123000
DTSTAMP:20260423T194443
CREATED:20241122T085307Z
LAST-MODIFIED:20241122T085348Z
UID:10000061-1733310000-1733315400@otcecogranada.es
SUMMARY:Reunión de coordinadores de OTC's (IDAE)
DESCRIPTION:De las 77 oficinas OTC que existen en España\, se ha elegido a un representante por región\, para realizar reuniones periódicas con dichos representantes de zona. En este caso\, es la OTC ECO Granada la elegida como representante de zona (representando a las OTC Andaluzas) y asistirá el próximo día 4 de diciembre a la reunión para la puesta en común de todos los representantes. La reunión es organizada por el IDAE. En ella se pretende analizar el estado actual de los trabajos de las OTC\, analizando las oportunidades\, dificultades y demás por menores que hasta fecha de hoy han aparecido. De este modo\, el aprendizaje se multiplica\, viendo las perspectivas de oficinas de otras regiones muy distintas a la propia.
URL:https://otcecogranada.es/evento/reunion-coordinadores-otcs-idae/
LOCATION:Reunión Online
ATTACH;FMTTYPE=image/jpeg:https://otcecogranada.es/wp-content/uploads/2024/11/brazos_unidos.jpg
END:VEVENT
END:VCALENDAR