BEGIN:VCALENDAR
VERSION:2.0
PRODID:-//OTC Eco Granada - ECPv6.15.20//NONSGML v1.0//EN
CALSCALE:GREGORIAN
METHOD:PUBLISH
X-WR-CALNAME:OTC Eco Granada
X-ORIGINAL-URL:https://otcecogranada.es
X-WR-CALDESC:Eventos para OTC Eco Granada
REFRESH-INTERVAL;VALUE=DURATION:PT1H
X-Robots-Tag:noindex
X-PUBLISHED-TTL:PT1H
BEGIN:VTIMEZONE
TZID:Europe/Madrid
BEGIN:DAYLIGHT
TZOFFSETFROM:+0100
TZOFFSETTO:+0200
TZNAME:CEST
DTSTART:20230326T010000
END:DAYLIGHT
BEGIN:STANDARD
TZOFFSETFROM:+0200
TZOFFSETTO:+0100
TZNAME:CET
DTSTART:20231029T010000
END:STANDARD
BEGIN:DAYLIGHT
TZOFFSETFROM:+0100
TZOFFSETTO:+0200
TZNAME:CEST
DTSTART:20240331T010000
END:DAYLIGHT
BEGIN:STANDARD
TZOFFSETFROM:+0200
TZOFFSETTO:+0100
TZNAME:CET
DTSTART:20241027T010000
END:STANDARD
BEGIN:DAYLIGHT
TZOFFSETFROM:+0100
TZOFFSETTO:+0200
TZNAME:CEST
DTSTART:20250330T010000
END:DAYLIGHT
BEGIN:STANDARD
TZOFFSETFROM:+0200
TZOFFSETTO:+0100
TZNAME:CET
DTSTART:20251026T010000
END:STANDARD
END:VTIMEZONE
BEGIN:VEVENT
DTSTART;TZID=Europe/Madrid:20241205T110000
DTEND;TZID=Europe/Madrid:20241205T120000
DTSTAMP:20260423T195118
CREATED:20241210T081851Z
LAST-MODIFIED:20241210T101819Z
UID:10000067-1733396400-1733400000@otcecogranada.es
SUMMARY:Reunión de evaluación de convocatoria NOPLANETB de FAMSI
DESCRIPTION:NOPLANETB0 es un programa de lucha contra el cambio climático financiado por la Comisión Europea (programa DEAR). NOPLANETB apoyará iniciativas de pequeñas y medianas organizaciones de la sociedad civil\, que aumenten la conciencia sobre los impactos globales de las acciones individuales y locales sobre el cambio climático\, así como la reducción de sus consecuencias a largo plazo. \nLas organizaciones podrán recibir apoyo del proyecto para realizar campañas y acciones de incidencia en temas medioambientales y promover acciones efectivas\, dirigidas a la ciudadanía europea\, en materia de cambio climático\, sostenibilidad\, ahorro de recursos naturales\, transición ecológica y consumo responsable\, entre otras\, todas ellas en favor del medioambiente. \n\n\n\n\nEn el proyecto participamos 8 países de la UE: Portugal\, Francia\, Alemania\, Hungría\, Polonia\, Estonia e Italia\, con punto Sud como organización líder\, y España\, con FAMSI como socio español. Su objetivo es seleccionar 210 pequeñas organizaciones de la sociedad civil y proporcionarles apoyo financiero y desarrollo de capacidades para promover soluciones basadas en la ciencia y políticas de transición equitativas.  La atención se centra en la ciudadanía menos sensible a los retos mundiales\, incluidos los grupos de personas más vulnerables.
URL:https://otcecogranada.es/evento/reunion-evaluacion-convocatoria-noplanetb-famsi/
LOCATION:Reunión Online
ATTACH;FMTTYPE=image/png:https://otcecogranada.es/wp-content/uploads/2024/12/logo1-1.png
END:VEVENT
END:VCALENDAR