BEGIN:VCALENDAR
VERSION:2.0
PRODID:-//OTC Eco Granada - ECPv6.15.20//NONSGML v1.0//EN
CALSCALE:GREGORIAN
METHOD:PUBLISH
X-ORIGINAL-URL:https://otcecogranada.es
X-WR-CALDESC:Eventos para OTC Eco Granada
REFRESH-INTERVAL;VALUE=DURATION:PT1H
X-Robots-Tag:noindex
X-PUBLISHED-TTL:PT1H
BEGIN:VTIMEZONE
TZID:Europe/Madrid
BEGIN:DAYLIGHT
TZOFFSETFROM:+0100
TZOFFSETTO:+0200
TZNAME:CEST
DTSTART:20230326T010000
END:DAYLIGHT
BEGIN:STANDARD
TZOFFSETFROM:+0200
TZOFFSETTO:+0100
TZNAME:CET
DTSTART:20231029T010000
END:STANDARD
BEGIN:DAYLIGHT
TZOFFSETFROM:+0100
TZOFFSETTO:+0200
TZNAME:CEST
DTSTART:20240331T010000
END:DAYLIGHT
BEGIN:STANDARD
TZOFFSETFROM:+0200
TZOFFSETTO:+0100
TZNAME:CET
DTSTART:20241027T010000
END:STANDARD
BEGIN:DAYLIGHT
TZOFFSETFROM:+0100
TZOFFSETTO:+0200
TZNAME:CEST
DTSTART:20250330T010000
END:DAYLIGHT
BEGIN:STANDARD
TZOFFSETFROM:+0200
TZOFFSETTO:+0100
TZNAME:CET
DTSTART:20251026T010000
END:STANDARD
END:VTIMEZONE
BEGIN:VEVENT
DTSTART;TZID=Europe/Madrid:20241212T080000
DTEND;TZID=Europe/Madrid:20241212T140000
DTSTAMP:20260423T194734
CREATED:20241129T070909Z
LAST-MODIFIED:20241129T084339Z
UID:10000065-1733990400-1734012000@otcecogranada.es
SUMMARY:Reunión de desarrollo de documentación Jurídica
DESCRIPTION:El próximo día 12 de diciembre\, la OTC ECO Granada\, tendrá una reunión de asesoramiento jurídico (con su asistencia jurídica) para actualizar los documentos jurídicos y guías para el desarrollo de comunidades energéticas\, con las que ya cuenta la oficina. \nPese a la gran novedad que suponen las CCEE y su escasa vida\, en el tiempo que se lleva recorrido\, ha habido modificaciones legislativas y muchos aprendizajes por el camino. Por ello es importante ir actualizando el material del que dispone la oficina para brindar la documentación lo más actualizada posible. Cada día\, más ciudadanía\, PYMES\, secretarios\, interventores\, alcaldes\, concejales… tienen claro que existe un marco jurídico potente que soporta a las CCEE y que sólo hay que trabajar en ello para lograr grandes cambios.
URL:https://otcecogranada.es/evento/reunion-desarrollo-documentacion-juridica/
LOCATION:Oficina de la OTC ECO Granada
ATTACH;FMTTYPE=image/jpeg:https://otcecogranada.es/wp-content/uploads/2024/11/trial-2116705592.jpg
ORGANIZER;CN="Oficina Provincial de la Energ%C3%ADa Diputaci%C3%B3n de Granada":MAILTO:oficinaenergia@dipgra.es
END:VEVENT
END:VCALENDAR