BEGIN:VCALENDAR
VERSION:2.0
PRODID:-//OTC Eco Granada - ECPv6.15.20//NONSGML v1.0//EN
CALSCALE:GREGORIAN
METHOD:PUBLISH
X-WR-CALNAME:OTC Eco Granada
X-ORIGINAL-URL:https://otcecogranada.es
X-WR-CALDESC:Eventos para OTC Eco Granada
REFRESH-INTERVAL;VALUE=DURATION:PT1H
X-Robots-Tag:noindex
X-PUBLISHED-TTL:PT1H
BEGIN:VTIMEZONE
TZID:Europe/Madrid
BEGIN:DAYLIGHT
TZOFFSETFROM:+0100
TZOFFSETTO:+0200
TZNAME:CEST
DTSTART:20230326T010000
END:DAYLIGHT
BEGIN:STANDARD
TZOFFSETFROM:+0200
TZOFFSETTO:+0100
TZNAME:CET
DTSTART:20231029T010000
END:STANDARD
BEGIN:DAYLIGHT
TZOFFSETFROM:+0100
TZOFFSETTO:+0200
TZNAME:CEST
DTSTART:20240331T010000
END:DAYLIGHT
BEGIN:STANDARD
TZOFFSETFROM:+0200
TZOFFSETTO:+0100
TZNAME:CET
DTSTART:20241027T010000
END:STANDARD
BEGIN:DAYLIGHT
TZOFFSETFROM:+0100
TZOFFSETTO:+0200
TZNAME:CEST
DTSTART:20250330T010000
END:DAYLIGHT
BEGIN:STANDARD
TZOFFSETFROM:+0200
TZOFFSETTO:+0100
TZNAME:CET
DTSTART:20251026T010000
END:STANDARD
END:VTIMEZONE
BEGIN:VEVENT
DTSTART;TZID=Europe/Madrid:20241220T080000
DTEND;TZID=Europe/Madrid:20241220T100000
DTSTAMP:20260423T194509
CREATED:20241210T082439Z
LAST-MODIFIED:20241210T090836Z
UID:10000068-1734681600-1734688800@otcecogranada.es
SUMMARY:Reunión de cierre de evaluación de proyectos NOPLANETB de tipo asociativo
DESCRIPTION:Continuando con la reunión anterior del proyecto NOPLANETB con FAMSI. La evaluación se corresponde con proyectos de tipo asociativo. \nNOPLANETB0 es un programa destinado a combatir el cambio climático\, financiado por la Comisión Europea a través del programa DEAR. Este proyecto tiene como objetivo apoyar iniciativas de pequeñas y medianas organizaciones de la sociedad civil que busquen aumentar la conciencia sobre cómo las acciones individuales y locales impactan el cambio climático a nivel global\, así como mitigar sus efectos a largo plazo. \nLas organizaciones participantes podrán recibir apoyo para llevar a cabo campañas y acciones de incidencia en temas medioambientales\, promoviendo iniciativas efectivas dirigidas a la ciudadanía europea en áreas como el cambio climático\, la sostenibilidad\, el ahorro de recursos naturales\, la transición ecológica y el consumo responsable\, entre otros\, siempre en beneficio del medioambiente. \nEl proyecto involucra a ocho países de la UE: Portugal\, Francia\, Alemania\, Hungría\, Polonia\, Estonia e Italia\, con la organización Punto Sud como líder\, y España\, representada por FAMSI como socio. Su meta es seleccionar 210 pequeñas organizaciones de la sociedad civil y ofrecerles apoyo financiero y desarrollo de capacidades para fomentar soluciones basadas en la ciencia y políticas de transición justas. Se prestará especial atención a la ciudadanía menos receptiva a los desafíos globales\, incluyendo a los grupos más vulnerables.
URL:https://otcecogranada.es/evento/reunion-cierre-evaluacion-proyectos-noplanetb-tipo-asociativo/
LOCATION:Reunión Online
ATTACH;FMTTYPE=image/png:https://otcecogranada.es/wp-content/uploads/2024/12/logo1-1.png
END:VEVENT
END:VCALENDAR