BEGIN:VCALENDAR
VERSION:2.0
PRODID:-//OTC Eco Granada - ECPv6.15.20//NONSGML v1.0//EN
CALSCALE:GREGORIAN
METHOD:PUBLISH
X-ORIGINAL-URL:https://otcecogranada.es
X-WR-CALDESC:Eventos para OTC Eco Granada
REFRESH-INTERVAL;VALUE=DURATION:PT1H
X-Robots-Tag:noindex
X-PUBLISHED-TTL:PT1H
BEGIN:VTIMEZONE
TZID:Europe/Madrid
BEGIN:DAYLIGHT
TZOFFSETFROM:+0100
TZOFFSETTO:+0200
TZNAME:CEST
DTSTART:20240331T010000
END:DAYLIGHT
BEGIN:STANDARD
TZOFFSETFROM:+0200
TZOFFSETTO:+0100
TZNAME:CET
DTSTART:20241027T010000
END:STANDARD
BEGIN:DAYLIGHT
TZOFFSETFROM:+0100
TZOFFSETTO:+0200
TZNAME:CEST
DTSTART:20250330T010000
END:DAYLIGHT
BEGIN:STANDARD
TZOFFSETFROM:+0200
TZOFFSETTO:+0100
TZNAME:CET
DTSTART:20251026T010000
END:STANDARD
BEGIN:DAYLIGHT
TZOFFSETFROM:+0100
TZOFFSETTO:+0200
TZNAME:CEST
DTSTART:20260329T010000
END:DAYLIGHT
BEGIN:STANDARD
TZOFFSETFROM:+0200
TZOFFSETTO:+0100
TZNAME:CET
DTSTART:20261025T010000
END:STANDARD
END:VTIMEZONE
BEGIN:VEVENT
DTSTART;VALUE=DATE:20250207
DTEND;VALUE=DATE:20250208
DTSTAMP:20260423T171347
CREATED:20250205T122457Z
LAST-MODIFIED:20250205T122457Z
UID:10000082-1738886400-1738972799@otcecogranada.es
SUMMARY:Asistencia a Taller "PLAN DE IGUALDAD para una Comunidad Energética: diseño paso a paso".
DESCRIPTION:Técnicos de la OTC ECO GRANADA asisten a Osuna (Sevilla) al Taller presencial Plan de Igualdad para CE organizado por la OTC ENREDCOOP.
URL:https://otcecogranada.es/evento/asistencia-taller-plan-igualdad-comunidad-energeticadiseno-paso-paso/
LOCATION:ESCUELA ANDALUZA DE ECONOMÍA SOCIAL\, Pl. la Merced\, s/n\, Osuna\, Sevilla\, 41640
CATEGORIES:Comunidades Energéticas
ATTACH;FMTTYPE=image/jpeg:https://otcecogranada.es/wp-content/uploads/2025/02/recordar-aprender-a-aprender.jpg
ORGANIZER;CN="Oficina Provincial de la Energ%C3%ADa Diputaci%C3%B3n de Granada":MAILTO:oficinaenergia@dipgra.es
END:VEVENT
END:VCALENDAR