BEGIN:VCALENDAR
VERSION:2.0
PRODID:-//OTC Eco Granada - ECPv6.15.20//NONSGML v1.0//EN
CALSCALE:GREGORIAN
METHOD:PUBLISH
X-WR-CALNAME:OTC Eco Granada
X-ORIGINAL-URL:https://otcecogranada.es
X-WR-CALDESC:Eventos para OTC Eco Granada
REFRESH-INTERVAL;VALUE=DURATION:PT1H
X-Robots-Tag:noindex
X-PUBLISHED-TTL:PT1H
BEGIN:VTIMEZONE
TZID:Europe/Madrid
BEGIN:DAYLIGHT
TZOFFSETFROM:+0100
TZOFFSETTO:+0200
TZNAME:CEST
DTSTART:20240331T010000
END:DAYLIGHT
BEGIN:STANDARD
TZOFFSETFROM:+0200
TZOFFSETTO:+0100
TZNAME:CET
DTSTART:20241027T010000
END:STANDARD
BEGIN:DAYLIGHT
TZOFFSETFROM:+0100
TZOFFSETTO:+0200
TZNAME:CEST
DTSTART:20250330T010000
END:DAYLIGHT
BEGIN:STANDARD
TZOFFSETFROM:+0200
TZOFFSETTO:+0100
TZNAME:CET
DTSTART:20251026T010000
END:STANDARD
BEGIN:DAYLIGHT
TZOFFSETFROM:+0100
TZOFFSETTO:+0200
TZNAME:CEST
DTSTART:20260329T010000
END:DAYLIGHT
BEGIN:STANDARD
TZOFFSETFROM:+0200
TZOFFSETTO:+0100
TZNAME:CET
DTSTART:20261025T010000
END:STANDARD
END:VTIMEZONE
BEGIN:VEVENT
DTSTART;VALUE=DATE:20250225
DTEND;VALUE=DATE:20250227
DTSTAMP:20260423T160318
CREATED:20250115T084837Z
LAST-MODIFIED:20250115T085002Z
UID:10000076-1740441600-1740614399@otcecogranada.es
SUMMARY:Presentación en Bruselas de esquemas sobre movilidad eléctrica rural desde las comunidades energéticas y movimiento cooperativista.
DESCRIPTION:Dentro del proyecto C4C\, la OTC ECO GRANADA participará en la presentación de posibles esquemas de movilidad eléctrica para el ámbito rural desde comunidades energéticas.
URL:https://otcecogranada.es/evento/presentacion-bruselas-esquemas-movilidad-electrica-rural-desde-comunidades-energeticas-movimiento-cooperativista/
LOCATION:Bruselas\, Belgium
CATEGORIES:Comunidades Energéticas
ATTACH;FMTTYPE=image/webp:https://otcecogranada.es/wp-content/uploads/2025/01/coche-electrico-en-la-montana.webp
END:VEVENT
BEGIN:VEVENT
DTSTART;TZID=Europe/Madrid:20250226T100000
DTEND;TZID=Europe/Madrid:20250226T113000
DTSTAMP:20260423T160318
CREATED:20250205T123712Z
LAST-MODIFIED:20250205T123712Z
UID:10000085-1740564000-1740569400@otcecogranada.es
SUMMARY:Reunión periódica de coordinación del Congreso andaluz sobre Comunidades Energéticas
DESCRIPTION:OTC ECO GRANADA se reúne con el resto de las OTC andaluzas para coordinar la organización conjunta del Congreso Andaluz sobre CE.
URL:https://otcecogranada.es/evento/reunion-periodica-coordinacion-del-congreso-andaluz-comunidades-energeticas/
CATEGORIES:Comunidades Energéticas
ATTACH;FMTTYPE=image/jpeg:https://otcecogranada.es/wp-content/uploads/2025/02/me-gusta2.jpg
END:VEVENT
BEGIN:VEVENT
DTSTART;TZID=Europe/Madrid:20250226T103000
DTEND;TZID=Europe/Madrid:20250226T123000
DTSTAMP:20260423T160318
CREATED:20250221T070145Z
LAST-MODIFIED:20250221T070145Z
UID:10000093-1740565800-1740573000@otcecogranada.es
SUMMARY:¡Open Day!: Descubre la incubadora de empresas El Carmen
DESCRIPTION:📢 ¡Atención emprendedores! Descubre la incubadora de empresas El Carmen en nuestra Jornada de Puertas Abiertas 🚀\nSi tienes una idea innovadora\, una startup en crecimiento o simplemente estás buscando el impulso que necesita tu negocio\, esta es tu oportunidad. \nTe invitamos a la Jornada de Puertas Abiertas de la Incubadora de Empresas El Carmen\, donde podrás conocer de primera mano este nuevo espacio diseñado para apoyar a los emprendedores con mentoría especializada\, formación\, networking y acceso a financiación. \n📆 Cuándo: 26 de febrero\n⏰ Hora: 10:30 h\n📍 Dónde: Edificio CIE Diputación (Avda. de Andalucía\, s/n\, Granada) \n💡 ¿Por qué asistir?\n✅ Conoce las instalaciones modernas y vanguardistas\, con zona startups\, salas de reuniones y mentoría\, zona office y espacio de exposiciones.\n✅ Descubre el programa de incubación gratuito\, intensivo y personalizado de 8 meses.\n✅ Conecta con expertos y otros emprendedores en un entorno que favorece la colaboración y el crecimiento.\n✅ Aprovecha esta oportunidad única para hacer despegar tu negocio con el respaldo de la Diputación de Granada y Telefónica. \nSi quieres dar un paso adelante y formar parte de un ecosistema de innovación que potencia startups con alto impacto\, ¡te esperamos! \n🔗 Reserva tu plaza aquí: https://www.eventbrite.es/e/entradas-open-day-incubadora-el-carmen-1254292906849?aff=oddtdtcreator \n📩 Más información: granadaempresas@dipgra.es \n¡No te pierdas esta oportunidad para impulsar tu proyecto! 🚀
URL:https://otcecogranada.es/evento/open-daydescubre-incubadora-empresas-carmen/
LOCATION:Incuvadora de Empresas del Edificio CIE de la Diputación de Granada
ATTACH;FMTTYPE=image/jpeg:https://otcecogranada.es/wp-content/uploads/2025/02/open-day-incubadora-el-carmen.jpg
ORGANIZER;CN="Oficina Provincial de la Energ%C3%ADa Diputaci%C3%B3n de Granada":MAILTO:oficinaenergia@dipgra.es
END:VEVENT
END:VCALENDAR