BEGIN:VCALENDAR
VERSION:2.0
PRODID:-//OTC Eco Granada - ECPv6.15.20//NONSGML v1.0//EN
CALSCALE:GREGORIAN
METHOD:PUBLISH
X-WR-CALNAME:OTC Eco Granada
X-ORIGINAL-URL:https://otcecogranada.es
X-WR-CALDESC:Eventos para OTC Eco Granada
REFRESH-INTERVAL;VALUE=DURATION:PT1H
X-Robots-Tag:noindex
X-PUBLISHED-TTL:PT1H
BEGIN:VTIMEZONE
TZID:Europe/Madrid
BEGIN:DAYLIGHT
TZOFFSETFROM:+0100
TZOFFSETTO:+0200
TZNAME:CEST
DTSTART:20240331T010000
END:DAYLIGHT
BEGIN:STANDARD
TZOFFSETFROM:+0200
TZOFFSETTO:+0100
TZNAME:CET
DTSTART:20241027T010000
END:STANDARD
BEGIN:DAYLIGHT
TZOFFSETFROM:+0100
TZOFFSETTO:+0200
TZNAME:CEST
DTSTART:20250330T010000
END:DAYLIGHT
BEGIN:STANDARD
TZOFFSETFROM:+0200
TZOFFSETTO:+0100
TZNAME:CET
DTSTART:20251026T010000
END:STANDARD
BEGIN:DAYLIGHT
TZOFFSETFROM:+0100
TZOFFSETTO:+0200
TZNAME:CEST
DTSTART:20260329T010000
END:DAYLIGHT
BEGIN:STANDARD
TZOFFSETFROM:+0200
TZOFFSETTO:+0100
TZNAME:CET
DTSTART:20261025T010000
END:STANDARD
END:VTIMEZONE
BEGIN:VEVENT
DTSTART;VALUE=DATE:20250307
DTEND;VALUE=DATE:20250308
DTSTAMP:20260423T160353
CREATED:20250205T121331Z
LAST-MODIFIED:20250310T090202Z
UID:10000081-1741305600-1741391999@otcecogranada.es
SUMMARY:JORNADA DE MOVILIDAD ELECTRICA Y COMUNIDADES ENERGÉTICAS
DESCRIPTION:La OTC ECO GRANADA organiza evento para potenciar la movilidad eléctrica en el ámbito rural a través del movimiento ciudadano. Se contará con la presencia de ponentes expertos en el sector y con experiencias reales de éxito. \nEl enlace a toda la información de la jornada lo tenéis aquí: \nJORNADA DE MOVILIDAD ELECTRICA Y COMUNIDADES ENERGÉTICAS \n \n  \nEl registro se cerró dado que ya ha pasado el evento. \nRegistro al evento de movilidad y comunidades energéticas
URL:https://otcecogranada.es/evento/jornada-movilidad-electrica-comunidades-energeticas/
LOCATION:Salón de Actos de la Sede de la Diputación de Granada\, C/ Periodista Barrios Talavera\, 1\, Granada\, Granada\, 18014\, España
ATTACH;FMTTYPE=image/jpeg:https://otcecogranada.es/wp-content/uploads/2025/02/67036b214a13025a81de20a8.jpg
ORGANIZER;CN="Oficina Provincial de la Energ%C3%ADa Diputaci%C3%B3n de Granada":MAILTO:oficinaenergia@dipgra.es
END:VEVENT
END:VCALENDAR