BEGIN:VCALENDAR
VERSION:2.0
PRODID:-//OTC Eco Granada - ECPv6.15.20//NONSGML v1.0//EN
CALSCALE:GREGORIAN
METHOD:PUBLISH
X-ORIGINAL-URL:https://otcecogranada.es
X-WR-CALDESC:Eventos para OTC Eco Granada
REFRESH-INTERVAL;VALUE=DURATION:PT1H
X-Robots-Tag:noindex
X-PUBLISHED-TTL:PT1H
BEGIN:VTIMEZONE
TZID:Europe/Madrid
BEGIN:DAYLIGHT
TZOFFSETFROM:+0100
TZOFFSETTO:+0200
TZNAME:CEST
DTSTART:20240331T010000
END:DAYLIGHT
BEGIN:STANDARD
TZOFFSETFROM:+0200
TZOFFSETTO:+0100
TZNAME:CET
DTSTART:20241027T010000
END:STANDARD
BEGIN:DAYLIGHT
TZOFFSETFROM:+0100
TZOFFSETTO:+0200
TZNAME:CEST
DTSTART:20250330T010000
END:DAYLIGHT
BEGIN:STANDARD
TZOFFSETFROM:+0200
TZOFFSETTO:+0100
TZNAME:CET
DTSTART:20251026T010000
END:STANDARD
BEGIN:DAYLIGHT
TZOFFSETFROM:+0100
TZOFFSETTO:+0200
TZNAME:CEST
DTSTART:20260329T010000
END:DAYLIGHT
BEGIN:STANDARD
TZOFFSETFROM:+0200
TZOFFSETTO:+0100
TZNAME:CET
DTSTART:20261025T010000
END:STANDARD
END:VTIMEZONE
BEGIN:VEVENT
DTSTART;TZID=Europe/Madrid:20250310T100000
DTEND;TZID=Europe/Madrid:20250310T120000
DTSTAMP:20260423T160602
CREATED:20250310T092810Z
LAST-MODIFIED:20250310T092810Z
UID:10000095-1741600800-1741608000@otcecogranada.es
SUMMARY:Reunión del Grupo de trabajo de OTC's (ENERAGEN)
DESCRIPTION:El próximo diez de marzo la OTC ECO Granada participará en una reunión del grupo ENERAGEN. ENERAGEN es la Asociación de Agencias Españolas de Gestión de la Energía\,  es una asociación sin ánimo de lucro creada en el año 2003 con el objetivo principal de reforzar el papel de las agencias de energía y es\, en la actualidad\, el principal instrumento de coordinación y cooperación entre las agencias y organismos públicos en el ámbito de la energía que operan en el territorio nacional. \nFormar parte de este grupo nos permite conocer de primera mano la información\, problemáticas y soluciones que se están dando a temas que enemos en común todas las Agencias de Gestión de la Energía.
URL:https://otcecogranada.es/evento/reunion-del-grupo-otcs-eneragen/
LOCATION:Reunión Online
ATTACH;FMTTYPE=image/jpeg:https://otcecogranada.es/wp-content/uploads/2025/02/me-gusta2.jpg
END:VEVENT
END:VCALENDAR