BEGIN:VCALENDAR
VERSION:2.0
PRODID:-//OTC Eco Granada - ECPv6.15.20//NONSGML v1.0//EN
CALSCALE:GREGORIAN
METHOD:PUBLISH
X-WR-CALNAME:OTC Eco Granada
X-ORIGINAL-URL:https://otcecogranada.es
X-WR-CALDESC:Eventos para OTC Eco Granada
REFRESH-INTERVAL;VALUE=DURATION:PT1H
X-Robots-Tag:noindex
X-PUBLISHED-TTL:PT1H
BEGIN:VTIMEZONE
TZID:Europe/Madrid
BEGIN:DAYLIGHT
TZOFFSETFROM:+0100
TZOFFSETTO:+0200
TZNAME:CEST
DTSTART:20240331T010000
END:DAYLIGHT
BEGIN:STANDARD
TZOFFSETFROM:+0200
TZOFFSETTO:+0100
TZNAME:CET
DTSTART:20241027T010000
END:STANDARD
BEGIN:DAYLIGHT
TZOFFSETFROM:+0100
TZOFFSETTO:+0200
TZNAME:CEST
DTSTART:20250330T010000
END:DAYLIGHT
BEGIN:STANDARD
TZOFFSETFROM:+0200
TZOFFSETTO:+0100
TZNAME:CET
DTSTART:20251026T010000
END:STANDARD
BEGIN:DAYLIGHT
TZOFFSETFROM:+0100
TZOFFSETTO:+0200
TZNAME:CEST
DTSTART:20260329T010000
END:DAYLIGHT
BEGIN:STANDARD
TZOFFSETFROM:+0200
TZOFFSETTO:+0100
TZNAME:CET
DTSTART:20261025T010000
END:STANDARD
END:VTIMEZONE
BEGIN:VEVENT
DTSTART;TZID=Europe/Madrid:20250319T080000
DTEND;TZID=Europe/Madrid:20250319T170000
DTSTAMP:20260423T155619
CREATED:20250310T105914Z
LAST-MODIFIED:20250311T074255Z
UID:10000096-1742371200-1742403600@otcecogranada.es
SUMMARY:Presentación de la OTC ECO Granada a estudiantes italianos del proyecto Europeo PCTO
DESCRIPTION:A lo largo de estos últimos años\, en el ámbito educativo y social\, se han ido desarrollando nuevas líneas de actuación impulsadas por la Unión Europea\, que se han concretado en los programas Erasmus +\, Pon Scuola o Programas de “Percorsi per le Competenze Trasversali e per l’Orientamento (PCTO” \,  “Ex-Alternanza Scuola-Lavoro (ASL)” en Italia. En todos estos nuevos programas\, se pone el foco de atención en una instrucción y formación profesional donde los nuevos ciudadanos tienen que aprender a construir sus caminos de vida y trabajo\, haciendo hincapié en un espíritu proactivo y flexible\, para ser capaces de hacer frente en todo momento de su vida a los rápidos cambios del mundo del trabajo. \nEn Italia la ley 107/2015 y el decreto ley 774 del 4 de septiembre de 2019 han establecido para la escuela secundaria\, para los alumnos  que cursan los últimos tres años del segundo ciclo de instrucción (entre 16 y 19 años de edad)\, un cupo de horas de actividades llamadas “Percorsi per le Competenze Trsversali e L`’Orientamento” ex “Aternanza Scuola-Lavoro”. \nCualquier instituto que quiera incluir el programa descrito en un proyecto PON Scuola o Erasmus +\, puede contar con la ayuda del CIAM en cualquier fase del proyecto. \nEn marcado dentro de este proyecto europeo\, la OTC ECO Granada\, explicará y mostrará sus actividades a un grupo de estudiantes del citado proyecto europeo.
URL:https://otcecogranada.es/evento/4330/
LOCATION:Edificio CIE de la Diputación de Granada
ATTACH;FMTTYPE=image/jpeg:https://otcecogranada.es/wp-content/uploads/2025/03/doloresibarruri-1341510580.jpg
ORGANIZER;CN="Oficina Provincial de la Energ%C3%ADa Diputaci%C3%B3n de Granada":MAILTO:oficinaenergia@dipgra.es
END:VEVENT
BEGIN:VEVENT
DTSTART;TZID=Europe/Madrid:20250319T140000
DTEND;TZID=Europe/Madrid:20250319T160000
DTSTAMP:20260423T155619
CREATED:20250310T111129Z
LAST-MODIFIED:20250310T111414Z
UID:10000097-1742392800-1742400000@otcecogranada.es
SUMMARY:Firma de los Estatutos y taller para establecer la Misión y Visión de la Cooperativa eMoción
DESCRIPTION:Nos enorgullece dar a conocer esta fecha tan importante para la Coop. eMoción. Será el próximo 19 de marzo cuando nazca oficialmente la primera cooperativa de movilidad eléctrica en la provincia de Granada. Dado que es necesaria la firma de todos los socios\, se aprovechará la reunión para hacer una dinámica que nos permita establecer la misión y visión de eMoción. Esto nos permitirá desarrollar una sólida base para que podamos crecer con personas tan decididas y con la misma motivación que nosotros (los socios constituyentes). \nSi quieres formar parte del sueño inscríbete: \nRegistro a la cooperativa emoción \n \n  \nNos despedimos con nuestro lema: \neMoción  ->  Un coche en cada pueblo \n 
URL:https://otcecogranada.es/evento/firma-estatutos-taller-establecer-mision-vision-cooperativa-emocion/
LOCATION:Sede Provincial de FAECTA
ATTACH;FMTTYPE=image/jpeg:https://otcecogranada.es/wp-content/uploads/2025/03/logo-emocion.jpg
ORGANIZER;CN="Oficina Provincial de la Energ%C3%ADa Diputaci%C3%B3n de Granada":MAILTO:oficinaenergia@dipgra.es
END:VEVENT
END:VCALENDAR