BEGIN:VCALENDAR
VERSION:2.0
PRODID:-//OTC Eco Granada - ECPv6.15.20//NONSGML v1.0//EN
CALSCALE:GREGORIAN
METHOD:PUBLISH
X-WR-CALNAME:OTC Eco Granada
X-ORIGINAL-URL:https://otcecogranada.es
X-WR-CALDESC:Eventos para OTC Eco Granada
REFRESH-INTERVAL;VALUE=DURATION:PT1H
X-Robots-Tag:noindex
X-PUBLISHED-TTL:PT1H
BEGIN:VTIMEZONE
TZID:Europe/Madrid
BEGIN:DAYLIGHT
TZOFFSETFROM:+0100
TZOFFSETTO:+0200
TZNAME:CEST
DTSTART:20240331T010000
END:DAYLIGHT
BEGIN:STANDARD
TZOFFSETFROM:+0200
TZOFFSETTO:+0100
TZNAME:CET
DTSTART:20241027T010000
END:STANDARD
BEGIN:DAYLIGHT
TZOFFSETFROM:+0100
TZOFFSETTO:+0200
TZNAME:CEST
DTSTART:20250330T010000
END:DAYLIGHT
BEGIN:STANDARD
TZOFFSETFROM:+0200
TZOFFSETTO:+0100
TZNAME:CET
DTSTART:20251026T010000
END:STANDARD
BEGIN:DAYLIGHT
TZOFFSETFROM:+0100
TZOFFSETTO:+0200
TZNAME:CEST
DTSTART:20260329T010000
END:DAYLIGHT
BEGIN:STANDARD
TZOFFSETFROM:+0200
TZOFFSETTO:+0100
TZNAME:CET
DTSTART:20261025T010000
END:STANDARD
END:VTIMEZONE
BEGIN:VEVENT
DTSTART;TZID=Europe/Madrid:20250324T080000
DTEND;TZID=Europe/Madrid:20250324T170000
DTSTAMP:20260423T155621
CREATED:20250324T100853Z
LAST-MODIFIED:20250324T101743Z
UID:10000106-1742803200-1742835600@otcecogranada.es
SUMMARY:Visor de Energías Renovables de la Diputación de Granada
DESCRIPTION:Nos complace informaros del lanzamiento del nuevo visor de «energías renovables de la Diputación de Granada». \nLa Diputación de Granada\, a través de la Oficina Provincial de Energía de Granada\, pone a disposición de la ciudadanía general y profesionales de diferentes sectores esta herramienta  web para la consulta y visualización de la información geográfica disponible relacionada con el sector energético de la provincia de Granada. El Visor de información de energías  renovables en la provincia de Granada. \nLa web del visor es la siguiente: https://visor-energias-renovables-granada.azurewebsites.net/ \nEl documento de ayuda del visor lo encontráis aquí: https://drive.google.com/file/d/1eZjB-VVhplhxGKixhglCxmPep1Yz-WYg/edit
URL:https://otcecogranada.es/evento/visor-energias-renovables-diputacion-granada/
LOCATION:Oficina provincial de la energía de Diputación de Granada
ATTACH;FMTTYPE=image/jpeg:https://otcecogranada.es/wp-content/uploads/2021/01/energia-provincial-de-granada.jpg
ORGANIZER;CN="Oficina Provincial de la Energ%C3%ADa Diputaci%C3%B3n de Granada":MAILTO:oficinaenergia@dipgra.es
END:VEVENT
END:VCALENDAR