BEGIN:VCALENDAR
VERSION:2.0
PRODID:-//OTC Eco Granada - ECPv6.15.20//NONSGML v1.0//EN
CALSCALE:GREGORIAN
METHOD:PUBLISH
X-WR-CALNAME:OTC Eco Granada
X-ORIGINAL-URL:https://otcecogranada.es
X-WR-CALDESC:Eventos para OTC Eco Granada
REFRESH-INTERVAL;VALUE=DURATION:PT1H
X-Robots-Tag:noindex
X-PUBLISHED-TTL:PT1H
BEGIN:VTIMEZONE
TZID:Europe/Madrid
BEGIN:DAYLIGHT
TZOFFSETFROM:+0100
TZOFFSETTO:+0200
TZNAME:CEST
DTSTART:20240331T010000
END:DAYLIGHT
BEGIN:STANDARD
TZOFFSETFROM:+0200
TZOFFSETTO:+0100
TZNAME:CET
DTSTART:20241027T010000
END:STANDARD
BEGIN:DAYLIGHT
TZOFFSETFROM:+0100
TZOFFSETTO:+0200
TZNAME:CEST
DTSTART:20250330T010000
END:DAYLIGHT
BEGIN:STANDARD
TZOFFSETFROM:+0200
TZOFFSETTO:+0100
TZNAME:CET
DTSTART:20251026T010000
END:STANDARD
BEGIN:DAYLIGHT
TZOFFSETFROM:+0100
TZOFFSETTO:+0200
TZNAME:CEST
DTSTART:20260329T010000
END:DAYLIGHT
BEGIN:STANDARD
TZOFFSETFROM:+0200
TZOFFSETTO:+0100
TZNAME:CET
DTSTART:20261025T010000
END:STANDARD
END:VTIMEZONE
BEGIN:VEVENT
DTSTART;TZID=Europe/Madrid:20250326T100000
DTEND;TZID=Europe/Madrid:20250326T113000
DTSTAMP:20260423T155638
CREATED:20250205T124242Z
LAST-MODIFIED:20250205T124242Z
UID:10000087-1742983200-1742988600@otcecogranada.es
SUMMARY:Reunión periódica de coordinación del Congreso andaluz sobre Comunidades Energéticas
DESCRIPTION:OTC ECO GRANADA se reúne con el resto de las OTC andaluzas para coordinar la organización conjunta del Congreso Andaluz sobre CE.
URL:https://otcecogranada.es/evento/reunion-periodica-coordinacion-del-congreso-andaluz-comunidades-energeticas-2/
CATEGORIES:Comunidades Energéticas
ATTACH;FMTTYPE=image/jpeg:https://otcecogranada.es/wp-content/uploads/2025/02/me-gusta2.jpg
END:VEVENT
BEGIN:VEVENT
DTSTART;TZID=Europe/Madrid:20250326T100000
DTEND;TZID=Europe/Madrid:20250326T120000
DTSTAMP:20260423T155638
CREATED:20250324T101932Z
LAST-MODIFIED:20250324T101932Z
UID:10000107-1742983200-1742990400@otcecogranada.es
SUMMARY:Reunión periódica de coordinación del Congreso andaluz sobre Comunidades Energéticas
DESCRIPTION:OTC ECO GRANADA se reúne con el resto de las OTC andaluzas para coordinar la organización conjunta del Congreso Andaluz sobre CE.
URL:https://otcecogranada.es/evento/reunion-periodica-coordinacion-del-congreso-andaluz-comunidades-energeticas-5/
LOCATION:Reunión Online
ATTACH;FMTTYPE=image/jpeg:https://otcecogranada.es/wp-content/uploads/2025/02/me-gusta2.jpg
ORGANIZER;CN="Oficina Provincial de la Energ%C3%ADa Diputaci%C3%B3n de Granada":MAILTO:oficinaenergia@dipgra.es
END:VEVENT
END:VCALENDAR