BEGIN:VCALENDAR
VERSION:2.0
PRODID:-//OTC Eco Granada - ECPv6.15.20//NONSGML v1.0//EN
CALSCALE:GREGORIAN
METHOD:PUBLISH
X-ORIGINAL-URL:https://otcecogranada.es
X-WR-CALDESC:Eventos para OTC Eco Granada
REFRESH-INTERVAL;VALUE=DURATION:PT1H
X-Robots-Tag:noindex
X-PUBLISHED-TTL:PT1H
BEGIN:VTIMEZONE
TZID:Europe/Madrid
BEGIN:DAYLIGHT
TZOFFSETFROM:+0100
TZOFFSETTO:+0200
TZNAME:CEST
DTSTART:20240331T010000
END:DAYLIGHT
BEGIN:STANDARD
TZOFFSETFROM:+0200
TZOFFSETTO:+0100
TZNAME:CET
DTSTART:20241027T010000
END:STANDARD
BEGIN:DAYLIGHT
TZOFFSETFROM:+0100
TZOFFSETTO:+0200
TZNAME:CEST
DTSTART:20250330T010000
END:DAYLIGHT
BEGIN:STANDARD
TZOFFSETFROM:+0200
TZOFFSETTO:+0100
TZNAME:CET
DTSTART:20251026T010000
END:STANDARD
BEGIN:DAYLIGHT
TZOFFSETFROM:+0100
TZOFFSETTO:+0200
TZNAME:CEST
DTSTART:20260329T010000
END:DAYLIGHT
BEGIN:STANDARD
TZOFFSETFROM:+0200
TZOFFSETTO:+0100
TZNAME:CET
DTSTART:20261025T010000
END:STANDARD
END:VTIMEZONE
BEGIN:VEVENT
DTSTART;VALUE=DATE:20250401
DTEND;VALUE=DATE:20250405
DTSTAMP:20260423T143115
CREATED:20250321T091321Z
LAST-MODIFIED:20250321T091321Z
UID:10000103-1743465600-1743811199@otcecogranada.es
SUMMARY:Sexta Edición del Foro Mundial del Desarrollo Económico Local
DESCRIPTION:La Sexta Edición del Foro Mundial del Desarrollo Económico Local atenderá a las prioridades globales en la temática de la triple transición\, la justicia social\, la formación para el empleo en el territorio\, la gestión pública\, las alianzas público-privadas y el rol del sector privado y la economía social y solidaria\, el empleo y el trabajo decente y el enfoque de una nueva economía que “cuida” desde el territorio\, así como las alianzas multinivel\, las políticas globales\, nacionales y descentralizadas (regionales-locales). \nLa web con la agenda y el formulario de registro la tenéis aquí: https://ledworldforum.org/es/vi-foro/
URL:https://otcecogranada.es/evento/sexta-edicion-del-foro-mundial-del-desarrollo-economico-local/
LOCATION:Palacio de Congresos y Exhibiciones (Sevilla)\, Sevilla\, España
ATTACH;FMTTYPE=image/png:https://otcecogranada.es/wp-content/uploads/2025/03/logo-es.png
END:VEVENT
BEGIN:VEVENT
DTSTART;TZID=Europe/Madrid:20250402T100000
DTEND;TZID=Europe/Madrid:20250402T130000
DTSTAMP:20260423T143115
CREATED:20250214T092534Z
LAST-MODIFIED:20250408T054548Z
UID:10000092-1743588000-1743598800@otcecogranada.es
SUMMARY:Jornada de mecanismos de flexibilidad y Comunidades Energéticas
DESCRIPTION:Nos complace anunciar que el próximo día dos de abril\, tendrá lugar una jornada para descubrir e indagar en las distintas soluciones y tecnologías disponibles sobre mecanismos de flexibilidad\, todo ello en marcado en las Comuniades Energéticas. \nOs dedamos el enlace a la jornada\, para que la podáis ver en diferido: \nJORNADA DE MECANISMOS DE FLEXIBILIDAD Y COMUNIDADES ENERGÉTICAS \n \nLa asistencia a la jornada será online En el siguiente enlace te invitamos a que te apuntes (el registro ya está cerrado dado que el evento ya pasó): \nRegistro a la jornada de mecanismos de flexibilidad y comunidades energéticas \n \nEn el enlace tienes la agenda y horario de las distintas ponencias que tendrán lugar. \nSin más esperamos verte en la fecha señalada.
URL:https://otcecogranada.es/evento/jornada-mecanismos-flexibilidad-comunidades-energeticas/
LOCATION:Salón de Actos de la Sede de la Diputación de Granada\, C/ Periodista Barrios Talavera\, 1\, Granada\, Granada\, 18014\, España
ATTACH;FMTTYPE=image/jpeg:https://otcecogranada.es/wp-content/uploads/2025/02/793681334_235966932_1706x960-1194297031.jpg
ORGANIZER;CN="Oficina Provincial de la Energ%C3%ADa Diputaci%C3%B3n de Granada":MAILTO:oficinaenergia@dipgra.es
END:VEVENT
END:VCALENDAR