BEGIN:VCALENDAR
VERSION:2.0
PRODID:-//OTC Eco Granada - ECPv6.15.20//NONSGML v1.0//EN
CALSCALE:GREGORIAN
METHOD:PUBLISH
X-WR-CALNAME:OTC Eco Granada
X-ORIGINAL-URL:https://otcecogranada.es
X-WR-CALDESC:Eventos para OTC Eco Granada
REFRESH-INTERVAL;VALUE=DURATION:PT1H
X-Robots-Tag:noindex
X-PUBLISHED-TTL:PT1H
BEGIN:VTIMEZONE
TZID:Europe/Madrid
BEGIN:DAYLIGHT
TZOFFSETFROM:+0100
TZOFFSETTO:+0200
TZNAME:CEST
DTSTART:20240331T010000
END:DAYLIGHT
BEGIN:STANDARD
TZOFFSETFROM:+0200
TZOFFSETTO:+0100
TZNAME:CET
DTSTART:20241027T010000
END:STANDARD
BEGIN:DAYLIGHT
TZOFFSETFROM:+0100
TZOFFSETTO:+0200
TZNAME:CEST
DTSTART:20250330T010000
END:DAYLIGHT
BEGIN:STANDARD
TZOFFSETFROM:+0200
TZOFFSETTO:+0100
TZNAME:CET
DTSTART:20251026T010000
END:STANDARD
BEGIN:DAYLIGHT
TZOFFSETFROM:+0100
TZOFFSETTO:+0200
TZNAME:CEST
DTSTART:20260329T010000
END:DAYLIGHT
BEGIN:STANDARD
TZOFFSETFROM:+0200
TZOFFSETTO:+0100
TZNAME:CET
DTSTART:20261025T010000
END:STANDARD
END:VTIMEZONE
BEGIN:VEVENT
DTSTART;VALUE=DATE:20250506
DTEND;VALUE=DATE:20250507
DTSTAMP:20260423T130603
CREATED:20250421T060557Z
LAST-MODIFIED:20250421T060557Z
UID:10000121-1746489600-1746575999@otcecogranada.es
SUMMARY:Sesiones de trabajo del Plan de Recuperación\, Transformación y Resiliencia de la OTC ECO Granada
DESCRIPTION:
URL:https://otcecogranada.es/evento/sesiones-del-plan-recuperaciontransformacion-resiliencia-otc-eco-granada-2/
ATTACH;FMTTYPE=image/png:https://otcecogranada.es/wp-content/uploads/2025/04/jcr_content.png
END:VEVENT
BEGIN:VEVENT
DTSTART;TZID=Europe/Madrid:20250506T093000
DTEND;TZID=Europe/Madrid:20250506T140000
DTSTAMP:20260423T130603
CREATED:20250425T060013Z
LAST-MODIFIED:20250425T060013Z
UID:10000126-1746523800-1746540000@otcecogranada.es
SUMMARY:Taller de modelos económicos y Comunidades Energéticas
DESCRIPTION:Participación en el programa EmColectivo https://emcolectivo.escueladeeconomiasocial.es/ de Escuela de Economía social para poner en marcha iniciativas del ámbito de la economía social como las comunidades energéticas.
URL:https://otcecogranada.es/evento/taller-modelos-economicos-comunidades-energeticas/
LOCATION:Sede Covirán
ATTACH;FMTTYPE=image/png:https://otcecogranada.es/wp-content/uploads/2025/04/emcolectivo.png
ORGANIZER;CN="Oficina Provincial de la Energ%C3%ADa Diputaci%C3%B3n de Granada":MAILTO:oficinaenergia@dipgra.es
END:VEVENT
END:VCALENDAR