BEGIN:VCALENDAR
VERSION:2.0
PRODID:-//OTC Eco Granada - ECPv6.15.20//NONSGML v1.0//EN
CALSCALE:GREGORIAN
METHOD:PUBLISH
X-ORIGINAL-URL:https://otcecogranada.es
X-WR-CALDESC:Eventos para OTC Eco Granada
REFRESH-INTERVAL;VALUE=DURATION:PT1H
X-Robots-Tag:noindex
X-PUBLISHED-TTL:PT1H
BEGIN:VTIMEZONE
TZID:Europe/Madrid
BEGIN:DAYLIGHT
TZOFFSETFROM:+0100
TZOFFSETTO:+0200
TZNAME:CEST
DTSTART:20240331T010000
END:DAYLIGHT
BEGIN:STANDARD
TZOFFSETFROM:+0200
TZOFFSETTO:+0100
TZNAME:CET
DTSTART:20241027T010000
END:STANDARD
BEGIN:DAYLIGHT
TZOFFSETFROM:+0100
TZOFFSETTO:+0200
TZNAME:CEST
DTSTART:20250330T010000
END:DAYLIGHT
BEGIN:STANDARD
TZOFFSETFROM:+0200
TZOFFSETTO:+0100
TZNAME:CET
DTSTART:20251026T010000
END:STANDARD
BEGIN:DAYLIGHT
TZOFFSETFROM:+0100
TZOFFSETTO:+0200
TZNAME:CEST
DTSTART:20260329T010000
END:DAYLIGHT
BEGIN:STANDARD
TZOFFSETFROM:+0200
TZOFFSETTO:+0100
TZNAME:CET
DTSTART:20261025T010000
END:STANDARD
END:VTIMEZONE
BEGIN:VEVENT
DTSTART;TZID=Europe/Madrid:20250507T080000
DTEND;TZID=Europe/Madrid:20250508T170000
DTSTAMP:20260423T130741
CREATED:20250321T100748Z
LAST-MODIFIED:20250321T100748Z
UID:10000105-1746604800-1746723600@otcecogranada.es
SUMMARY:Ponecia en curso europeo por parte del uno de los técnicos de la OTC ECO Granada
DESCRIPTION:La OTC ECO Granada ha sido invitada para dar una ponencia en un curso de ámbito europeo. En dicha ponencia expondrá la nueva figura de las Comunidades Energéticas y también expodrá el trabajo que realiza la propia OTC en Granada. \nLa página web del organizador del curso (Escuela de Normativa de Florencia) es la siguiente: https://fsr.eui.eu/course/sustainable-and-smart-cities/
URL:https://otcecogranada.es/evento/ponecia-curso-europeo-parte-del-tecnicos-otc-eco-granada/
LOCATION:Curso Online
ORGANIZER;CN="Oficina Provincial de la Energ%C3%ADa Diputaci%C3%B3n de Granada":MAILTO:oficinaenergia@dipgra.es
END:VEVENT
BEGIN:VEVENT
DTSTART;TZID=Europe/Madrid:20250507T090000
DTEND;TZID=Europe/Madrid:20250507T110000
DTSTAMP:20260423T130741
CREATED:20250404T083632Z
LAST-MODIFIED:20250404T083632Z
UID:10000111-1746608400-1746615600@otcecogranada.es
SUMMARY:Reunión Red de conocimientos y experiencias de OTC e IDAE
DESCRIPTION:Desde el IDAE se organizan periodicamente reuniones con las distintas OTC de España. El objetivo de estas reuniones es volcar los conocimientos generados en los ámbitos locales de actuación de las OTC al repositorio central del IDAE. Gracias a la centralización de este conocimiento\, todas las OTC’s pueden acceder a esta información generada por otras OTC.
URL:https://otcecogranada.es/evento/reunion-red-conocimientos-experiencias-otc-idae/
LOCATION:Reunión Online
ATTACH;FMTTYPE=image/jpeg:https://otcecogranada.es/wp-content/uploads/2025/02/me-gusta2.jpg
ORGANIZER;CN="Oficina Provincial de la Energ%C3%ADa Diputaci%C3%B3n de Granada":MAILTO:oficinaenergia@dipgra.es
END:VEVENT
END:VCALENDAR