BEGIN:VCALENDAR
VERSION:2.0
PRODID:-//OTC Eco Granada - ECPv6.15.20//NONSGML v1.0//EN
CALSCALE:GREGORIAN
METHOD:PUBLISH
X-ORIGINAL-URL:https://otcecogranada.es
X-WR-CALDESC:Eventos para OTC Eco Granada
REFRESH-INTERVAL;VALUE=DURATION:PT1H
X-Robots-Tag:noindex
X-PUBLISHED-TTL:PT1H
BEGIN:VTIMEZONE
TZID:Europe/Madrid
BEGIN:DAYLIGHT
TZOFFSETFROM:+0100
TZOFFSETTO:+0200
TZNAME:CEST
DTSTART:20240331T010000
END:DAYLIGHT
BEGIN:STANDARD
TZOFFSETFROM:+0200
TZOFFSETTO:+0100
TZNAME:CET
DTSTART:20241027T010000
END:STANDARD
BEGIN:DAYLIGHT
TZOFFSETFROM:+0100
TZOFFSETTO:+0200
TZNAME:CEST
DTSTART:20250330T010000
END:DAYLIGHT
BEGIN:STANDARD
TZOFFSETFROM:+0200
TZOFFSETTO:+0100
TZNAME:CET
DTSTART:20251026T010000
END:STANDARD
BEGIN:DAYLIGHT
TZOFFSETFROM:+0100
TZOFFSETTO:+0200
TZNAME:CEST
DTSTART:20260329T010000
END:DAYLIGHT
BEGIN:STANDARD
TZOFFSETFROM:+0200
TZOFFSETTO:+0100
TZNAME:CET
DTSTART:20261025T010000
END:STANDARD
END:VTIMEZONE
BEGIN:VEVENT
DTSTART;TZID=Europe/Madrid:20250521T080000
DTEND;TZID=Europe/Madrid:20250611T170000
DTSTAMP:20260423T115624
CREATED:20250421T102708Z
LAST-MODIFIED:20250421T102917Z
UID:10000124-1747814400-1749661200@otcecogranada.es
SUMMARY:Curso de Comunidades Energéticas de Diputación de Granada
DESCRIPTION:  \nDesde la OTC ECO Granada se ha promovido un curso específico sobre CC.EE. que organizará la Diputación de Granada. El curso se destina a técnicos y responsables tanto de Diputación como de municipios. El objetivo de este curso es el de dar a conocer la normativa actual sobre comunidades energéticas\, las posibilidades de desarrollo local\, su potencial\, y la forma de apoyar estas iniciativas desde la administración local. Con ello se quiere mejorar el entendimiento de esta nueva figura jurídica desde el ámbito local y saber los diferentes pasos y acciones que se pueden tomar de manera activa desde la administración local. \nEl curso tendrá lugar entre las fechas: \n-Fecha de inicio: 21 de mayo de 2025\nFecha de fin: 11 de junio de 2025. \nAdemás el curso incluye una esión presencial el día 21 de mayo\, miércoles\, de 09:00 a 11:30\, en el Aula 1 de Formación de Diputación de Granada (Calle Periodista Barrios Talavera\, nº 1. C.P. 18014. Granada). \n  \nPara terminar os dejamos el enlace a la página web de formación de Diputación de Granada: \nhttps://www.dipgra.es/servicios/empleo-y-formacion/formacion-para-el-empleo-publico/
URL:https://otcecogranada.es/evento/curso-comunidades-energeticas-diputacion-granada/
LOCATION:Curso Online
ATTACH;FMTTYPE=image/png:https://otcecogranada.es/wp-content/uploads/2024/10/logo-horizontal_color-1.png
ORGANIZER;CN="Oficina Provincial de la Energ%C3%ADa Diputaci%C3%B3n de Granada":MAILTO:oficinaenergia@dipgra.es
END:VEVENT
BEGIN:VEVENT
DTSTART;TZID=Europe/Madrid:20250604T100000
DTEND;TZID=Europe/Madrid:20250604T110000
DTSTAMP:20260423T115624
CREATED:20250516T062551Z
LAST-MODIFIED:20250516T062551Z
UID:10000134-1749031200-1749034800@otcecogranada.es
SUMMARY:Reunión coordinación congreso Andaluz
DESCRIPTION:El próximo 12 de junio tendrá lugar un congreso Andaluz de OTC. Para poder organizar todos los detalles el día 4 de junio tendrá lugar una reunión con todos los organizadores y OTC para poder organizar el mejor evento posible. La OTC ECO Granada es uno de los asistentes a dicha reunión.
URL:https://otcecogranada.es/evento/reunion-coordinacion-congreso-andaluz-2/
LOCATION:Reunión Online
ORGANIZER;CN="Oficina Provincial de la Energ%C3%ADa Diputaci%C3%B3n de Granada":MAILTO:oficinaenergia@dipgra.es
END:VEVENT
BEGIN:VEVENT
DTSTART;TZID=Europe/Madrid:20250604T100000
DTEND;TZID=Europe/Madrid:20250604T130000
DTSTAMP:20260423T115624
CREATED:20250528T060950Z
LAST-MODIFIED:20250528T060950Z
UID:10000136-1749031200-1749042000@otcecogranada.es
SUMMARY:Ciclo de jornadas provinciales “Comunidades solares y energéticas: por una energía compartida”. Granada
DESCRIPTION:La Consejería de Industria\, Energía y Minas\, a través de sus Delegaciones territoriales y de la Agencia Andaluza de la Energía\, ha puesto en marcha un ciclo de jornadas provinciales orientadas a dar a conocer y a asesorar sobre la figura de comunidades solares y energéticas\, además de presentar los trabajos e instrumentos que se están desarrollando desde la Administración de la Junta de Andalucía para su impulso. \nLas jornadas están dirigidas aentidades que ofrecen servicios y/o herramientas digitales dentro de la cadena de valor del autoconsumo compartido y comunidades solares y energéticas en Andalucía\, ya sean asesores\, promotores\, gestores o financiadores;asociaciones empresariales y clústeres impulsores de estas figuras; grupos de investigación que desarrollen soluciones en estos ámbitos; entidades financiadoras; administraciones locales y sus agrupaciones; comunidades energéticas existentes en Andalucía y centros formativos públicos o privados. \nPara más información os dejamos el link del evento: \nhttps://www.agenciaandaluzadelaenergia.es/es/proximos-eventos/ciclo-de-jornadas-provinciales-comunidades-solares-y-energeticas-por-una-energia-compartida-granada \n 
URL:https://otcecogranada.es/evento/ciclo-jornadas-provinciales-comunidades-solares-energeticasenergia-compartidagranada/
LOCATION:Delegación del Gobierno de la Junta de Andalucía en Granada
ATTACH;FMTTYPE=image/png:https://otcecogranada.es/wp-content/uploads/2025/05/captura-de-pantalla-2025-05-28-080920.png
ORGANIZER;CN="Oficina Provincial de la Energ%C3%ADa Diputaci%C3%B3n de Granada":MAILTO:oficinaenergia@dipgra.es
END:VEVENT
BEGIN:VEVENT
DTSTART;TZID=Europe/Madrid:20250604T200000
DTEND;TZID=Europe/Madrid:20250604T210000
DTSTAMP:20260423T115624
CREATED:20250527T121025Z
LAST-MODIFIED:20250527T121025Z
UID:10000135-1749067200-1749070800@otcecogranada.es
SUMMARY:Reunión con municipio Granadino para presentar las CC.EE.
DESCRIPTION:Nos complace anunciar que la OTC ECO Granada asistirá a una reunión\, que aúna tanto a empresarios como ciudadanía en general\, para presentar las CC.EE. para así animar a la población a constituir una CEL en el municipio. \nLa reunión tendrá lugar el próximo día 4 de junio a las 8 de la tarde.
URL:https://otcecogranada.es/evento/reunion-municipio-granadino-presentar-cc-ee/
LOCATION:Salón de Plenos municipal
ATTACH;FMTTYPE=image/jpeg:https://otcecogranada.es/wp-content/uploads/2025/05/1366_20005d-3614226950.jpg
ORGANIZER;CN="Oficina Provincial de la Energ%C3%ADa Diputaci%C3%B3n de Granada":MAILTO:oficinaenergia@dipgra.es
END:VEVENT
END:VCALENDAR