BEGIN:VCALENDAR
VERSION:2.0
PRODID:-//OTC Eco Granada - ECPv6.15.20//NONSGML v1.0//EN
CALSCALE:GREGORIAN
METHOD:PUBLISH
X-ORIGINAL-URL:https://otcecogranada.es
X-WR-CALDESC:Eventos para OTC Eco Granada
REFRESH-INTERVAL;VALUE=DURATION:PT1H
X-Robots-Tag:noindex
X-PUBLISHED-TTL:PT1H
BEGIN:VTIMEZONE
TZID:Europe/Madrid
BEGIN:DAYLIGHT
TZOFFSETFROM:+0100
TZOFFSETTO:+0200
TZNAME:CEST
DTSTART:20240331T010000
END:DAYLIGHT
BEGIN:STANDARD
TZOFFSETFROM:+0200
TZOFFSETTO:+0100
TZNAME:CET
DTSTART:20241027T010000
END:STANDARD
BEGIN:DAYLIGHT
TZOFFSETFROM:+0100
TZOFFSETTO:+0200
TZNAME:CEST
DTSTART:20250330T010000
END:DAYLIGHT
BEGIN:STANDARD
TZOFFSETFROM:+0200
TZOFFSETTO:+0100
TZNAME:CET
DTSTART:20251026T010000
END:STANDARD
BEGIN:DAYLIGHT
TZOFFSETFROM:+0100
TZOFFSETTO:+0200
TZNAME:CEST
DTSTART:20260329T010000
END:DAYLIGHT
BEGIN:STANDARD
TZOFFSETFROM:+0200
TZOFFSETTO:+0100
TZNAME:CET
DTSTART:20261025T010000
END:STANDARD
END:VTIMEZONE
BEGIN:VEVENT
DTSTART;TZID=Europe/Madrid:20250630T110000
DTEND;TZID=Europe/Madrid:20250630T130000
DTSTAMP:20260423T114539
CREATED:20250623T063500Z
LAST-MODIFIED:20250623T063500Z
UID:10000140-1751281200-1751288400@otcecogranada.es
SUMMARY:Sesión informativa en línea sobre la primera convocatoria de propuestas del programa European Energy Communities Facility
DESCRIPTION:¿Forma parte de una comunidad energética en España? ¿Busca apoyo para hacer que su próximo proyecto energético sea verdaderamente sostenible? \nSi es así\, ¡únase a nosotros en una sesión informativa en línea sobre la primera convocatoria de propuestas del programa European Energy Communities Facility\, que comenzó el 2 de junio de 2025! \nEcorys es la organización experta encargada de la European Energy Community Facility en España\, lo que significa que somos el punto de contacto oficial para los solicitantes de este país y les guiaremos a lo largo de todo el proceso de solicitud. \nEn la sesión informativa\, le presentaremos la iniciativa y le guiaremos a través del proceso de solicitud. Además\, le informaremos de si cumple los requisitos necesarios para presentar la solicitud y le proporcionaremos una orientación clara y detallada que le ayudará a presentar una solicitud sólida y satisfactoria. \nEnlace a la web original: https://energycommunitiesfacility.eu/events/first-call-applications-info-session-spain
URL:https://otcecogranada.es/evento/sesion-informativa-linea-primera-convocatoria-propuestas-del-programa-european-energy-communities-facility/
LOCATION:Evento online
ATTACH;FMTTYPE=image/png:https://otcecogranada.es/wp-content/uploads/2025/06/es.png
END:VEVENT
END:VCALENDAR