BEGIN:VCALENDAR
VERSION:2.0
PRODID:-//OTC Eco Granada - ECPv6.15.20//NONSGML v1.0//EN
CALSCALE:GREGORIAN
METHOD:PUBLISH
X-ORIGINAL-URL:https://otcecogranada.es
X-WR-CALDESC:Eventos para OTC Eco Granada
REFRESH-INTERVAL;VALUE=DURATION:PT1H
X-Robots-Tag:noindex
X-PUBLISHED-TTL:PT1H
BEGIN:VTIMEZONE
TZID:Europe/Madrid
BEGIN:DAYLIGHT
TZOFFSETFROM:+0100
TZOFFSETTO:+0200
TZNAME:CEST
DTSTART:20240331T010000
END:DAYLIGHT
BEGIN:STANDARD
TZOFFSETFROM:+0200
TZOFFSETTO:+0100
TZNAME:CET
DTSTART:20241027T010000
END:STANDARD
BEGIN:DAYLIGHT
TZOFFSETFROM:+0100
TZOFFSETTO:+0200
TZNAME:CEST
DTSTART:20250330T010000
END:DAYLIGHT
BEGIN:STANDARD
TZOFFSETFROM:+0200
TZOFFSETTO:+0100
TZNAME:CET
DTSTART:20251026T010000
END:STANDARD
BEGIN:DAYLIGHT
TZOFFSETFROM:+0100
TZOFFSETTO:+0200
TZNAME:CEST
DTSTART:20260329T010000
END:DAYLIGHT
BEGIN:STANDARD
TZOFFSETFROM:+0200
TZOFFSETTO:+0100
TZNAME:CET
DTSTART:20261025T010000
END:STANDARD
END:VTIMEZONE
BEGIN:VEVENT
DTSTART;TZID=Europe/Madrid:20250703T090000
DTEND;TZID=Europe/Madrid:20250703T100000
DTSTAMP:20260423T115804
CREATED:20250703T104825Z
LAST-MODIFIED:20250703T104825Z
UID:10000147-1751533200-1751536800@otcecogranada.es
SUMMARY:Entrevista con UGR dentro del proyecto CO-SUSTAIN
DESCRIPTION:Hoy la OTC ECO Granada se ha reunido para hablar sobre Comunidades Energéticas. En concreto\, la OTC ha dado información acerca de una de las CE pioneras en la provincia: La CE de Jabalcón (Zújar). \nEl proyecto CO-SUSTAIN\, financiado por la Unión Europea\, tiene como objetivo definir y probar nuevas vías democráticas para una transición sostenible\, permitiendo a los responsables políticos locales apoyar formas diversas y novedosas de participación política\, y capacitando a los ciudadanos para actuar en favor del clima. Durante este workshop\, se abordaran los siguientes temas: \n\nParticipación política y transición climática: Análisis de formas tradicionales y no institucionales de participación ciudadana en asuntos medioambientales.\nInnovación democrática: Estrategias para fomentar la implicación cívica y el activismo en la acción climática.\nEstudios de casos europeos: Presentación de 18 ejemplos históricos de participación política en seis países europeos\, destacando buenas prácticas y lecciones aprendidas.\n\nLa página web oficial del proyecto es la siguiente: https://co-sustain.eu/es/ \n 
URL:https://otcecogranada.es/evento/entrevista-ugr-del-proyecto-co-sustain/
LOCATION:Reunión Online
ATTACH;FMTTYPE=image/webp:https://otcecogranada.es/wp-content/uploads/2025/07/co-sustain-logo.webp
ORGANIZER;CN="Oficina Provincial de la Energ%C3%ADa Diputaci%C3%B3n de Granada":MAILTO:oficinaenergia@dipgra.es
END:VEVENT
BEGIN:VEVENT
DTSTART;TZID=Europe/Madrid:20250703T090000
DTEND;TZID=Europe/Madrid:20250703T103000
DTSTAMP:20260423T115804
CREATED:20250711T111314Z
LAST-MODIFIED:20250711T112811Z
UID:10000150-1751533200-1751538600@otcecogranada.es
SUMMARY:APLICACIONES PRÁCTICAS DE LAS COMUNIDADES ENERGÉTICAS: ¿CÓMO PUEDEN PARTICIPAR LAS ENTIDADES LOCALES?
DESCRIPTION:La OTC-Oficina Social de las Comunidades Energéticas ha lanzado esta formación práctica e interesante. Totalmente gratuita ya que está enmarcada dentro del programa CE-Oficinas\, una ayuda del IDAE a través de fondos Next Generation y con los que la Oficina ha estado operando desde octubre de 2023 y que finaliza en septiembre de 2025. \nEsta formación es una de las últimas actividades de la OSCE\, siendo muy útil para personas técnicas y trabajadoras en la administración pública responsable de algún área en relación con las Comunidades Energéticas y en definitiva con la Transición Energética. \nOfrece 10 horas con contenido práctico y teórico en modalidad online y 10 horas de asesoramiento personalizado entre 4 municipios seleccionados\, a través de visitas presenciales a esos municipios. \nLa OTC ECO Granada va a asistir a esta formación\, ya que en ella se van a exponer interesantes conceptos y el desarrollo de la historia de casos reales de creación de Comunidades Energéticas.
URL:https://otcecogranada.es/evento/aplicaciones-practicas-comunidades-energeticascomo-participar-entidades-locales/
LOCATION:Reunión Online
ATTACH;FMTTYPE=image/png:https://otcecogranada.es/wp-content/uploads/2025/07/logo-otc-osce-png_2.png
END:VEVENT
BEGIN:VEVENT
DTSTART;TZID=Europe/Madrid:20250703T100000
DTEND;TZID=Europe/Madrid:20250703T120000
DTSTAMP:20260423T115804
CREATED:20250627T083901Z
LAST-MODIFIED:20250627T095916Z
UID:10000144-1751536800-1751544000@otcecogranada.es
SUMMARY:WEBINAR sobre Kit de herramientas para emprender a través de GRANADA EMPRESAS
DESCRIPTION:Dentro de la serie de webinars que organiza Granada Empresas de Diputación de Granada\, hoy nos encontraremos con el webinar: \n«Conoce tu mercado y planifica tu crecimiento» \nOs dejamos aquí esta información\, ya que los técnicos de la OTC ECO Granada vamos a asistir a la misma. Crear una CCEE no es fácil\, y dado que es una empresa social\, es importante formarse en muchas áreas adyacentes a la de la energía. \nSi deseas apuntarte\, hazlo ya en este enlace: \nCiclo de seminarios: Kit de herramientas para emprender
URL:https://otcecogranada.es/evento/webinar-kit-herramientas-emprender-traves-granada-empresas-2/
LOCATION:Seminario ONLINE
ATTACH;FMTTYPE=image/png:https://otcecogranada.es/wp-content/uploads/2025/06/logo-granada-empresasgranada-empresas.png
END:VEVENT
END:VCALENDAR