BEGIN:VCALENDAR
VERSION:2.0
PRODID:-//OTC Eco Granada - ECPv6.15.20//NONSGML v1.0//EN
CALSCALE:GREGORIAN
METHOD:PUBLISH
X-ORIGINAL-URL:https://otcecogranada.es
X-WR-CALDESC:Eventos para OTC Eco Granada
REFRESH-INTERVAL;VALUE=DURATION:PT1H
X-Robots-Tag:noindex
X-PUBLISHED-TTL:PT1H
BEGIN:VTIMEZONE
TZID:Europe/Madrid
BEGIN:DAYLIGHT
TZOFFSETFROM:+0100
TZOFFSETTO:+0200
TZNAME:CEST
DTSTART:20240331T010000
END:DAYLIGHT
BEGIN:STANDARD
TZOFFSETFROM:+0200
TZOFFSETTO:+0100
TZNAME:CET
DTSTART:20241027T010000
END:STANDARD
BEGIN:DAYLIGHT
TZOFFSETFROM:+0100
TZOFFSETTO:+0200
TZNAME:CEST
DTSTART:20250330T010000
END:DAYLIGHT
BEGIN:STANDARD
TZOFFSETFROM:+0200
TZOFFSETTO:+0100
TZNAME:CET
DTSTART:20251026T010000
END:STANDARD
BEGIN:DAYLIGHT
TZOFFSETFROM:+0100
TZOFFSETTO:+0200
TZNAME:CEST
DTSTART:20260329T010000
END:DAYLIGHT
BEGIN:STANDARD
TZOFFSETFROM:+0200
TZOFFSETTO:+0100
TZNAME:CET
DTSTART:20261025T010000
END:STANDARD
END:VTIMEZONE
BEGIN:VEVENT
DTSTART;VALUE=DATE:20250704
DTEND;VALUE=DATE:20250705
DTSTAMP:20260423T115624
CREATED:20250626T084814Z
LAST-MODIFIED:20250626T084814Z
UID:10000143-1751587200-1751673599@otcecogranada.es
SUMMARY:Participación en Mapeo de Oficinas Verdes de España
DESCRIPTION:Esta participación tiene como objetivo tejer una red de intercambio entre oficinas verdes en España y compartir luces y sombras de nuestros proyectos.
URL:https://otcecogranada.es/evento/participacion-mapeo-oficinas-verdes-espana/
CATEGORIES:Comunidades Energéticas
ATTACH;FMTTYPE=image/jpeg:https://otcecogranada.es/wp-content/uploads/2024/12/participacion-de-la-comunidad4.jpg
END:VEVENT
BEGIN:VEVENT
DTSTART;TZID=Europe/Madrid:20250704T120000
DTEND;TZID=Europe/Madrid:20250704T130000
DTSTAMP:20260423T115624
CREATED:20250707T061409Z
LAST-MODIFIED:20250707T061409Z
UID:10000148-1751630400-1751634000@otcecogranada.es
SUMMARY:Reunion de oficinas verdes para promover la transicion energética sin dejar a nadie atras con los hogares vulnerables
DESCRIPTION:El pasado viernes la OTC ECO Granada asistió a una reunión con el grupo de trabajo de las «Oficinas Verdes». Este grupo pretende ayudar a conseguir el objetivo de realizar la transición energética sin dejar a nadie atrás. En muchas ocasiones las medidas para la transición energética\, no tienen en cuenta todos los factores sociales\, por ello también se debe apostar por conseguir que los hogares vulnerables\, también puedan sumarse al carro de la transición energética. \nAl acabar la reunión\, se tomarón diversas medias para continuar con el trabajo del grupo y así poder continuar con la labor.
URL:https://otcecogranada.es/evento/reunion-oficinas-verdes-promover-transicion-energetica-dejar-nadie-hogares-vulnerables/
LOCATION:Reunión Online
ORGANIZER;CN="Oficina Provincial de la Energ%C3%ADa Diputaci%C3%B3n de Granada":MAILTO:oficinaenergia@dipgra.es
END:VEVENT
END:VCALENDAR