BEGIN:VCALENDAR
VERSION:2.0
PRODID:-//OTC Eco Granada - ECPv6.15.20//NONSGML v1.0//EN
CALSCALE:GREGORIAN
METHOD:PUBLISH
X-WR-CALNAME:OTC Eco Granada
X-ORIGINAL-URL:https://otcecogranada.es
X-WR-CALDESC:Eventos para OTC Eco Granada
REFRESH-INTERVAL;VALUE=DURATION:PT1H
X-Robots-Tag:noindex
X-PUBLISHED-TTL:PT1H
BEGIN:VTIMEZONE
TZID:Europe/Madrid
BEGIN:DAYLIGHT
TZOFFSETFROM:+0100
TZOFFSETTO:+0200
TZNAME:CEST
DTSTART:20240331T010000
END:DAYLIGHT
BEGIN:STANDARD
TZOFFSETFROM:+0200
TZOFFSETTO:+0100
TZNAME:CET
DTSTART:20241027T010000
END:STANDARD
BEGIN:DAYLIGHT
TZOFFSETFROM:+0100
TZOFFSETTO:+0200
TZNAME:CEST
DTSTART:20250330T010000
END:DAYLIGHT
BEGIN:STANDARD
TZOFFSETFROM:+0200
TZOFFSETTO:+0100
TZNAME:CET
DTSTART:20251026T010000
END:STANDARD
BEGIN:DAYLIGHT
TZOFFSETFROM:+0100
TZOFFSETTO:+0200
TZNAME:CEST
DTSTART:20260329T010000
END:DAYLIGHT
BEGIN:STANDARD
TZOFFSETFROM:+0200
TZOFFSETTO:+0100
TZNAME:CET
DTSTART:20261025T010000
END:STANDARD
END:VTIMEZONE
BEGIN:VEVENT
DTSTART;TZID=Europe/Madrid:20250710T100000
DTEND;TZID=Europe/Madrid:20250710T103000
DTSTAMP:20260423T131237
CREATED:20250711T111459Z
LAST-MODIFIED:20250711T112828Z
UID:10000151-1752141600-1752143400@otcecogranada.es
SUMMARY:APLICACIONES PRÁCTICAS DE LAS COMUNIDADES ENERGÉTICAS: ¿CÓMO PUEDEN PARTICIPAR LAS ENTIDADES LOCALES?
DESCRIPTION:La OTC-Oficina Social de las Comunidades Energéticas ha lanzado esta formación práctica e interesante. Totalmente gratuita ya que está enmarcada dentro del programa CE-Oficinas\, una ayuda del IDAE a través de fondos Next Generation y con los que la Oficina ha estado operando desde octubre de 2023 y que finaliza en septiembre de 2025. \nEsta formación es una de las últimas actividades de la OSCE\, siendo muy útil para personas técnicas y trabajadoras en la administración pública responsable de algún área en relación con las Comunidades Energéticas y en definitiva con la Transición Energética. \nOfrece 10 horas con contenido práctico y teórico en modalidad online y 10 horas de asesoramiento personalizado entre 4 municipios seleccionados\, a través de visitas presenciales a esos municipios. \nLa OTC ECO Granada va a asistir a esta formación\, ya que en ella se van a exponer interesantes conceptos y el desarrollo de la historia de casos reales de creación de Comunidades Energéticas.
URL:https://otcecogranada.es/evento/aplicaciones-practicas-comunidades-energeticascomo-participar-entidades-locales-2/
LOCATION:Reunión Online
ATTACH;FMTTYPE=image/png:https://otcecogranada.es/wp-content/uploads/2025/07/logo-otc-osce-png_2.png
END:VEVENT
BEGIN:VEVENT
DTSTART;TZID=Europe/Madrid:20250710T100000
DTEND;TZID=Europe/Madrid:20250710T120000
DTSTAMP:20260423T131237
CREATED:20250627T095020Z
LAST-MODIFIED:20250627T100016Z
UID:10000146-1752141600-1752148800@otcecogranada.es
SUMMARY:WEBINAR sobre Kit de herramientas para emprender a través de GRANADA EMPRESAS
DESCRIPTION:Dentro de la serie de webinars que organiza Granada Empresas de Diputación de Granada\, hoy nos encontraremos con el webinar: \n«Digitaliza tu proyecto y gana visibilidad» \nOs dejamos aquí esta información\, ya que los técnicos de la OTC ECO Granada vamos a asistir a la misma. Crear una CCEE no es fácil\, y dado que es una empresa social\, es importante formarse en muchas áreas adyacentes a la de la energía. \nSi deseas apuntarte\, hazlo ya\, en este enlace: \nCiclo de seminarios: Kit de herramientas para emprender
URL:https://otcecogranada.es/evento/webinar-kit-herramientas-emprender-traves-granada-empresas-4/
LOCATION:Seminario ONLINE
ATTACH;FMTTYPE=image/png:https://otcecogranada.es/wp-content/uploads/2025/06/logo-granada-empresasgranada-empresas.png
END:VEVENT
END:VCALENDAR