BEGIN:VCALENDAR
VERSION:2.0
PRODID:-//OTC Eco Granada - ECPv6.15.20//NONSGML v1.0//EN
CALSCALE:GREGORIAN
METHOD:PUBLISH
X-ORIGINAL-URL:https://otcecogranada.es
X-WR-CALDESC:Eventos para OTC Eco Granada
REFRESH-INTERVAL;VALUE=DURATION:PT1H
X-Robots-Tag:noindex
X-PUBLISHED-TTL:PT1H
BEGIN:VTIMEZONE
TZID:Europe/Madrid
BEGIN:DAYLIGHT
TZOFFSETFROM:+0100
TZOFFSETTO:+0200
TZNAME:CEST
DTSTART:20240331T010000
END:DAYLIGHT
BEGIN:STANDARD
TZOFFSETFROM:+0200
TZOFFSETTO:+0100
TZNAME:CET
DTSTART:20241027T010000
END:STANDARD
BEGIN:DAYLIGHT
TZOFFSETFROM:+0100
TZOFFSETTO:+0200
TZNAME:CEST
DTSTART:20250330T010000
END:DAYLIGHT
BEGIN:STANDARD
TZOFFSETFROM:+0200
TZOFFSETTO:+0100
TZNAME:CET
DTSTART:20251026T010000
END:STANDARD
BEGIN:DAYLIGHT
TZOFFSETFROM:+0100
TZOFFSETTO:+0200
TZNAME:CEST
DTSTART:20260329T010000
END:DAYLIGHT
BEGIN:STANDARD
TZOFFSETFROM:+0200
TZOFFSETTO:+0100
TZNAME:CET
DTSTART:20261025T010000
END:STANDARD
END:VTIMEZONE
BEGIN:VEVENT
DTSTART;TZID=Europe/Madrid:20250715T100000
DTEND;TZID=Europe/Madrid:20250715T120000
DTSTAMP:20260423T131420
CREATED:20250627T084045Z
LAST-MODIFIED:20250627T100018Z
UID:10000145-1752573600-1752580800@otcecogranada.es
SUMMARY:WEBINAR sobre Kit de herramientas para emprender a través de GRANADA EMPRESAS
DESCRIPTION:Dentro de la serie de webinars que organiza Granada Empresas de Diputación de Granada\, hoy nos encontraremos con el webinar: \n«Domina los números y haz que vendan» \nOs dejamos aquí esta información\, ya que los técnicos de la OTC ECO Granada vamos a asistir a la misma. Crear una CCEE no es fácil\, y dado que es una empresa social\, es importante formarse en muchas áreas adyacentes a la de la energía. \nSi deseas apuntarte\, hazlo ya\, en este enlace: \nCiclo de seminarios: Kit de herramientas para emprender
URL:https://otcecogranada.es/evento/webinar-kit-herramientas-emprender-traves-granada-empresas-3/
LOCATION:Seminario ONLINE
ATTACH;FMTTYPE=image/png:https://otcecogranada.es/wp-content/uploads/2025/06/logo-granada-empresasgranada-empresas.png
END:VEVENT
END:VCALENDAR