BEGIN:VCALENDAR
VERSION:2.0
PRODID:-//OTC Eco Granada - ECPv6.15.20//NONSGML v1.0//EN
CALSCALE:GREGORIAN
METHOD:PUBLISH
X-WR-CALNAME:OTC Eco Granada
X-ORIGINAL-URL:https://otcecogranada.es
X-WR-CALDESC:Eventos para OTC Eco Granada
REFRESH-INTERVAL;VALUE=DURATION:PT1H
X-Robots-Tag:noindex
X-PUBLISHED-TTL:PT1H
BEGIN:VTIMEZONE
TZID:Europe/Madrid
BEGIN:DAYLIGHT
TZOFFSETFROM:+0100
TZOFFSETTO:+0200
TZNAME:CEST
DTSTART:20240331T010000
END:DAYLIGHT
BEGIN:STANDARD
TZOFFSETFROM:+0200
TZOFFSETTO:+0100
TZNAME:CET
DTSTART:20241027T010000
END:STANDARD
BEGIN:DAYLIGHT
TZOFFSETFROM:+0100
TZOFFSETTO:+0200
TZNAME:CEST
DTSTART:20250330T010000
END:DAYLIGHT
BEGIN:STANDARD
TZOFFSETFROM:+0200
TZOFFSETTO:+0100
TZNAME:CET
DTSTART:20251026T010000
END:STANDARD
BEGIN:DAYLIGHT
TZOFFSETFROM:+0100
TZOFFSETTO:+0200
TZNAME:CEST
DTSTART:20260329T010000
END:DAYLIGHT
BEGIN:STANDARD
TZOFFSETFROM:+0200
TZOFFSETTO:+0100
TZNAME:CET
DTSTART:20261025T010000
END:STANDARD
END:VTIMEZONE
BEGIN:VEVENT
DTSTART;TZID=Europe/Madrid:20250903T093000
DTEND;TZID=Europe/Madrid:20250903T170000
DTSTAMP:20260423T115625
CREATED:20250821T093108Z
LAST-MODIFIED:20250901T085131Z
UID:10000154-1756891800-1756918800@otcecogranada.es
SUMMARY:Vivacidad de los territorios rurales
DESCRIPTION:El medio rural español se enfrenta a numerosas dificultades que afectan tanto a su desarrollo socioeconómico como a la calidad de vida de sus habitantes. La despoblación\, el envejecimiento  demográfico\, la falta de oportunidades laborales y la dificultad para acceder a servicios básicos ponen en riesgo la sostenibilidad y el bienestar en estos territorios. Ante esta problemática\, surge  a necesidad de establecer indicadores que permitan evaluar de forma objetiva la “vivacidad” rural\, entendida como la capacidad de estos territorios para ofrecer condiciones adecuadas para el  desarrollo familiar\, profesional y social de su población. \nEn respuesta a esta situación\, el proyecto “Vivacidad de los territorios rurales”\, financiado por HARMON y promovido por VIVACES\, ha reunido a 17 investigadores de la AEEA para realizar un  diagnóstico integral. El estudio identifica discursos y propone indicadores que contribuyen a un análisis profundo y validado sobre el estado y potencial de los territorios rurales en España. \nFinalmente\, en una mesa redonda\, se expondrán y debatirán oportunidades fundamentadas en los principales factores que contribuyen a la vivacidad del medio rural\, contando con la  darticipación de representantes de todos los colectivos implicados. \nPara obtener más información del evento\, aquí tenéis el enlace: \nXV Congreso AEEA
URL:https://otcecogranada.es/evento/vivacidad-territorios-rurales/
LOCATION:Facultad de Económicas de la Facultad de Granada
ATTACH;FMTTYPE=image/png:https://otcecogranada.es/wp-content/uploads/2025/08/screenshot-from-2025-08-21-11-30-36.png
END:VEVENT
END:VCALENDAR