BEGIN:VCALENDAR
VERSION:2.0
PRODID:-//OTC Eco Granada - ECPv6.15.17.1//NONSGML v1.0//EN
CALSCALE:GREGORIAN
METHOD:PUBLISH
X-WR-CALNAME:OTC Eco Granada
X-ORIGINAL-URL:https://otcecogranada.es
X-WR-CALDESC:Eventos para OTC Eco Granada
REFRESH-INTERVAL;VALUE=DURATION:PT1H
X-Robots-Tag:noindex
X-PUBLISHED-TTL:PT1H
BEGIN:VTIMEZONE
TZID:Europe/Madrid
BEGIN:DAYLIGHT
TZOFFSETFROM:+0100
TZOFFSETTO:+0200
TZNAME:CEST
DTSTART:20240331T010000
END:DAYLIGHT
BEGIN:STANDARD
TZOFFSETFROM:+0200
TZOFFSETTO:+0100
TZNAME:CET
DTSTART:20241027T010000
END:STANDARD
BEGIN:DAYLIGHT
TZOFFSETFROM:+0100
TZOFFSETTO:+0200
TZNAME:CEST
DTSTART:20250330T010000
END:DAYLIGHT
BEGIN:STANDARD
TZOFFSETFROM:+0200
TZOFFSETTO:+0100
TZNAME:CET
DTSTART:20251026T010000
END:STANDARD
BEGIN:DAYLIGHT
TZOFFSETFROM:+0100
TZOFFSETTO:+0200
TZNAME:CEST
DTSTART:20260329T010000
END:DAYLIGHT
BEGIN:STANDARD
TZOFFSETFROM:+0200
TZOFFSETTO:+0100
TZNAME:CET
DTSTART:20261025T010000
END:STANDARD
END:VTIMEZONE
BEGIN:VEVENT
DTSTART;TZID=Europe/Madrid:20250918T100000
DTEND;TZID=Europe/Madrid:20250918T233000
DTSTAMP:20260421T123024
CREATED:20250909T063515Z
LAST-MODIFIED:20251017T112328Z
UID:10000157-1758189600-1758238200@otcecogranada.es
SUMMARY:Reunión Bimensual OTCs andaluzas
DESCRIPTION:Actualmente en toda la Comunidad Autónoma de Andalucía\, actúan siete Oficinas de Transformación Comunitaria (OTC). Todas prestan los mismos servicios y asisten a cualquier ciudadano\, PYME y/o Entidad Local en la creación y puesta en marcha de las Comunidades Energéticas que la ciudadanía demande. Dado que ofrecemos los mismos servicios\, compartimos “clientes” y nos enfrentamos a las mismas dudas en el día a día\, se llevan a cabo reuniones de trabajo entre todas las OTC de Andalucía\, cada dos meses. \nEstas reuniones permiten compartir formas de trabajo\, realizar puestas en común de datos interesantes\,  identificar problemas comunes entre todas las oficinas\, compartir materiales y documentación de resultados\, fomentar actividades que otras OTC  ya han comprobado que funcionan… \nEn definitiva\, estas reuniones periódicas\, son un magnífico complemento a la coordinación estatal por parte del IDAE. Solos el camino sería mucho más árido y desesperante\, pero compartiendo problemas y soluciones\, todo parece posible.
URL:https://otcecogranada.es/evento/reunion-bimensual-otcs-andaluzas/
CATEGORIES:Comunidades Energéticas
ATTACH;FMTTYPE=image/jpeg:https://otcecogranada.es/wp-content/uploads/2025/02/me-gusta2.jpg
ORGANIZER;CN="Oficina Provincial de la Energ%C3%ADa Diputaci%C3%B3n de Granada":MAILTO:oficinaenergia@dipgra.es
END:VEVENT
END:VCALENDAR