BEGIN:VCALENDAR
VERSION:2.0
PRODID:-//OTC Eco Granada - ECPv6.15.17.1//NONSGML v1.0//EN
CALSCALE:GREGORIAN
METHOD:PUBLISH
X-ORIGINAL-URL:https://otcecogranada.es
X-WR-CALDESC:Eventos para OTC Eco Granada
REFRESH-INTERVAL;VALUE=DURATION:PT1H
X-Robots-Tag:noindex
X-PUBLISHED-TTL:PT1H
BEGIN:VTIMEZONE
TZID:Europe/Madrid
BEGIN:DAYLIGHT
TZOFFSETFROM:+0100
TZOFFSETTO:+0200
TZNAME:CEST
DTSTART:20240331T010000
END:DAYLIGHT
BEGIN:STANDARD
TZOFFSETFROM:+0200
TZOFFSETTO:+0100
TZNAME:CET
DTSTART:20241027T010000
END:STANDARD
BEGIN:DAYLIGHT
TZOFFSETFROM:+0100
TZOFFSETTO:+0200
TZNAME:CEST
DTSTART:20250330T010000
END:DAYLIGHT
BEGIN:STANDARD
TZOFFSETFROM:+0200
TZOFFSETTO:+0100
TZNAME:CET
DTSTART:20251026T010000
END:STANDARD
BEGIN:DAYLIGHT
TZOFFSETFROM:+0100
TZOFFSETTO:+0200
TZNAME:CEST
DTSTART:20260329T010000
END:DAYLIGHT
BEGIN:STANDARD
TZOFFSETFROM:+0200
TZOFFSETTO:+0100
TZNAME:CET
DTSTART:20261025T010000
END:STANDARD
END:VTIMEZONE
BEGIN:VEVENT
DTSTART;VALUE=DATE:20250924
DTEND;VALUE=DATE:20251125
DTSTAMP:20260420T071313
CREATED:20250924T104458Z
LAST-MODIFIED:20251110T063751Z
UID:10000164-1758672000-1764028799@otcecogranada.es
SUMMARY:Inicio de los Cursos temáticos sobre Comunidades Energéticas de la OTC ECO Granada
DESCRIPTION:Desde la OTC ECO Granada ponemos a vuestra disposición un listado de seis cursos temáticos\, gratuitos\, sobre distintos temas de las Comunidades Energéticas. \nEl resumen de los cursos disponibles es: \n\nCurso de Introducción a las Comunidades Energéticas. 20 horas.\n Curso de Especialización en Comunidades Energéticas para Técnicos Municipales. 20 horas.\n Curso de Especialización en Comunidades Energéticas para la ciudadanía activa. 20 horas.\n Curso de Especialización en Comunidades Energéticas para el sector agroganadero. 20 horas.\n Curso de Especialización en Comunidades Energéticas para el sector industrial. 20 horas.\n Curso de Especialización en Pobreza Energética. 20 horas. (Estará disponible desde el 15 de octubre de 2025).\n\nPodéis acceder a ellos desde el apartado «cursos» de esta web. Ahí encontraréis mayor información\, así como las instrucciones de cómo acceder a los mismos. \nLos cursos están enfocados a todos los públicos y os animámos a que les deis toda la difusión que creáis conveniente. \nNo olvidéis que el plazo de realización de los cursos será hasta del día 24 de noviembre de 2025.
URL:https://otcecogranada.es/evento/inicio-cursos-tematicos-comunidades-energeticas-otc-eco-granada/
LOCATION:Curso Online
ATTACH;FMTTYPE=image/jpeg:https://otcecogranada.es/wp-content/uploads/2025/09/apuntes-g-2862602592.jpg
END:VEVENT
BEGIN:VEVENT
DTSTART;TZID=Europe/Madrid:20251028T080000
DTEND;TZID=Europe/Madrid:20251028T090000
DTSTAMP:20260420T071313
CREATED:20251028T114911Z
LAST-MODIFIED:20251028T114911Z
UID:10000180-1761638400-1761642000@otcecogranada.es
SUMMARY:Rural Voices 2030
DESCRIPTION:Hoy la OTC ECO Granada ha asistido a una reunión online de «Rural Voices 2030» para conocer mejor esta línea de ayuda y así asesorar mejor a las CCEE de Granada.  Dicho programa empodera a jóvenes de zonas rurales para contribuir a los Objetivos de Desarrollo Sostenible (ODS) de la ONU\, en particular el ODS 5 (igualdad de género) y el ODS 15 (protección de la tierra). Centrado en enfoques participativos\, alianzas comunitarias y perspectivas de género\, el proyecto aprovecha el poder de la Educación para la Ciudadanía Global (ECG) para que las zonas rurales sean más inclusivas\, sostenibles y conscientes de los desafíos globales del desarrollo. \nMediante la creación de redes de educación para el desarrollo rural\, “Voces Rurales 2030” fomenta un sentido de pertenencia comunitaria y ciudadanía global\, fomentando la conexión entre las comunidades rurales y la acción global en toda Europa.
URL:https://otcecogranada.es/evento/rural-voices-2030/
LOCATION:Reunión Online
ATTACH;FMTTYPE=image/png:https://otcecogranada.es/wp-content/uploads/2025/10/rural-voices-2030-logo.png
ORGANIZER;CN="Oficina Provincial de la Energ%C3%ADa Diputaci%C3%B3n de Granada":MAILTO:oficinaenergia@dipgra.es
END:VEVENT
END:VCALENDAR