BEGIN:VCALENDAR
VERSION:2.0
PRODID:-//OTC Eco Granada - ECPv6.15.20//NONSGML v1.0//EN
CALSCALE:GREGORIAN
METHOD:PUBLISH
X-WR-CALNAME:OTC Eco Granada
X-ORIGINAL-URL:https://otcecogranada.es
X-WR-CALDESC:Eventos para OTC Eco Granada
REFRESH-INTERVAL;VALUE=DURATION:PT1H
X-Robots-Tag:noindex
X-PUBLISHED-TTL:PT1H
BEGIN:VTIMEZONE
TZID:Europe/Madrid
BEGIN:DAYLIGHT
TZOFFSETFROM:+0100
TZOFFSETTO:+0200
TZNAME:CEST
DTSTART:20240331T010000
END:DAYLIGHT
BEGIN:STANDARD
TZOFFSETFROM:+0200
TZOFFSETTO:+0100
TZNAME:CET
DTSTART:20241027T010000
END:STANDARD
BEGIN:DAYLIGHT
TZOFFSETFROM:+0100
TZOFFSETTO:+0200
TZNAME:CEST
DTSTART:20250330T010000
END:DAYLIGHT
BEGIN:STANDARD
TZOFFSETFROM:+0200
TZOFFSETTO:+0100
TZNAME:CET
DTSTART:20251026T010000
END:STANDARD
BEGIN:DAYLIGHT
TZOFFSETFROM:+0100
TZOFFSETTO:+0200
TZNAME:CEST
DTSTART:20260329T010000
END:DAYLIGHT
BEGIN:STANDARD
TZOFFSETFROM:+0200
TZOFFSETTO:+0100
TZNAME:CET
DTSTART:20261025T010000
END:STANDARD
END:VTIMEZONE
BEGIN:VEVENT
DTSTART;VALUE=DATE:20250924
DTEND;VALUE=DATE:20251125
DTSTAMP:20260423T131234
CREATED:20250924T104458Z
LAST-MODIFIED:20251110T063751Z
UID:10000164-1758672000-1764028799@otcecogranada.es
SUMMARY:Inicio de los Cursos temáticos sobre Comunidades Energéticas de la OTC ECO Granada
DESCRIPTION:Desde la OTC ECO Granada ponemos a vuestra disposición un listado de seis cursos temáticos\, gratuitos\, sobre distintos temas de las Comunidades Energéticas. \nEl resumen de los cursos disponibles es: \n\nCurso de Introducción a las Comunidades Energéticas. 20 horas.\n Curso de Especialización en Comunidades Energéticas para Técnicos Municipales. 20 horas.\n Curso de Especialización en Comunidades Energéticas para la ciudadanía activa. 20 horas.\n Curso de Especialización en Comunidades Energéticas para el sector agroganadero. 20 horas.\n Curso de Especialización en Comunidades Energéticas para el sector industrial. 20 horas.\n Curso de Especialización en Pobreza Energética. 20 horas. (Estará disponible desde el 15 de octubre de 2025).\n\nPodéis acceder a ellos desde el apartado «cursos» de esta web. Ahí encontraréis mayor información\, así como las instrucciones de cómo acceder a los mismos. \nLos cursos están enfocados a todos los públicos y os animámos a que les deis toda la difusión que creáis conveniente. \nNo olvidéis que el plazo de realización de los cursos será hasta del día 24 de noviembre de 2025.
URL:https://otcecogranada.es/evento/inicio-cursos-tematicos-comunidades-energeticas-otc-eco-granada/
LOCATION:Curso Online
ATTACH;FMTTYPE=image/jpeg:https://otcecogranada.es/wp-content/uploads/2025/09/apuntes-g-2862602592.jpg
END:VEVENT
BEGIN:VEVENT
DTSTART;TZID=Europe/Madrid:20251114T100000
DTEND;TZID=Europe/Madrid:20251114T103000
DTSTAMP:20260423T131234
CREATED:20251117T100812Z
LAST-MODIFIED:20251117T100812Z
UID:10000195-1763114400-1763116200@otcecogranada.es
SUMMARY:Entrevista con el IDAE
DESCRIPTION:Entrevista para el IDAE en el contexto de la Red de Conocimientos y Experiencia. \nSegún se acerca el fin de plazo de realización de las actividades previstas en nuestros planes de trabajo\, la entrevista presenta el fin de recabar información sobre cómo se han desarrollado y se desarrollarán en un futuro nuestras actividades en relación con la OTC. De esta forma\, podrán orientar nuestra actividad futura y adaptarla lo mejor posible a las necesidades del sector.
URL:https://otcecogranada.es/evento/entrevista-idae/
CATEGORIES:Comunidades Energéticas
ATTACH;FMTTYPE=image/jpeg:https://otcecogranada.es/wp-content/uploads/2023/12/acompanamiento-otc-eco.jpg
ORGANIZER;CN="Oficina Provincial de la Energ%C3%ADa Diputaci%C3%B3n de Granada":MAILTO:oficinaenergia@dipgra.es
END:VEVENT
BEGIN:VEVENT
DTSTART;TZID=Europe/Madrid:20251114T113000
DTEND;TZID=Europe/Madrid:20251114T123000
DTSTAMP:20260423T131234
CREATED:20251112T073249Z
LAST-MODIFIED:20251112T073249Z
UID:10000194-1763119800-1763123400@otcecogranada.es
SUMMARY:Reunión con la empresa de la iniciativa BlaBlaLab
DESCRIPTION:La OTC ECO Granada va a tener una reunión con la iniciativa BlaBlaLab. Bla Bla LAB se define como un laboratorio de datos\, narrativas y tácticas por el clima. Su misión es crear un «hub de evidencias y datos en comunicación climática»\, para apoyar tanto a profesionales como a personas interesadas en cómo abordar la cuestión del cambio climático desde la comunicación. \nSi deseáis visitar dicha iniciativa su web es la siguiente: https://blablalab.eu/
URL:https://otcecogranada.es/evento/reunion-empresa-iniciativa-blablalab/
LOCATION:Reunión Online
ATTACH;FMTTYPE=image/png:https://otcecogranada.es/wp-content/uploads/2025/11/cropped-blablalab_logo_h.png
END:VEVENT
END:VCALENDAR