BEGIN:VCALENDAR
VERSION:2.0
PRODID:-//OTC Eco Granada - ECPv6.15.20//NONSGML v1.0//EN
CALSCALE:GREGORIAN
METHOD:PUBLISH
X-ORIGINAL-URL:https://otcecogranada.es
X-WR-CALDESC:Eventos para OTC Eco Granada
REFRESH-INTERVAL;VALUE=DURATION:PT1H
X-Robots-Tag:noindex
X-PUBLISHED-TTL:PT1H
BEGIN:VTIMEZONE
TZID:Europe/Madrid
BEGIN:DAYLIGHT
TZOFFSETFROM:+0100
TZOFFSETTO:+0200
TZNAME:CEST
DTSTART:20240331T010000
END:DAYLIGHT
BEGIN:STANDARD
TZOFFSETFROM:+0200
TZOFFSETTO:+0100
TZNAME:CET
DTSTART:20241027T010000
END:STANDARD
BEGIN:DAYLIGHT
TZOFFSETFROM:+0100
TZOFFSETTO:+0200
TZNAME:CEST
DTSTART:20250330T010000
END:DAYLIGHT
BEGIN:STANDARD
TZOFFSETFROM:+0200
TZOFFSETTO:+0100
TZNAME:CET
DTSTART:20251026T010000
END:STANDARD
BEGIN:DAYLIGHT
TZOFFSETFROM:+0100
TZOFFSETTO:+0200
TZNAME:CEST
DTSTART:20260329T010000
END:DAYLIGHT
BEGIN:STANDARD
TZOFFSETFROM:+0200
TZOFFSETTO:+0100
TZNAME:CET
DTSTART:20261025T010000
END:STANDARD
END:VTIMEZONE
BEGIN:VEVENT
DTSTART;VALUE=DATE:20251215
DTEND;VALUE=DATE:20251216
DTSTAMP:20260423T162101
CREATED:20251211T123248Z
LAST-MODIFIED:20251211T123515Z
UID:10000202-1765756800-1765843199@otcecogranada.es
SUMMARY:Reunión con empresa desarrolladora de plataforma de participación de comunidades energéticas
DESCRIPTION:
URL:https://otcecogranada.es/evento/reunion-empresa-desarrolladora-plataforma-participacion-comunidades-energeticas/
CATEGORIES:Comunidades Energéticas
ATTACH;FMTTYPE=image/jpeg:https://otcecogranada.es/wp-content/uploads/2025/10/webinar_graphic-305532928.jpg
ORGANIZER;CN="Oficina Provincial de la Energ%C3%ADa Diputaci%C3%B3n de Granada":MAILTO:oficinaenergia@dipgra.es
END:VEVENT
BEGIN:VEVENT
DTSTART;TZID=Europe/Madrid:20251215T123000
DTEND;TZID=Europe/Madrid:20251215T133000
DTSTAMP:20260423T162101
CREATED:20251212T083000Z
LAST-MODIFIED:20251212T083000Z
UID:10000205-1765801800-1765805400@otcecogranada.es
SUMMARY:Reunión de las Oficinas Verdes
DESCRIPTION:La OTC ECO Granada tendrá el próximo lunes una reunión con el grupo de trabajo de «Oficinas Verdes». Pese a ser un proyecto paralelo no directamente conectado con las CEL\, sí que es interesante dado que puede ofrecer oportunidades y conocimientos que apoyen las CEL. La OTC ECO Granada ya ha asistido a otras dos reuniones con este grupo de trabajo y siempre ha obtenido buenas ideas para aplicar a su ámbito. \n 
URL:https://otcecogranada.es/evento/reunion-oficinas-verdes/
LOCATION:Reunión Online
ATTACH;FMTTYPE=image/jpeg:https://otcecogranada.es/wp-content/uploads/2024/11/competencias-relacionales-2-915876515.jpg
END:VEVENT
BEGIN:VEVENT
DTSTART;VALUE=DATE:20251216
DTEND;VALUE=DATE:20251217
DTSTAMP:20260423T162101
CREATED:20251215T131627Z
LAST-MODIFIED:20251215T132119Z
UID:10000206-1765843200-1765929599@otcecogranada.es
SUMMARY:Webinar de presentación de la nueva multiplataforma de la OTC ECO GRANADA para Comunidades energéticas.
DESCRIPTION:Se presentará la nueva multiplataforma de la OTC ECO GRANADA para el impulso y desarrollo de comunidades energéticas. A su vez se presentará la web oficial de la reciente comunidad energética La Alpujarra. \nPara más información: https://base.energra.es/ \n 
URL:https://otcecogranada.es/evento/webinar-presentacion-web-multiplataforma-otc-eco-granada-comunidades-energeticas/
CATEGORIES:Comunidades Energéticas
ATTACH;FMTTYPE=image/png:https://otcecogranada.es/wp-content/uploads/2024/10/ciudadania.png
END:VEVENT
BEGIN:VEVENT
DTSTART;TZID=Europe/Madrid:20251217T100000
DTEND;TZID=Europe/Madrid:20251217T120000
DTSTAMP:20260423T162101
CREATED:20251211T092003Z
LAST-MODIFIED:20251211T092003Z
UID:10000201-1765965600-1765972800@otcecogranada.es
SUMMARY:Sesión virtual de movilidad intermunicipal
DESCRIPTION:OTC ECO GRANADA participa en la sesión virtual de movilidad intermunicipal y sostenible organizada por la OTC ENREDCOOP de la escuela de economía social. \nEnlace de inscripción para cualquier persona interesada en asistir: https://forms.office.com/e/6mKW2e346a
URL:https://otcecogranada.es/evento/sesion-virtual-movilidad-intermunicipal/
CATEGORIES:Comunidades Energéticas
ATTACH;FMTTYPE=image/jpeg:https://otcecogranada.es/wp-content/uploads/2025/02/20221128pht58206-cl-3388249422.jpg
END:VEVENT
BEGIN:VEVENT
DTSTART;TZID=Europe/Madrid:20251217T193000
DTEND;TZID=Europe/Madrid:20251217T210000
DTSTAMP:20260423T162101
CREATED:20251126T073633Z
LAST-MODIFIED:20251211T093140Z
UID:10000198-1765999800-1766005200@otcecogranada.es
SUMMARY:Jornada informativa sobre Comunidades Energéticas en Órgiva
DESCRIPTION:
URL:https://otcecogranada.es/evento/jornada-informativa-comunidades-energeticas-orgiva/
CATEGORIES:Comunidades Energéticas
ATTACH;FMTTYPE=image/jpeg:https://otcecogranada.es/wp-content/uploads/2025/11/17-12-19h30-21h-_-v3.jpg
END:VEVENT
BEGIN:VEVENT
DTSTART;VALUE=DATE:20251218
DTEND;VALUE=DATE:20251219
DTSTAMP:20260423T162101
CREATED:20251215T132700Z
LAST-MODIFIED:20251215T132700Z
UID:10000207-1766016000-1766102399@otcecogranada.es
SUMMARY:Webinar de presentación de la nueva multiplataforma de la OTC ECO GRANADA para Comunidades Energéticas
DESCRIPTION:Se presentará la nueva multiplataforma de la OTC ECO GRANADA para el impulso y desarrollo de comunidades energéticas. A su vez se presentará la web oficial de eMoción\, comunidad energética de movilidad eléctrica y de la comunidad energética de barrios de la Alhambra (CEBA). \nPara más información: https://base.energra.es/
URL:https://otcecogranada.es/evento/webinar-presentacion-nueva-multiplataforma-otc-eco-granada-comunidades-energeticas/
CATEGORIES:Comunidades Energéticas
ATTACH;FMTTYPE=image/jpeg:https://otcecogranada.es/wp-content/uploads/2024/10/puzzle-2780340853.jpg
ORGANIZER;CN="Oficina Provincial de la Energ%C3%ADa Diputaci%C3%B3n de Granada":MAILTO:oficinaenergia@dipgra.es
END:VEVENT
BEGIN:VEVENT
DTSTART;TZID=Europe/Madrid:20251219T120000
DTEND;TZID=Europe/Madrid:20251219T130000
DTSTAMP:20260423T162101
CREATED:20251205T110040Z
LAST-MODIFIED:20251205T110040Z
UID:10000200-1766145600-1766149200@otcecogranada.es
SUMMARY:Reunión asesoramiento a la CEL de Purullena junto a Servicios Sociales de Diputación de Granada
DESCRIPTION:La OTC ECO Granada próximamente tendrá una reunión con la CEL de Purullena\, junto a los servicios sociales de Diputación de Granada. En dicha reunión se le prestará asesoramiento a dicha CEL sobre pobreza energética. \nLas CE versan su actividad en los ámbitos: social\, medio ambiental y económico. Este tipo de actividad dentro de las CEL ( la pobreza energética) permite que las Comuniades energéticas\, compartan parte de su energía con las personas más desfavorecidas de su entorno. Dando apoyo a los que más lo necesitan y contribuyendo así a la sostenibilidad de su municipio. \n 
URL:https://otcecogranada.es/evento/reunion-asesoramiento-cel-purullena-junto-servicios-sociales-diputacion-granada/
LOCATION:Ayuntamiento de Purullena
ATTACH;FMTTYPE=image/jpeg:https://otcecogranada.es/wp-content/uploads/2025/12/024ok-4175176049.jpg
END:VEVENT
END:VCALENDAR