BEGIN:VCALENDAR
VERSION:2.0
PRODID:-//OTC Eco Granada - ECPv6.15.20//NONSGML v1.0//EN
CALSCALE:GREGORIAN
METHOD:PUBLISH
X-ORIGINAL-URL:https://otcecogranada.es
X-WR-CALDESC:Eventos para OTC Eco Granada
REFRESH-INTERVAL;VALUE=DURATION:PT1H
X-Robots-Tag:noindex
X-PUBLISHED-TTL:PT1H
BEGIN:VTIMEZONE
TZID:Europe/Madrid
BEGIN:DAYLIGHT
TZOFFSETFROM:+0100
TZOFFSETTO:+0200
TZNAME:CEST
DTSTART:20230326T010000
END:DAYLIGHT
BEGIN:STANDARD
TZOFFSETFROM:+0200
TZOFFSETTO:+0100
TZNAME:CET
DTSTART:20231029T010000
END:STANDARD
BEGIN:DAYLIGHT
TZOFFSETFROM:+0100
TZOFFSETTO:+0200
TZNAME:CEST
DTSTART:20240331T010000
END:DAYLIGHT
BEGIN:STANDARD
TZOFFSETFROM:+0200
TZOFFSETTO:+0100
TZNAME:CET
DTSTART:20241027T010000
END:STANDARD
BEGIN:DAYLIGHT
TZOFFSETFROM:+0100
TZOFFSETTO:+0200
TZNAME:CEST
DTSTART:20250330T010000
END:DAYLIGHT
BEGIN:STANDARD
TZOFFSETFROM:+0200
TZOFFSETTO:+0100
TZNAME:CET
DTSTART:20251026T010000
END:STANDARD
END:VTIMEZONE
BEGIN:VEVENT
DTSTART;TZID=Europe/Madrid:20240607T090000
DTEND;TZID=Europe/Madrid:20240607T140000
DTSTAMP:20260424T020333
CREATED:20240515T092003Z
LAST-MODIFIED:20240515T092003Z
UID:10000026-1717750800-1717768800@otcecogranada.es
SUMMARY:Seminario: Emprendimiento y Comunidades Energéticas Locales
DESCRIPTION:Seminario «Emprendimiento y Comunidades energéticas Locales» organizado por la Diputación de Granada en el Municipio de Caniles. En el mismo\, la OTC ha expuesto una presentación sobre las Comunidades Energéticas\, el papel fundamental que juegan las Entidades Locales en su creación y la exposición de los servicios\, herramientas y ayudas que ofrecen.
URL:https://otcecogranada.es/evento/seminarioemprendimiento-comunidades-energeticas-locales/
LOCATION:Pósito de Caniles
END:VEVENT
BEGIN:VEVENT
DTSTART;VALUE=DATE:20240613
DTEND;VALUE=DATE:20240615
DTSTAMP:20260424T020333
CREATED:20240318T092423Z
LAST-MODIFIED:20240318T092629Z
UID:10000014-1718236800-1718409599@otcecogranada.es
SUMMARY:15ª EDICIÓN PREMIOS ENERAGEN 2024
DESCRIPTION:  \nLos Premios de la Asociación de Agencias Españolas de Gestión de la Energía\, EnerAgen\, convocados anualmente desde 2008\, constituyen un reconocimiento al compromiso de la sociedad\, el mundo empresarial y las instituciones para lograr un modelo energético más eficiente y sostenible\, premiando las mejores iniciativas públicas y privadas en pro de la transición energética en todo el territorio nacional. \nEnerAgen convoca la Decimoquinta Edición de los Premios\, en colaboración con las AGENCIAS DE ENERGÍA que integran la asociación\, quienes seleccionarán las mejores candidaturas en sus respectivos ámbitos territoriales para su posterior evaluación por un jurado especializado. \nEnerAgen convoca hoy\, conjuntamente con sus asociados\, la Decimoquinta Edición de estos premios nacionales\, para identificar los mejores proyectos e iniciativas públicas y privadas a nivel nacional en beneficio de la transición energética. \nLas personas físicas o jurídicas\, las administraciones públicas y las comunidades energéticas\, que hayan destacado por su compromiso con la transición energética\, tienen hasta el 15 de abril para presentar sus candidaturas\, que se canalizarán a través de los organismos públicos y agencias de energía asociados a EnerAgen en los territorios en los que se desarrolle la actuación o a través de la propia Asociación. \nNovedades \nEn esta edición el jurado escogerá las mejores iniciativas tanto PÚBLICAS como PRIVADAS que destaquen por su enfoque innovador y su impacto energético y medioambiental\, que estén alineadas con los objetivos de la transición energética en cualquier ámbito;  energías renovables\, eficiencia energética y movilidad sostenible\, entre otros. EnerAgen premiará también la mejor iniciativa en el ámbito de la educación\, sensibilización y difusión de la transición energética y\, por último\, se reconocerá el compromiso de la ciudadanía\, premiando la mejor iniciativa en materia de comunidades energéticas. \nLos Premios\, patrocinados por Redeia\, están dotados económicamente con 1.500 euros para la iniciativa ganadora en cada categoría\, y se entregarán el 13 de junio en Granada\, en la ceremonia de entrega de galardones organizada en esta edición con el apoyo de la Oficina Provincial de Energía de la Diputación Provincial de Granada. \nToda la información relativa a los Premios\, así como las bases de la convocatoria están disponibles en la página web www.premios.eneragen.org.
URL:https://otcecogranada.es/evento/15aedician-premios-eneragen-2024/
ORGANIZER;CN="Oficina Provincial de la Energ%C3%ADa Diputaci%C3%B3n de Granada":MAILTO:oficinaenergia@dipgra.es
END:VEVENT
BEGIN:VEVENT
DTSTART;TZID=Europe/Madrid:20240628T080000
DTEND;TZID=Europe/Madrid:20240628T090000
DTSTAMP:20260424T020333
CREATED:20241129T063844Z
LAST-MODIFIED:20241129T063844Z
UID:10000062-1719561600-1719565200@otcecogranada.es
SUMMARY:Buena práctica publicada en "Interreg Europe" sobre el proyecto europeo REC4EU
DESCRIPTION:Interreg es un instrumento esencial de la Unión Europea (UE) que fomenta la cooperación entre regiones y países dentro de la UE. Como componente de la Política de Cohesión de la UE\, Interreg tiene un papel crucial en la promoción del desarrollo regional\, la cohesión y la disminución de las desigualdades económicas. Durante el período 2021-2027\, Interreg se enfoca en enfrentar desafíos contemporáneos como el cambio climático\, la transformación digital y la inclusión social. \nEn concreto\, os trasladamos una entrevista que ha tenido la OTC ECO Granada\, con este instrumento europeo\, en referencia al proyecto REC4EU\, que es el primer proyecto de cooperación territorial que facilita la adopción de Comunidades de Energías Renovables (RECs) desde la implementación del nuevo marco legislativo común de la UE (EU2018/2001 REDII) y su transposición a nivel de los Estados miembros. \nLas RECs pueden facilitar la transición de un sistema de producción de energía centralizado a uno descentralizado\, optimizar el uso de fuentes de energía renovable (RES)\, reducir los costos energéticos y la dependencia del exterior\, así como fomentar la participación ciudadana en un rol de prosumidor. Al aumentar el uso de las RES\, REC4EU contribuye a la transición hacia una economía de carbono neto cero\, alineándose con los objetivos de cohesión de la UE. \nEn las RECs\, la producción\, suministro\, distribución\, compartición y consumo de RES se realiza de manera colectiva por los ciudadanos\, a menudo en colaboración con pequeñas y medianas empresas (PYMES) y autoridades locales. Sin embargo\, la creación y gestión de RECs es un proceso complejo. Requieren inversiones iniciales\, conocimiento legislativo\, cercanía a fuentes de energía renovable\, un grupo de partes interesadas cohesionado y comprometido\, así como la participación de las administraciones locales. \nEn el siguiente enlace podréis ver la entrevista completa: \nhttps://www.interregeurope.eu/good-practices/eco-granada-promotion-of-energy-communities-at-the-granada-province-0
URL:https://otcecogranada.es/evento/buena-practica-publicada-interreg-europeproyecto-europeo-rec4eu/
LOCATION:Salón de Actos de la Sede de la Diputación de Granada\, C/ Periodista Barrios Talavera\, 1\, Granada\, Granada\, 18014\, España
ATTACH;FMTTYPE=image/jpeg:https://otcecogranada.es/wp-content/uploads/2024/11/rec4eu_goodpractice_aae_granada_photo_1.jpeg
ORGANIZER;CN="Oficina Provincial de la Energ%C3%ADa Diputaci%C3%B3n de Granada":MAILTO:oficinaenergia@dipgra.es
END:VEVENT
END:VCALENDAR