BEGIN:VCALENDAR
VERSION:2.0
PRODID:-//OTC Eco Granada - ECPv6.15.20//NONSGML v1.0//EN
CALSCALE:GREGORIAN
METHOD:PUBLISH
X-WR-CALNAME:OTC Eco Granada
X-ORIGINAL-URL:https://otcecogranada.es
X-WR-CALDESC:Eventos para OTC Eco Granada
REFRESH-INTERVAL;VALUE=DURATION:PT1H
X-Robots-Tag:noindex
X-PUBLISHED-TTL:PT1H
BEGIN:VTIMEZONE
TZID:Europe/Madrid
BEGIN:DAYLIGHT
TZOFFSETFROM:+0100
TZOFFSETTO:+0200
TZNAME:CEST
DTSTART:20230326T010000
END:DAYLIGHT
BEGIN:STANDARD
TZOFFSETFROM:+0200
TZOFFSETTO:+0100
TZNAME:CET
DTSTART:20231029T010000
END:STANDARD
BEGIN:DAYLIGHT
TZOFFSETFROM:+0100
TZOFFSETTO:+0200
TZNAME:CEST
DTSTART:20240331T010000
END:DAYLIGHT
BEGIN:STANDARD
TZOFFSETFROM:+0200
TZOFFSETTO:+0100
TZNAME:CET
DTSTART:20241027T010000
END:STANDARD
BEGIN:DAYLIGHT
TZOFFSETFROM:+0100
TZOFFSETTO:+0200
TZNAME:CEST
DTSTART:20250330T010000
END:DAYLIGHT
BEGIN:STANDARD
TZOFFSETFROM:+0200
TZOFFSETTO:+0100
TZNAME:CET
DTSTART:20251026T010000
END:STANDARD
END:VTIMEZONE
BEGIN:VEVENT
DTSTART;VALUE=DATE:20241001
DTEND;VALUE=DATE:20241003
DTSTAMP:20260423T210604
CREATED:20241029T111410Z
LAST-MODIFIED:20241029T111410Z
UID:10000043-1727740800-1727913599@otcecogranada.es
SUMMARY:III Congreso Europeo sobre Comunidades Energéticas
DESCRIPTION:Este congreso de ámbito Europeo\, tuvo lugar en dos días con una agenda interesantísima. A continuación os dejamos el resumen de los eventos del congreso: \n\n\nMartes\, 1 de octubre\n\nApertura institucional\nPrimera sesión: Rol de las Oficinas de Transformación Comunitaria (OTC) para el impulso de comunidades energéticas\nSegunda sesión: Retos en las comunidades energéticas de ámbito industrial y la economía circular\nTercera sesión: El concepto One Stop Shop en Europa\nCuarta sesión: La Energía como derecho. De la teoría a la práctica\nQuinta sesión: Marco retributivo de la distribución de energía eléctrica y marco jurídico favorable para las comunidades energéticas\nWork-shops (de 16:00 a 18:00)\n\n\n\n\n\n\n\n\n\n\n\n\nWork-shop 1: La administración pública y el impulso de One Stop Shops para la transición energética\nWork-shop 2: El papel de las Comunidades Energéticas en el avance de la flexibilidad y la gestión de la demanda\nWork-shop 3: Ecofeminismo y la energía como derecho\nWork-shop 4: Incorporar líneas de actuación para impulsar la participación de la juventud en las comunidades energéticas\n\n\n\n\n\n\n\n\n\n\n\n\n\n\n\n\nMiércoles\, 2 de octubre\n\n\n\n\n\nPrimera Sesión: Gestión de la demanda\, el rol de las usuarias de energía y marco normativo habilitador\nSegunda sesión: Comunidades Energéticas y la economía social\nCharla. Utilización de gemelos digitales como herramienta para la descarbonización\nTercera sesión: Coordinación y gestión de comunidades energéticas. Iniciativas y herramientas para garantizar su futuro.\nCuarta Sesión. Experiencias y casos de éxito en el desarrollo de mesas por el autoconsumo\nQuinta Sesión. El papel de las comunidades energéticas industriales\nConclusiones del congreso\n\n\n\n\n\n\n\nEn el siguiente enlace tenéis acceso a la web oficial el evento\, con las grabaciones de las distintas ponencias: \nInicio
URL:https://otcecogranada.es/evento/iii-congreso-europeo-comunidades-energeticas/
LOCATION:Sala Cámara Baluarte ( Pamplona)
ATTACH;FMTTYPE=image/png:https://otcecogranada.es/wp-content/uploads/2024/10/cce-lll-1.png
ORGANIZER;CN="Oficina Provincial de la Energ%C3%ADa Diputaci%C3%B3n de Granada":MAILTO:oficinaenergia@dipgra.es
END:VEVENT
BEGIN:VEVENT
DTSTART;TZID=Europe/Madrid:20241003T090000
DTEND;TZID=Europe/Madrid:20241003T150000
DTSTAMP:20260423T210604
CREATED:20241029T120555Z
LAST-MODIFIED:20241030T102333Z
UID:10000044-1727946000-1727967600@otcecogranada.es
SUMMARY:Jornada de presentación de la OTC de Córdoba
DESCRIPTION:La OTC ECO Granada tuvo al placer de asistir a esta jornada de presentación de la OTC de la Diputación de Córdoba. En ella se llevaron a cabo las presentaciones tanto del equipo de la propia Diputación de Córdoba\, como el equipo que lo asesora. Además asistieron como ponentes algunas figuras impotantes tanto en el gremio de la energía como de las Comunidades Energéticas. En la siguiente imagen puede verse el programa completo: \n \n  \nAquí tenéis el enlace a la web de la OTC de la Diputación de Córdoba: \nhttps://energiacordoba.es/otc/ \n 
URL:https://otcecogranada.es/evento/jornada-presentacion-otc-cordoba/
LOCATION:Salón de actos de la Diputación de Córdoba
ATTACH;FMTTYPE=image/jpeg:https://otcecogranada.es/wp-content/uploads/2024/10/otc-cordoba.jpg
ORGANIZER;CN="Oficina Provincial de la Energ%C3%ADa Diputaci%C3%B3n de Granada":MAILTO:oficinaenergia@dipgra.es
END:VEVENT
BEGIN:VEVENT
DTSTART;TZID=Europe/Madrid:20241004T100000
DTEND;TZID=Europe/Madrid:20241004T130000
DTSTAMP:20260423T210604
CREATED:20241007T085716Z
LAST-MODIFIED:20241111T061307Z
UID:10000030-1728036000-1728046800@otcecogranada.es
SUMMARY:Jornada de promoción de Comunidades Energéticas en el sector Agroganadero
DESCRIPTION:La OTC ECO Granada ha promovido una interesante Jornada sobre las CEL en el sector agroganadero. La jornada se ha compuesto por diversas ponencias con expertos en la temática de la energía y el sector agroganadero. Las temáticas expuestas fueron: \n-Introducción a cargo del Alcalde y el Concejal de medio ambiente de Castril: Abrieron la jornada y desarrollaron el proyecto incipiente de CE en su municipio. El concejal detalló el proyecto que desean llevar a cabo y los datos básicos de la planta solar fotovoltaica de la que ya disponen. \n-Presentación sobre las ayudas actualmente vigentes por parte del IDAE y procedentes del Plan de Resiliencia Transformación y Recuperación-NextGenerationEU: La OTC ECO Granada introdujo las diferentes ayudas relevantes para las CEL\, que actualmente se encuentran en convocatoria. \n-Presentación de FAECTA: Experiencias andaluzas de cooperativas formando comunidades energéticas. \n-FIARE Banca ética: Posibles vías de financiación de comunidades energéticas\, más allá de las propias ayudas. \n-Universidad de Jaén: Proyectos Piloto de Agrovoltaica en el Olivar. \n-Guadiana Menor S.L: Instalación de Fotovoltaica Flotante en balsa de riego de 1MW en Jaén. \n-Aljisur Ingeniería: Autoproducción fotovoltaica en la Comunidad de Regantes Santo Ángel de Zújar. \n-Greening Ingeniería: Proyectos energéticos en el sector agroganadero en Granada. \n-Puerta de las Villas S. Coop (Mogón): Comunidad Energética Agraria de Villacarrillo en Jaén. \n-Presentación de la OTC ECO Granada: Presentación de los servicios gratuitos de la OTC . \nFue una jornada muy completa\, con diversos casos prácticos y experiencias reales que sirven de ejemplo para futuros proyectos innovadores en el sector agroganadero.
URL:https://otcecogranada.es/evento/jornada-promocion-comunidades-energeticas-sector-agroganadero/
LOCATION:Teatro Manuel Carra (Castril)\, Castril\, Granada\, 18816\, España
ATTACH;FMTTYPE=image/jpeg:https://otcecogranada.es/wp-content/uploads/2024/10/ganemos-salamanca-campo-agricultura-provincia-600x400-1270262033.jpg
END:VEVENT
BEGIN:VEVENT
DTSTART;VALUE=DATE:20241010
DTEND;VALUE=DATE:20241011
DTSTAMP:20260423T210604
CREATED:20241028T124427Z
LAST-MODIFIED:20241028T124658Z
UID:10000039-1728518400-1728604799@otcecogranada.es
SUMMARY:Comunidades por el Clima - ¡Comprometidos a hacer nuestra parte!
DESCRIPTION:Descubre Comunidades por el Clima (C4C): 50 iniciativas lideradas por la comunidad que responden activamente al cambio climático y construyen comunidades locales cohesionadas y resilientes. Con el apoyo de esta acción piloto de la CE\, las C4C promueven la biodiversidad\, la gestión sostenible del agua\, las economías circulares locales y las energías renovables en 11 países de la UE. Únete a esta sesión online para aprender cómo las iniciativas ciudadanas transforman las ideas en acción y marcan la diferencia en cada barrio. ¡No te lo pierdas! \nLa sesión fue organizada por la Unión Europea y pudo asistirse online.
URL:https://otcecogranada.es/evento/comunidades-clima-comprometidos-nuestra-parte/
LOCATION:Unión Europea
ATTACH;FMTTYPE=image/jpeg:https://otcecogranada.es/wp-content/uploads/2024/10/steve-adams-by_q4voduc0-unsplash-1024x684-1046150119.jpg
ORGANIZER;CN="Oficina Provincial de la Energ%C3%ADa Diputaci%C3%B3n de Granada":MAILTO:oficinaenergia@dipgra.es
END:VEVENT
BEGIN:VEVENT
DTSTART;TZID=Europe/Madrid:20241010T090000
DTEND;TZID=Europe/Madrid:20241010T190000
DTSTAMP:20260423T210604
CREATED:20241029T121935Z
LAST-MODIFIED:20241029T122028Z
UID:10000045-1728550800-1728586800@otcecogranada.es
SUMMARY:Taller: Modelo de sostenibilidad económica de una CE (ENREDCOOP)
DESCRIPTION:La OTC ECO Granada tuvo la oportunidad de asistir a este magnífico taller organizado por ENREDCOOP. Una comunidad energética es una iniciativa de ciudadanía y pymes que incide directamente en la economía local a través de la producción y consumo de energía y servicios energéticos. En este taller en formato presencial en nuestra sede de Osuna\, hemos abordado las diferentes piezas del diseño de un modelo de sostenibilidad económica\, sin el cual una comunidad energética no dispone de los fundamentos necesarios para asegurar su viabilidad y la puesta en marcha de su primera actividad\, ya sea una instalación de autoconsumo colectivo u otro servicio energético. Definir bien cuáles son nuestros arquetipos de socios\, y nuestra propuesta de valor\, son elementos imprescindibles para convocar a una base societaria sólida pero también diversa\, que pueda responder a diferentes llamados de participación\, también en la financiación interna del proyecto. Una buena estimación de ingresos y gastos\, de periodos de amortización y herramientas de financiación apropiadas son elementos fundamentales para asegurar la pervivencia\, autonomía y escalabilidad de nuestra comunidad. \nMuchas gracias a Alexis Méndez la Orden\, de ePlural / Tandem Social por un «paso a paso»tan pormenorizado y del que extraeremos muchos aprendizajes. Y a todas las personas y organizaciones que se desplazaron a Osuna para esta formación\, entre ellas compañeras y compañeros de otras OTCs que operan en territorio andaluz. Accede en estos enlaces a los materiales del taller. \n  \nEn el siguiente enlace tendréis acceso a todos los contenidos del taller: \nTaller: Modelo de sostenibilidad económica de una CE. Diseño paso a paso.
URL:https://otcecogranada.es/evento/tallermodelo-sostenibilidad-economica-ce-enredcoop/
LOCATION:Salón de Actos de la Sede de la Diputación de Granada\, C/ Periodista Barrios Talavera\, 1\, Granada\, Granada\, 18014\, España
ATTACH;FMTTYPE=image/png:https://otcecogranada.es/wp-content/uploads/2024/10/af-enredcoop-tipografia-color.png
ORGANIZER;CN="Oficina Provincial de la Energ%C3%ADa Diputaci%C3%B3n de Granada":MAILTO:oficinaenergia@dipgra.es
END:VEVENT
BEGIN:VEVENT
DTSTART;TZID=Europe/Madrid:20241017T100000
DTEND;TZID=Europe/Madrid:20241017T110000
DTSTAMP:20260423T210604
CREATED:20241028T115959Z
LAST-MODIFIED:20241031T094940Z
UID:10000035-1729159200-1729162800@otcecogranada.es
SUMMARY:Reunión con municipio de la provincia para evaluar la promoción activa de una comunidad energética local desde la entidad local
DESCRIPTION:Desde el Ayuntamiento de un municipio\, se ha solicitado información sobre las Comunidades Energéticas a través de una reunión online.  La OTC ECO Granada\, asistió a dicho municipio\, tanto en información básica sobre CE\, como es aspectos técnicos sobre las posibles ubicaciones para los módulos fotovoltaicos. El municipio\, cuenta con un polígono industrial cercano (a menos de 2 km de distancia\, permitiendo así el autoconsumo)\, el cual serviría para ubicar una instalación fotovoltaica. \nLa reunión finalizó alimentando aún más las ganas de crear una Comunidad Energética en el municipio y se espera una reunión inicial para la creación de la CE en los próximos meses.
URL:https://otcecogranada.es/evento/niguelas-pone-contacto-otc-eco-granada/
LOCATION:Salón de Actos de la Sede de la Diputación de Granada\, C/ Periodista Barrios Talavera\, 1\, Granada\, Granada\, 18014\, España
ATTACH;FMTTYPE=image/jpeg:https://otcecogranada.es/wp-content/uploads/2024/10/montanas-granada.jpg
ORGANIZER;CN="Oficina Provincial de la Energ%C3%ADa Diputaci%C3%B3n de Granada":MAILTO:oficinaenergia@dipgra.es
END:VEVENT
BEGIN:VEVENT
DTSTART;VALUE=DATE:20241018
DTEND;VALUE=DATE:20241019
DTSTAMP:20260423T210604
CREATED:20241028T125113Z
LAST-MODIFIED:20241030T104058Z
UID:10000040-1729209600-1729295999@otcecogranada.es
SUMMARY:MANAGENERGY: Construyendo el Sistema Energético del Futuro: Perspectivas de la Primera Clase Magistral de Comunidades Energéticas
DESCRIPTION:Para 2050\, la mitad de los ciudadanos de Europa podría estar produciendo hasta la mitad de la energía renovable de la UE»\, afirmó Francisco Puente\, formador de ManagEnergy (ESCAN\, España)\, durante la primera sesión de la Master Class. Esta audaz proyección destaca el potencial transformador de las comunidades energéticas en la configuración del futuro paisaje energético de Europa. Pero\, aunque la oportunidad es vasta\, también lo son los desafíos\, especialmente en lo que respecta a la navegación por los marcos regulatorios. \nLas comunidades energéticas son más que simples proyectos técnicos; representan una forma de involucrar a los ciudadanos en la transición energética\, empoderando a los actores locales para que tomen el control de sus necesidades energéticas. Esto es lo que la 7ª Master Class de ManagEnergy\, que se llevó a cabo durante tres días en septiembre y octubre de 2024 de manera online y en Bruselas\, buscó abordar. Dirigido por los expertos Christiane Egger\, Gerente Adjunta de OÖ Energiesparverband (Austria)\, y Francisco Puente\, Director de Escan Energy Consulting (España)\, el curso se centró en desarrollar las habilidades de los participantes para apoyar la creación y el crecimiento de comunidades energéticas en toda Europa. \nLa clase abarcó desde el marco político europeo hasta las cuestiones prácticas de establecer\, financiar y operar comunidades energéticas. Las contribuciones de representantes de la Comisión Europea y CINEA proporcionaron valiosos conocimientos sobre las barreras regulatorias y las oportunidades de financiación potenciales. \nAquí os dejamos el enlace original del evento: \nhttps://managenergy.ec.europa.eu/managenergy-discover/news/building-energy-system-future-insights-first-energy-communities-master-class-2024-10-18_en
URL:https://otcecogranada.es/evento/construyendo-sistema-energetico-del-futuroperspectivas-primera-clase-magistral-comunidades-energeticas/
LOCATION:Unión Europea
ATTACH;FMTTYPE=image/jpeg:https://otcecogranada.es/wp-content/uploads/2024/10/group-picture.jpg
ORGANIZER;CN="Oficina Provincial de la Energ%C3%ADa Diputaci%C3%B3n de Granada":MAILTO:oficinaenergia@dipgra.es
END:VEVENT
BEGIN:VEVENT
DTSTART;TZID=Europe/Madrid:20241021T100000
DTEND;TZID=Europe/Madrid:20241021T110000
DTSTAMP:20260423T210604
CREATED:20241028T102704Z
LAST-MODIFIED:20241031T095005Z
UID:10000034-1729504800-1729508400@otcecogranada.es
SUMMARY:Reunión con municipio de la provincia para evaluar la promoción activa de una comunidad energética local desde la entidad local
DESCRIPTION:La OTC ECO Granada ha tenido el placer de recibir la visita de un Alcalde de un municipio de Granada. El Alcalde vino a informarse sobre las Comunidades Energéticas Locales. Actualmente\, existe la problemática de llenar con placas fotovoltaicas los tejados de las viviendas del precioso municipio que viste las faldas de la montaña. Por ello\, se desea crear una CE que abastezca a los vecinos\, pero situando la planta fuera del núcleo urbano. Con esto\, se conseguiría seguir trabajando por la transición energética\, pero sin tener los problemas de un gran impacto visual\, derivado de la instalación de placas sobre las cubiertas de las viviendas. \nTras la reunión\, se acordó que el municipio\, solicitaría formalmente la ayuda de la OTC ECO Granada para la creación de su CE.
URL:https://otcecogranada.es/evento/visita-del-alcalde-guejar-sierra-otc-eco-granada/
LOCATION:Oficina de la OTC ECO Granada
ATTACH;FMTTYPE=image/jpeg:https://otcecogranada.es/wp-content/uploads/2024/10/lavaderos-de-la-reina-guejar-sierra.jpg
ORGANIZER;CN="Oficina Provincial de la Energ%C3%ADa Diputaci%C3%B3n de Granada":MAILTO:oficinaenergia@dipgra.es
END:VEVENT
BEGIN:VEVENT
DTSTART;TZID=Europe/Madrid:20241021T100000
DTEND;TZID=Europe/Madrid:20241021T120000
DTSTAMP:20260423T210604
CREATED:20241028T100252Z
LAST-MODIFIED:20241028T100433Z
UID:10000033-1729504800-1729512000@otcecogranada.es
SUMMARY:Reunión para la asistencia de la CE de la Alpujarra junto al Ayuntamiento y ENREDCOOP y asistencia jurídica
DESCRIPTION:En la imagen podemos ver una des las posibles localizaciones para la planta fotovoltaica de la CE (actualmente descartada) y la sala presencial en el Ayuntamiento de Órgiva. \nDesde el grupo motor de la CE de la Alpujarra se lleva trabajando desde principios de este año en la creación de una Comunidad Energética con base en los habitantes del municipio. En esta reunión estuvieron presentes el Ayuntamiento (alcalde\, concejales\, técnicos…)\, la cooperativa ENREDCOOP\, la asistencia jurídica de la Oficina de la Energía de Diputación de Granada y la OTC ECO Granada. \nCon esta reunión se consiguió clarificar las cubiertas disponibles para la instalación de módulos fotovoltaicos\, localizar el posible punto de conexión de la instalación a red y la puesta en común y presentación del proyecto por las distintas partes. \nPese a descubrir ciertos inconvenientes al inicio de la reunión\, finalmente se dieron diversas soluciones para lograr la continuidad del proyecto y su posible inclusión en las ayudas de la quinta convocatoria del CE Implementa (actualmente activo). \nPoco a poco la CE de la Alpujarra sale adelante.
URL:https://otcecogranada.es/evento/reunion-asistencia-ce-alpujarra-junto-al-ayuntamiento-enredcoop-asistencia-juridica/
LOCATION:Ayuntamiento de Órgiva\, Órgiva\, Granada\, España
ATTACH;FMTTYPE=image/jpeg:https://otcecogranada.es/wp-content/uploads/2024/10/reunion-presencial-orgiva.jpg
ORGANIZER;CN="Oficina Provincial de la Energ%C3%ADa Diputaci%C3%B3n de Granada":MAILTO:oficinaenergia@dipgra.es
END:VEVENT
BEGIN:VEVENT
DTSTART;TZID=Europe/Madrid:20241025T093000
DTEND;TZID=Europe/Madrid:20241025T123000
DTSTAMP:20260423T210604
CREATED:20241029T123500Z
LAST-MODIFIED:20241029T123500Z
UID:10000046-1729848600-1729859400@otcecogranada.es
SUMMARY:Taller gratuito sobre eficiencia energética en hogares vulnerables dirigido a profesionales de toda España (EAPN)
DESCRIPTION:Desde la OTC ECO Granada nunca descansamos\, seguimos trabajando día a día y por eso\, hemos asistido a este taller. De esta forma adquirimos conocimientos para cumplir uno de los objetivos básicos de las comunidades energéticas: el beneficio economico-social. \nLa Red Europea de Lucha contra la Pobreza y la Exclusión Social en el Estado Español (EAPN-ES)\, Endesa y la Asociación de Ciencias Ambientales (ACA) continúan formando a profesionales sobre ahorro y eficiencia energética. El 25 de octubre de 9:30 a 13:30 horas se celebrará el taller online y gratuito ‘Claves para el ahorro y la eficiencia energética en hogares vulnerables’\, que en esta ocasión estará enfocado a profesionales que trabajan con familias vulnerables de Andalucía. \nEl objetivo de estos talleres es dotar a estos profesionales de los conocimientos necesarios para que puedan contribuir con su conocimiento a ayudar a las familias con las que suelen trabajar y que se encuentran en situación de pobreza energética. Se abordarán de forma específica cuestiones clave sobre eficiencia energética\, factura de energía y bono social. \nLa situación de las familias en situación de vulnerabilidad se ha visto afectada por la inflación y el encarecimiento de los precios de la energía. Según el recien publicado XIV Informe de EAPN-ES: «El Estado de la Pobreza en España»\, entre los indicadores que definen la privación material y social severa cabe destacar el aumento de aquellos hogares que no pueden mantener la vivienda a una temperatura adecuada en invierno\, este dato en los últimos cuatro años casi se ha multiplicado por tres\, pasando  del 7\,6 % de 2019\, al 20\,7 % en 2023. \nEn este contexto\, los talleres impulsados por EAPN-ES\, Endesa y ACA\, buscan que las personas asistentes adquieran formación práctica y útil para prevenir y paliar situaciones de pobreza energética en las familias con las que trabajan habitualmente. \nPrograma del taller: \n \nEnlace a la web original del taller: \nhttps://www.eapn.es/actualidad/1778/apuntate-al-taller-online-sobre-ahorro-energetico-dirigido-a-profesionales-de-andalucia
URL:https://otcecogranada.es/evento/taller-gratuito-eficiencia-energetica-hogares-vulnerables-dirigido-profesionales-toda-espana-eapn/
LOCATION:Salón de Actos de la Sede de la Diputación de Granada\, C/ Periodista Barrios Talavera\, 1\, Granada\, Granada\, 18014\, España
ATTACH;FMTTYPE=image/png:https://otcecogranada.es/wp-content/uploads/2024/10/eapn-es-20aniversario.png
ORGANIZER;CN="Oficina Provincial de la Energ%C3%ADa Diputaci%C3%B3n de Granada":MAILTO:oficinaenergia@dipgra.es
END:VEVENT
BEGIN:VEVENT
DTSTART;TZID=Europe/Madrid:20241028T110000
DTEND;TZID=Europe/Madrid:20241028T120000
DTSTAMP:20260423T210604
CREATED:20241030T120918Z
LAST-MODIFIED:20241030T120918Z
UID:10000047-1730113200-1730116800@otcecogranada.es
SUMMARY:Reunión con empresa innovadora sobre Mecanismos de Flexibilidad
DESCRIPTION:El personal de la OTC ECO Granada se ha reunido con una empresa innovadora en el sector eléctrico. En la reunión la empresa ha expuesto sus servicios en lo referente a los Mecanismos de Flexibilidad. \nUn mecanismo de flexibilidad se define como la capacidad del sistema para explotar todos los recursos y responder a los cambios en la demanda neta. También puede definirse como la habilidad del sistema para ajustar la generación y la demanda en respuesta a aberraciones intencionales o no intencionales.  Desde el lado técnico\, se requiere flexibilidad para compensar las incertidumbres y las desviaciones entre la generación y la demanda. Sin embargo\, desde el punto de vista económico\, proporcionar flexibilidad implica costos adicionales. Por lo tanto\, se debe establecer un nivel de compromiso entre la cantidad de flexibilidad y sus costes. \nEstos mecanismos pueden ayudar mucho a las CE\, ya que\, este tipo de tecnologías permiten sacar el máximo partido a las energías renovables.
URL:https://otcecogranada.es/evento/reunion-empresa-innovadora-mecanismos-flexibilidad/
LOCATION:Oficina de la OTC ECO Granada
ATTACH;FMTTYPE=image/jpeg:https://otcecogranada.es/wp-content/uploads/2024/10/torre-electrica.jpg
ORGANIZER;CN="Oficina Provincial de la Energ%C3%ADa Diputaci%C3%B3n de Granada":MAILTO:oficinaenergia@dipgra.es
END:VEVENT
BEGIN:VEVENT
DTSTART;TZID=Europe/Madrid:20241030T120000
DTEND;TZID=Europe/Madrid:20241030T130000
DTSTAMP:20260423T210604
CREATED:20241030T122153Z
LAST-MODIFIED:20241030T123625Z
UID:10000048-1730289600-1730293200@otcecogranada.es
SUMMARY:Reunión con empresa de servicios 360 para Comunidades Energéticas
DESCRIPTION:En esta reunión\, la OTC ECO Granada\, ha podido desarrollar su conocimiento en lo que respecta a los novedosos servicios para Comunidades energéticas. Actualmente existen empresas que aúnan servicios como: \n\nDistribución de energía generada\nMecanismos de flexibilidad\nSoluciones software para la monitorización de la generación de energía fotovoltaica\nAplicaciones móviles para monitorizar todos los datos de generación eléctrica\nBases de datos para gestionar todos los socios de la CE\n\nTodos estos servicios agilizan y mejoran la gestión diaria de una CE. En función de la cantidad de socios\, potencia intalada\, etc… deberemos estudiar bien los costes para obtener un compromiso entre el coste de la CE y el trabajo que demandará en cuanto a su gestión.
URL:https://otcecogranada.es/evento/reunion-empresa-servicios-360-comunidades-energeticas/
LOCATION:Salón de Actos de la Sede de la Diputación de Granada\, C/ Periodista Barrios Talavera\, 1\, Granada\, Granada\, 18014\, España
ATTACH;FMTTYPE=image/jpeg:https://otcecogranada.es/wp-content/uploads/2024/10/comunidad-energetica-934797402.jpg
ORGANIZER;CN="Oficina Provincial de la Energ%C3%ADa Diputaci%C3%B3n de Granada":MAILTO:oficinaenergia@dipgra.es
END:VEVENT
BEGIN:VEVENT
DTSTART;TZID=Europe/Madrid:20241031T080000
DTEND;TZID=Europe/Madrid:20241031T170000
DTSTAMP:20260423T210604
CREATED:20241031T102443Z
LAST-MODIFIED:20241031T102443Z
UID:10000050-1730361600-1730394000@otcecogranada.es
SUMMARY:Reunión con empresa del sector renovable: Aúna las tecnologías fotovoltaicas y el hidrógeno verde
DESCRIPTION:Continuando con la serie de contactos que inició Diputación de Granada\, para empaparse sobre las novedades del sector de energías renovables\, presentamos una empresa que ha conseguido aunar las tecnologías de producción fotovoltaica y la producción de hidrógeno verde. Actualmente\, la tecnología del hidrógeno verde ya se emplea para proyectos de grandes potencias de producción y demanda. Esta empresa\, también dispone de equipos de producción/consumo de hidrógeno verde de pequeña potencia. Esperamos que la reunión nos sirva para\, no sólo empaparnos del estado del arte del sector\, sino también\, poder comunicar a las CE de la provincia que pueden contar con una nueva tecnología que incorporar a sus actividades energéticas.
URL:https://otcecogranada.es/evento/reunion-empresa-del-sector-renovableauna-tecnologias-fotovoltaicas-hidrogeno-verde/
LOCATION:Salón de Actos de la Sede de la Diputación de Granada\, C/ Periodista Barrios Talavera\, 1\, Granada\, Granada\, 18014\, España
ATTACH;FMTTYPE=image/jpeg:https://otcecogranada.es/wp-content/uploads/2024/10/hidrogeno-colores-verde-768x480-3708254172.jpg
ORGANIZER;CN="Oficina Provincial de la Energ%C3%ADa Diputaci%C3%B3n de Granada":MAILTO:oficinaenergia@dipgra.es
END:VEVENT
END:VCALENDAR