BEGIN:VCALENDAR
VERSION:2.0
PRODID:-//OTC Eco Granada - ECPv6.15.20//NONSGML v1.0//EN
CALSCALE:GREGORIAN
METHOD:PUBLISH
X-ORIGINAL-URL:https://otcecogranada.es
X-WR-CALDESC:Eventos para OTC Eco Granada
REFRESH-INTERVAL;VALUE=DURATION:PT1H
X-Robots-Tag:noindex
X-PUBLISHED-TTL:PT1H
BEGIN:VTIMEZONE
TZID:Europe/Madrid
BEGIN:DAYLIGHT
TZOFFSETFROM:+0100
TZOFFSETTO:+0200
TZNAME:CEST
DTSTART:20230326T010000
END:DAYLIGHT
BEGIN:STANDARD
TZOFFSETFROM:+0200
TZOFFSETTO:+0100
TZNAME:CET
DTSTART:20231029T010000
END:STANDARD
BEGIN:DAYLIGHT
TZOFFSETFROM:+0100
TZOFFSETTO:+0200
TZNAME:CEST
DTSTART:20240331T010000
END:DAYLIGHT
BEGIN:STANDARD
TZOFFSETFROM:+0200
TZOFFSETTO:+0100
TZNAME:CET
DTSTART:20241027T010000
END:STANDARD
BEGIN:DAYLIGHT
TZOFFSETFROM:+0100
TZOFFSETTO:+0200
TZNAME:CEST
DTSTART:20250330T010000
END:DAYLIGHT
BEGIN:STANDARD
TZOFFSETFROM:+0200
TZOFFSETTO:+0100
TZNAME:CET
DTSTART:20251026T010000
END:STANDARD
END:VTIMEZONE
BEGIN:VEVENT
DTSTART;TZID=Europe/Madrid:20241104T110000
DTEND;TZID=Europe/Madrid:20241104T120000
DTSTAMP:20260423T194805
CREATED:20241104T123850Z
LAST-MODIFIED:20241104T123850Z
UID:10000052-1730718000-1730721600@otcecogranada.es
SUMMARY:Reunión con municipio de la provincia para evaluar la promoción activa de una comunidad energética local desde la entidad local
DESCRIPTION:La OTC ECO Granada\, junto con la OSCE\, han asistido a un municipio cercano a la capital de la provincia. El municipio ha expuesto a ambas OTC\, sus dudas y los trabajos que ya habían realizado.  Esto ha permitido que las OTC\, clarifiquen las opciones que el municipio tiene para poder llevar a cabo sus planes de constitución de una CE. Se les ha asistido con otras cuestiones relacionadas con la energía pero no dependientes estrictamente de la OTC y se les ha ofrecido asistencia para llevar a cabo las primeras reuniones informativas para que la ciudadanía conozca la iniciativa de CE.
URL:https://otcecogranada.es/evento/reunion-municipio-provincia-evaluar-promocion-activa-comunidad-energetica-local-desde-entidad-local/
LOCATION:Oficina de la OTC ECO Granada
ATTACH;FMTTYPE=image/jpeg:https://otcecogranada.es/wp-content/uploads/2024/11/7979353555_1d55d2a3f7-194520625.jpg
ORGANIZER;CN="Oficina Provincial de la Energ%C3%ADa Diputaci%C3%B3n de Granada":MAILTO:oficinaenergia@dipgra.es
END:VEVENT
BEGIN:VEVENT
DTSTART;TZID=Europe/Madrid:20241106T110000
DTEND;TZID=Europe/Madrid:20241106T120000
DTSTAMP:20260423T194805
CREATED:20241104T094213Z
LAST-MODIFIED:20241104T094213Z
UID:10000051-1730890800-1730894400@otcecogranada.es
SUMMARY:Reunión con empresa Española líder en el sector de la gestión de recursos hídricos y energéticos
DESCRIPTION:La empresa con la que la OTC ECO Granada tendrá una reunión cuenta con dos líneas de negocio: La de gestión de recursos hídricos y otra\, la de gestión de recursos energéticos. En concreto la que nos atañe es la segunda línea. La empresa en su segmento energético realiza las siguientes actividades: \nDentro de la genreación eléctrica: \n\n\n\nEnergía fotovoltaica\nEnergía termosolar\nBioenergía\n\nEn lo que respecta a las infraestructuras: \n\n\n\n\n\nTransmisión\nInfraestructuras eléctricas\nElectrificación\n\nDesde la OTC\, esperamos generar sinergias y nuevos conocimientos sobre las tecnologías disponibles para las CE.
URL:https://otcecogranada.es/evento/reunion-empresa-espanola-lider-sector-gestion-recursos-hidricos-energeticos/
LOCATION:Online
ATTACH;FMTTYPE=image/jpeg:https://otcecogranada.es/wp-content/uploads/2024/11/colbun-2635563346.jpg
ORGANIZER;CN="Oficina Provincial de la Energ%C3%ADa Diputaci%C3%B3n de Granada":MAILTO:oficinaenergia@dipgra.es
END:VEVENT
BEGIN:VEVENT
DTSTART;TZID=Europe/Madrid:20241106T110000
DTEND;TZID=Europe/Madrid:20241106T120000
DTSTAMP:20260423T194805
CREATED:20241106T113731Z
LAST-MODIFIED:20241106T113732Z
UID:10000053-1730890800-1730894400@otcecogranada.es
SUMMARY:Reunión con empresa Granadina del sector energético
DESCRIPTION:En las varias reuniones que está teniendo la OTC con empresas privadas\, para sondear el mercado y conocer las alternativas que pueden ser interesantes a las Comunidades Energéticas\, hoy nos hemos reunido con una empresa Granadina. Dicha empresa tiene varias líneas de negocio relacionadas con el mercado energético. En concreto hoy hemos tratado con ella el sector de los mecanismos de flexibilidad. \nLa flexibilidad de la demanda eléctrica se refiere a la habilidad de los consumidores para modificar su consumo de electricidad en función de las señales del mercado\, los precios de la energía o las condiciones de la red eléctrica. Esta capacidad es fundamental para equilibrar la oferta y la demanda de electricidad\, especialmente en sistemas donde la generación de energía renovable\, como la solar y la eólica\, puede ser inestable. \nHay varias maneras de lograr esta flexibilidad en la demanda: \n\nControl de carga: Los consumidores pueden disminuir o aumentar su consumo energético en momentos determinados\, como por ejemplo\, apagando dispositivos no esenciales durante picos de demanda.\nAlmacenamiento de energía: Los usuarios pueden emplear baterías o sistemas de almacenamiento para acumular energía cuando está disponible a un costo bajo y utilizarla cuando los precios son más altos.\nProgramación de cargas: Los consumidores pueden programar ciertos dispositivos (como electrodomésticos) para que funcionen en momentos de menor costo energético.\nParticipación en programas de respuesta a la demanda: Los consumidores pueden unirse a programas ofrecidos por las compañías eléctricas que les motivan a reducir su consumo durante períodos de alta demanda.\n\nLa flexibilidad de la demanda es esencial para aumentar la eficiencia del sistema eléctrico\, disminuir costos y facilitar la integración de fuentes de energía renovable\, contribuyendo así a un sistema energético más sostenible. \nDesde la OTC\, esperamos generar sinergias y nuevos conocimientos sobre las tecnologías disponibles para las CE.
URL:https://otcecogranada.es/evento/reunion-empresa-granadina-del-sector-energetico/
LOCATION:Online
ATTACH;FMTTYPE=image/jpeg:https://otcecogranada.es/wp-content/uploads/2024/11/captura-de-pantalla-2024-11-06-123652.jpg
END:VEVENT
BEGIN:VEVENT
DTSTART;TZID=Europe/Madrid:20241106T110000
DTEND;TZID=Europe/Madrid:20241106T130000
DTSTAMP:20260423T194805
CREATED:20241031T101739Z
LAST-MODIFIED:20241031T101739Z
UID:10000049-1730890800-1730898000@otcecogranada.es
SUMMARY:Reunión con empresa Granadina líder en su sector
DESCRIPTION:Actualmente existen empresas que brindan distitos servicios a las CE. Esta empresa tiene tiene dos vertienes de negocio. Por un lado realiza y gestiona Autoconsumos compartidos\, y por otro\, asiste a CE con las tareas de cálculo de la planta fotovoltaica y el análisis económico\, ayuda a buscar empresa instaladora y aporta una aplicación para monitorizar la producción solar. \nLa reunión se aprovechará para la puesta en común de conocimientos e iniciativas. El objetivo es recabar la máxima información del mercado\, para así\, poner en conocimiento a las distintas CE ya formadas y a las incipientes\, de las posibilidades que les brindan las empresas del sector.
URL:https://otcecogranada.es/evento/reunion-empresa-granadina-lider-sector/
LOCATION:Online
ATTACH;FMTTYPE=image/jpeg:https://otcecogranada.es/wp-content/uploads/2024/10/images.jpeg
ORGANIZER;CN="Oficina Provincial de la Energ%C3%ADa Diputaci%C3%B3n de Granada":MAILTO:oficinaenergia@dipgra.es
END:VEVENT
BEGIN:VEVENT
DTSTART;TZID=Europe/Madrid:20241107T090000
DTEND;TZID=Europe/Madrid:20241107T100000
DTSTAMP:20260423T194805
CREATED:20241108T071649Z
LAST-MODIFIED:20241108T071649Z
UID:10000054-1730970000-1730973600@otcecogranada.es
SUMMARY:Reunión con empresa del sector del Hidrógeno Verde
DESCRIPTION:La OTC ECO Granada tuvo una reunión con una empresa del sector del Hidrógeno Verde. En concreto el grupo empresarial\, tiene otras líneas de negocio de energías renovables y gestión del agua. Concretamente a la OTC\, le interesaba escuchar las propuestas de productos y servicios que ofrece esta compañía\, sobre el hidrógeno. Una pequeña instalación de hidrógeno verde puede ser una actividad que encaje muy bien en una CE. Pese a que hay diversos proyectos muy interesantes\, actualmente se enfocan a escalas más grandes. Esto quiere decir\, que estos proyectos se enfocan a proyectos de uso industrial o grandes consumos\, que aún no se integrarían bien en las CE\, que existen en la provincia de Granada. \n\nPese a ello\, día a día\, son más los proyectos que se ponen en marcha\, tanto para movilidad\, producción y generación de hidrógeno verde. Los precios de esta tecnología son cada vez más bajos\, logrando poco a poco incorporase al mercado energético\, industrial y de transporte.
URL:https://otcecogranada.es/evento/reunion-empresa-del-sector-del-hidrogeno-verde/
LOCATION:Online
ATTACH;FMTTYPE=image/jpeg:https://otcecogranada.es/wp-content/uploads/2024/11/hidrogeno-verde.jpg
END:VEVENT
BEGIN:VEVENT
DTSTART;TZID=Europe/Madrid:20241108T083000
DTEND;TZID=Europe/Madrid:20241108T193000
DTSTAMP:20260423T194805
CREATED:20241028T125538Z
LAST-MODIFIED:20241028T125538Z
UID:10000041-1731054600-1731094200@otcecogranada.es
SUMMARY:III Foro de Iniciativas de Transición Energética desde la Economía Social
DESCRIPTION:La OTC-Oficina Social de las Comunidades Energéticas (OSCE)\, en colaboración con el Ayuntamiento de Granada\, la Diputación de Granada\, OTC-ENREDCOOP y la red Andares\, abre las inscripciones para el III Foro de Iniciativas de Transición Energética desde la Economía Social\, que tendrá lugar el próximo 8 de noviembre de 2024. \nTras dos exitosas ediciones en Monachil\, este año el Foro se traslada a la ciudad de Granada. Convertido en un referente para quienes buscan promover un cambio hacia una transición energética más sostenible\, justa y solidaria y a la vez\, caracterizado por promover una participación abierta\, voluntaria e inclusiva por parte de la ciudadanía. \nCon el lema “Energía comunitaria desde y para la gente”\, el Foro centrará su atención en las comunidades energéticas\, destacándolas como un modelo clave en este proceso de cambio\, tanto en entornos rurales como urbanos. \nEn definitiva\, el Foro ofrece una oportunidad única para reflexionar\, debatir y generar acciones concretas en pos de un futuro energético más justo\, sostenible y solidario. \n  \nAquí está el enlace de la jornada: \nhttps://cesocial.es/iii-foro/
URL:https://otcecogranada.es/evento/iii-foro-iniciativas-transicion-energetica-desde-economia-social/
LOCATION:TEATRO MUNICIPAL MAESTRO ALONSO
ATTACH;FMTTYPE=image/png:https://otcecogranada.es/wp-content/uploads/2024/10/202410_redes-1024x1024-1.png
END:VEVENT
BEGIN:VEVENT
DTSTART;TZID=Europe/Madrid:20241113T080000
DTEND;TZID=Europe/Madrid:20241113T210000
DTSTAMP:20260423T194805
CREATED:20241120T115843Z
LAST-MODIFIED:20241120T115843Z
UID:10000055-1731484800-1731531600@otcecogranada.es
SUMMARY:Entrevista con la UGR sobre la OTC ECO Granada y las comunidades energéticas en Granada
DESCRIPTION:La OTC ECO Granada\, se ha entrevistado con la Universidad de Granada\, en referencia a las Comunidades Energéticas. En la entrevista\, se ha facilitado a la Universidad de Granada\, información precisa sobre las actuaciones y\, específicamente\, sobre las Comunidades Energéticas Locales de la provincia de Granada.
URL:https://otcecogranada.es/evento/entrevista-ugr-otc-eco-granada-comunidades-energeticas-granada/
LOCATION:Reunión Online
ATTACH;FMTTYPE=image/png:https://otcecogranada.es/wp-content/uploads/2024/11/ugr-logo-3515887635.png
END:VEVENT
BEGIN:VEVENT
DTSTART;TZID=Europe/Madrid:20241120T100000
DTEND;TZID=Europe/Madrid:20241120T120000
DTSTAMP:20260423T194805
CREATED:20241120T120817Z
LAST-MODIFIED:20241120T120817Z
UID:10000056-1732096800-1732104000@otcecogranada.es
SUMMARY:Promoción de la OTC ECO Granada en proyecto Europeo SHARED GREEN DEAL
DESCRIPTION:El Pacto Verde Europeo\, conocido como «Shared Green Deal»\, es una iniciativa continental de la Unión Europea destinada a combatir el cambio climático\, con el objetivo de que Europa se convierta en el primer continente climáticamente neutro para el año 2050. Para lograrlo\, la Comisión Europea ha implementado este ambicioso acuerdo que busca establecer una economía limpia\, con cero emisiones\, y proteger nuestro entorno natural. De esta manera\, se pretende mejorar el bienestar de las personas y la sostenibilidad de las empresas\, posicionando a Europa como líder en la acción climática a nivel global. \nEn dicha reunión la OTC ECO Granada tuvo la oportunidad de mostrarse al ámbito Europeo exponiendo sus iniciativas y actuaciones a otros agentes europeos relacionados con la energía y el clima. Este tipo de eventos son muy interesantes e importantes\, no sólo para conseguir sinergias entre otros organismos homólogos\, sino también para captar nuevas ideas que nos permitan llegar más lejos en nuestro trabajo y ofrecer nuevas herramientas que permitan la consecución de nuestro objetivo: La creación de nuevas Comunidades Energéticas.
URL:https://otcecogranada.es/evento/promocion-otc-eco-granada-proyecto-europeo-shared-green-deal/
LOCATION:Reunión Online
ATTACH;FMTTYPE=image/png:https://otcecogranada.es/wp-content/uploads/2024/11/shared-green-deallogotransparentpng_0.png
END:VEVENT
BEGIN:VEVENT
DTSTART;TZID=Europe/Madrid:20241121T100000
DTEND;TZID=Europe/Madrid:20241121T120000
DTSTAMP:20260423T194805
CREATED:20241120T130717Z
LAST-MODIFIED:20241122T065553Z
UID:10000057-1732183200-1732190400@otcecogranada.es
SUMMARY:Reunión con polígono industrial de Granada para evaluar promoción de CCEE
DESCRIPTION:En esta reunión con un polígono industrial Granadino\, se evaluará y presentará la posible constitución de una CE en dicho entorno. Los polígonos industriales tienen un grandísimo potencial para la generación fotovoltaica. Gracias a la gran superficie de las cubiertas de las naves industriales\, la posibilidad de situar módulos fotovoltaicos es mucho más amplia que la capacidad de una vivienda o bloque de viviendas habitual. \nAdemás\, los grandes consumos industriales generados en las actividades diarias de la vida de un polígono industrial\, podrían ser paliados con la generación FV. Habitualmente\, al encontrarse cerca de las urbes\, gracias al radio de 2km para realizar autoconsumo compartido\, toda la producción excedente de la fotovoltaica montada en la cubierta del polígono\, podrá ser compartida a los hogares que pertenezcan a la misma CE.
URL:https://otcecogranada.es/evento/reunion-poligono-industrial-granada-evaluar-promocion-ccee/
LOCATION:Reunión Online
ATTACH;FMTTYPE=image/jpeg:https://otcecogranada.es/wp-content/uploads/2024/11/2017_6_8_35325s740x-1906998010.jpg
ORGANIZER;CN="Oficina Provincial de la Energ%C3%ADa Diputaci%C3%B3n de Granada":MAILTO:oficinaenergia@dipgra.es
END:VEVENT
BEGIN:VEVENT
DTSTART;TZID=Europe/Madrid:20241125T120000
DTEND;TZID=Europe/Madrid:20241125T130000
DTSTAMP:20260423T194805
CREATED:20241122T065648Z
LAST-MODIFIED:20241122T065648Z
UID:10000058-1732536000-1732539600@otcecogranada.es
SUMMARY:Reunión bimensual con las OTC's de Andalucía
DESCRIPTION:Actualmente en toda la Comunidad Autónoma de Andalucía\, actúan siete Oficinas de Transformación Comunitaria (OTC). Todas prestan los mismos servicios y asisten a cualquier ciudadano\, PYME y/o Entidad Local en la creación y puesta en marcha de las Comunidades Energéticas que la ciudadanía demande. Dado que ofrecemos los mismos servicios\, compartimos «clientes» y nos enfrentamos a las mismas dudas en el día a día\, se llevan a cabo reuniones de trabajo entre todas las OTC de Andalucía\, cada dos meses. \nEstas reuniones permiten compartir formas de trabajo\, realizar puestas en común de datos interesantes\,  identificar problemas comunes entre todas las oficinas\, compartir materiales y documentación de resultados\, fomentar actividades que otras OTC  ya han comprobado que funcionan… \nEn definitiva\, estas reuniones periódicas\, son un magnífico complemento a la coordinación estatal por parte del IDAE. Solos el camino sería mucho más árido y desesperante\, pero compartiendo problemas y soluciones\, todo parece posible.
URL:https://otcecogranada.es/evento/reunion-bimensual-otcs-andalucia/
LOCATION:Reunión Online
ATTACH;FMTTYPE=image/jpeg:https://otcecogranada.es/wp-content/uploads/2024/11/competencias-relacionales-2-915876515.jpg
END:VEVENT
BEGIN:VEVENT
DTSTART;TZID=Europe/Madrid:20241125T190000
DTEND;TZID=Europe/Madrid:20241125T200000
DTSTAMP:20260423T194805
CREATED:20241122T071915Z
LAST-MODIFIED:20241122T072459Z
UID:10000059-1732561200-1732564800@otcecogranada.es
SUMMARY:Jornada de promoción de CCEE en Güejar Sierra
DESCRIPTION:¡El próximo lunes 25/11/2024\, la OTC ECO Granada estará en Güejar Sierra! \nNos encanta poder anunciar que los miembros de la OTC ECO Granada\, se desplazarán el lunes 25 de Noviembre hasta el precioso municipio de Güejar Sierra. Allí se ha organizado una jornada de promoción de CCEE que tendrá lugar a las 7 de la tarde en el Salón de Actos de la Casa de la Cultura. \nEn la jornada\, se abordará qué es una Comunidad Energética y que ventajas tiene. Se darán unas pinceladas sobre todas las posibilidades de acciones que pueden realizarse enmarcadas en una CE y se resolverán todas las dudas que tengan los asistentes (además de otra información muy interesante). \nLa asistencia es totalmente gratuita y abierta\, os esperamos a todos.
URL:https://otcecogranada.es/evento/jornada-promocion-ccee-guejar-sierra/
LOCATION:Salón de Actos de la Casa de la Cultura de Güejar Sierra\, Av. Duque San Pedro\, Güejar Sierra\, Granada\, 18160\, España
ATTACH;FMTTYPE=image/jpeg:https://otcecogranada.es/wp-content/uploads/2024/11/captura-de-pantalla-2024-11-22-082443.jpg
END:VEVENT
BEGIN:VEVENT
DTSTART;TZID=Europe/Madrid:20241127T093000
DTEND;TZID=Europe/Madrid:20241127T103000
DTSTAMP:20260423T194805
CREATED:20241122T074729Z
LAST-MODIFIED:20241122T074729Z
UID:10000060-1732699800-1732703400@otcecogranada.es
SUMMARY:Reunión de coordinación con otra OTC (Asturias)
DESCRIPTION:La OTC de FAEN (Fundación Asturiana de la Energía) nos contactó para realizar una reunión de coordinación entre las dos OTC. Esperamos que esta reunión sea muy productiva y que podamos aprender mucho\, ambas oficinas\, la una de la otra. \nPese a que todos los servicios que ofrecen las OTC en el ámbito estatal es el mismo\, las experiencias\, necesidades y conocimientos que tienen las distintas oficinas repartidas por el territorio nacional\, es muy diverso. Las necesidades y actividades realizadas por la FAEN en Asturias puede que sean muy distintas a las realizadas por la Oficina Provincial de la Energía de Granada. Por ello tenemos ganas de establecer este contacto para seguir aprendiendo y conociendo nuevas propuestas.
URL:https://otcecogranada.es/evento/reunion-coordinacion-otra-otc-asturias/
LOCATION:Reunión Online
ATTACH;FMTTYPE=image/png:https://otcecogranada.es/wp-content/uploads/2024/11/faen-fundacion-asturiana-energia-logo.png
END:VEVENT
BEGIN:VEVENT
DTSTART;TZID=Europe/Madrid:20241128T090000
DTEND;TZID=Europe/Madrid:20241128T130000
DTSTAMP:20260423T194805
CREATED:20241129T065759Z
LAST-MODIFIED:20241129T065759Z
UID:10000064-1732784400-1732798800@otcecogranada.es
SUMMARY:Jornada: "Tecnología para el desarrollo de Comunidades Energéticas Locales en España y Portugal"
DESCRIPTION:La OTC ECO Granada\, ha asistido a la jornada «Tecnología para el desarrollo de Comunidades Energéticas Locales en España y Portugal» organizada por la Universidad de Sevilla\, para continuar aprendiendo sobre las técnicas y estado del arte de las mismas. La tecnología nos permite a día de hoy\, una gran flexibilidad y cuantiosas formas de producir energía eléctrica por medio de las energías renovables. Esta interesante jornada ha tratado sobre CCEE’s\, tecnologías y ha contado con la asistencia de interesantes ponentes. \nAquí os dejamos el enlace para que podáis ver el contenido que se trató: \nJornada «Tecnología para el desarrollo de Comunidades Energéticas Locales en España y Portugal»
URL:https://otcecogranada.es/evento/jornadatecnologia-desarrollo-comunidades-energeticas-locales-espana-portugal/
LOCATION:Reunión Online
ATTACH;FMTTYPE=image/png:https://otcecogranada.es/wp-content/uploads/2024/11/28-de-noviembre-2024-0900-a-m---100-p-m--cet-1024x576-1.png
END:VEVENT
END:VCALENDAR