BEGIN:VCALENDAR
VERSION:2.0
PRODID:-//OTC Eco Granada - ECPv6.15.20//NONSGML v1.0//EN
CALSCALE:GREGORIAN
METHOD:PUBLISH
X-WR-CALNAME:OTC Eco Granada
X-ORIGINAL-URL:https://otcecogranada.es
X-WR-CALDESC:Eventos para OTC Eco Granada
REFRESH-INTERVAL;VALUE=DURATION:PT1H
X-Robots-Tag:noindex
X-PUBLISHED-TTL:PT1H
BEGIN:VTIMEZONE
TZID:Europe/Madrid
BEGIN:DAYLIGHT
TZOFFSETFROM:+0100
TZOFFSETTO:+0200
TZNAME:CEST
DTSTART:20240331T010000
END:DAYLIGHT
BEGIN:STANDARD
TZOFFSETFROM:+0200
TZOFFSETTO:+0100
TZNAME:CET
DTSTART:20241027T010000
END:STANDARD
BEGIN:DAYLIGHT
TZOFFSETFROM:+0100
TZOFFSETTO:+0200
TZNAME:CEST
DTSTART:20250330T010000
END:DAYLIGHT
BEGIN:STANDARD
TZOFFSETFROM:+0200
TZOFFSETTO:+0100
TZNAME:CET
DTSTART:20251026T010000
END:STANDARD
BEGIN:DAYLIGHT
TZOFFSETFROM:+0100
TZOFFSETTO:+0200
TZNAME:CEST
DTSTART:20260329T010000
END:DAYLIGHT
BEGIN:STANDARD
TZOFFSETFROM:+0200
TZOFFSETTO:+0100
TZNAME:CET
DTSTART:20261025T010000
END:STANDARD
END:VTIMEZONE
BEGIN:VEVENT
DTSTART;TZID=Europe/Madrid:20250113T103000
DTEND;TZID=Europe/Madrid:20250113T120000
DTSTAMP:20260423T171307
CREATED:20250114T105019Z
LAST-MODIFIED:20250114T105625Z
UID:10000073-1736764200-1736769600@otcecogranada.es
SUMMARY:Reunión con el ayuntamiento de Güéjar Sierra
DESCRIPTION:Técnicos de la OTC ECO GRANADA se reúnen con el equipo de gobierno y personal del ayuntamiento para avanzar en la constitución de la comunidad energética en el municipio.
URL:https://otcecogranada.es/evento/reunion-ayuntamiento-guejar-sierra/
LOCATION:Ayuntamiento de Güéjar Sierra\, Güéjar Sierra\, Granada\, España
CATEGORIES:Comunidades Energéticas
ATTACH;FMTTYPE=image/jpeg:https://otcecogranada.es/wp-content/uploads/2025/01/20210414_105552-2-scaled-1.jpg
ORGANIZER;CN="Oficina Provincial de la Energ%C3%ADa Diputaci%C3%B3n de Granada":MAILTO:oficinaenergia@dipgra.es
END:VEVENT
BEGIN:VEVENT
DTSTART;TZID=Europe/Madrid:20250120T120000
DTEND;TZID=Europe/Madrid:20250120T130000
DTSTAMP:20260423T171307
CREATED:20241210T092725Z
LAST-MODIFIED:20241210T092725Z
UID:10000069-1737374400-1737378000@otcecogranada.es
SUMMARY:Reunión bimensual con las OTC’s de Andalucía
DESCRIPTION:Actualmente en toda la Comunidad Autónoma de Andalucía\, actúan siete Oficinas de Transformación Comunitaria (OTC). Todas prestan los mismos servicios y asisten a cualquier ciudadano\, PYME y/o Entidad Local en la creación y puesta en marcha de las Comunidades Energéticas que la ciudadanía demande. Dado que ofrecemos los mismos servicios\, compartimos “clientes” y nos enfrentamos a las mismas dudas en el día a día\, se llevan a cabo reuniones de trabajo entre todas las OTC de Andalucía\, cada dos meses. \nEstas reuniones permiten compartir formas de trabajo\, realizar puestas en común de datos interesantes\,  identificar problemas comunes entre todas las oficinas\, compartir materiales y documentación de resultados\, fomentar actividades que otras OTC  ya han comprobado que funcionan… \nEn definitiva\, estas reuniones periódicas\, son un magnífico complemento a la coordinación estatal por parte del IDAE. Solos el camino sería mucho más árido y desesperante\, pero compartiendo problemas y soluciones\, todo parece posible.
URL:https://otcecogranada.es/evento/reunion-bimensual-otcs-andalucia-2/
LOCATION:Reunión Online
ATTACH;FMTTYPE=image/jpeg:https://otcecogranada.es/wp-content/uploads/2024/12/participacion-de-la-comunidad4.jpg
END:VEVENT
BEGIN:VEVENT
DTSTART;TZID=Europe/Madrid:20250129T100000
DTEND;TZID=Europe/Madrid:20250129T113000
DTSTAMP:20260423T171307
CREATED:20250205T123116Z
LAST-MODIFIED:20250205T123116Z
UID:10000083-1738144800-1738150200@otcecogranada.es
SUMMARY:Reuniones periódicas de coordinación sobre el Congreso andaluz de Comunidades Energéticas
DESCRIPTION:La OTC ECO GRANADA se reúnen junto al resto de OTC andaluzas para avanzar en la organización conjunta del CONGRESO andaluz sobre CE.
URL:https://otcecogranada.es/evento/reuniones-periodicas-coordinacion-congreso-andaluz-comunidades-energeticas/
CATEGORIES:Comunidades Energéticas
ATTACH;FMTTYPE=image/jpeg:https://otcecogranada.es/wp-content/uploads/2025/02/me-gusta2.jpg
END:VEVENT
BEGIN:VEVENT
DTSTART;VALUE=DATE:20250130
DTEND;VALUE=DATE:20250201
DTSTAMP:20260423T171307
CREATED:20250115T073811Z
LAST-MODIFIED:20250115T073811Z
UID:10000074-1738195200-1738367999@otcecogranada.es
SUMMARY:Visita de estudio a BRUJAS Y BLANKENBERGE a la cooperativa COOPSTROM de movilidad eléctrica en CCEE.
DESCRIPTION:Técnico de la OTC ECO GRANADA\, a través del proyecto Communities For Climate (C4C): https://ec.europa.eu/regional_policy/policy/communities-and-networks/communities-for-climate_en#inline-nav-2\, visitará en Bélgica la Comunidad Energética COOPSTROM\, puntera en movilidad eléctrica.
URL:https://otcecogranada.es/evento/visita-estudio-brujas-blankenberge-cooperativa-coopstrom-movilidad-electrica-ccee/
LOCATION:Brujas\, Brujas\, Belgium
CATEGORIES:Comunidades Energéticas
ATTACH;FMTTYPE=image/jpeg:https://otcecogranada.es/wp-content/uploads/2025/01/vno4ds3wnnbqpn4jg52eyka4di.jpg
ORGANIZER;CN="Oficina Provincial de la Energ%C3%ADa Diputaci%C3%B3n de Granada":MAILTO:oficinaenergia@dipgra.es
END:VEVENT
END:VCALENDAR