BEGIN:VCALENDAR
VERSION:2.0
PRODID:-//OTC Eco Granada - ECPv6.15.20//NONSGML v1.0//EN
CALSCALE:GREGORIAN
METHOD:PUBLISH
X-ORIGINAL-URL:https://otcecogranada.es
X-WR-CALDESC:Eventos para OTC Eco Granada
REFRESH-INTERVAL;VALUE=DURATION:PT1H
X-Robots-Tag:noindex
X-PUBLISHED-TTL:PT1H
BEGIN:VTIMEZONE
TZID:Europe/Madrid
BEGIN:DAYLIGHT
TZOFFSETFROM:+0100
TZOFFSETTO:+0200
TZNAME:CEST
DTSTART:20240331T010000
END:DAYLIGHT
BEGIN:STANDARD
TZOFFSETFROM:+0200
TZOFFSETTO:+0100
TZNAME:CET
DTSTART:20241027T010000
END:STANDARD
BEGIN:DAYLIGHT
TZOFFSETFROM:+0100
TZOFFSETTO:+0200
TZNAME:CEST
DTSTART:20250330T010000
END:DAYLIGHT
BEGIN:STANDARD
TZOFFSETFROM:+0200
TZOFFSETTO:+0100
TZNAME:CET
DTSTART:20251026T010000
END:STANDARD
BEGIN:DAYLIGHT
TZOFFSETFROM:+0100
TZOFFSETTO:+0200
TZNAME:CEST
DTSTART:20260329T010000
END:DAYLIGHT
BEGIN:STANDARD
TZOFFSETFROM:+0200
TZOFFSETTO:+0100
TZNAME:CET
DTSTART:20261025T010000
END:STANDARD
END:VTIMEZONE
BEGIN:VEVENT
DTSTART;VALUE=DATE:20250204
DTEND;VALUE=DATE:20250205
DTSTAMP:20260423T160602
CREATED:20250205T120057Z
LAST-MODIFIED:20250205T120057Z
UID:10000080-1738627200-1738713599@otcecogranada.es
SUMMARY:Reunión con empresa andaluza sobre mecanismos de flexibilidad
DESCRIPTION:Técnicos de la OTC ECO GRANADA se reúnen con empresa sevillana para compartir experiencia sobre mecanismos de flexibilidad.
URL:https://otcecogranada.es/evento/reunion-empresa-andaluza-mecanismos-flexibilidad/
CATEGORIES:Comunidades Energéticas
ATTACH;FMTTYPE=image/webp:https://otcecogranada.es/wp-content/uploads/2025/02/sedeno-ingenieria-como-optimizar-los-recursos-naturales-en-empresas.webp
ORGANIZER;CN="Oficina Provincial de la Energ%C3%ADa Diputaci%C3%B3n de Granada":MAILTO:oficinaenergia@dipgra.es
END:VEVENT
BEGIN:VEVENT
DTSTART;VALUE=DATE:20250205
DTEND;VALUE=DATE:20250206
DTSTAMP:20260423T160602
CREATED:20250127T065552Z
LAST-MODIFIED:20250205T115126Z
UID:10000078-1738713600-1738799999@otcecogranada.es
SUMMARY:Reunión Coordinadores OTC'S
DESCRIPTION:En las 77 oficinas OTC que existen en España\, se ha elegido a un representante por región\, para realizar reuniones periódicas con dichos representantes de zona. En este caso\, es la OTC ECO Granada la elegida como representante de zona (representando a las OTC Andaluzas) y asistió el pasado día 4 de diciembre a la reunión para la puesta en común de todos los representantes. La reunión es organizada por el IDAE. En ella se pretende analizar el estado actual de los trabajos de las OTC\, analizando las oportunidades\, dificultades y demás por menores que hasta fecha de hoy han aparecido. De este modo\, el aprendizaje se multiplica\, viendo las perspectivas de oficinas de otras regiones muy distintas a la propia.
URL:https://otcecogranada.es/evento/reunion-coordinadores-otcs/
CATEGORIES:Comunidades Energéticas
ATTACH;FMTTYPE=image/jpeg:https://otcecogranada.es/wp-content/uploads/2024/12/grupos-742976-2098656126.jpg
END:VEVENT
BEGIN:VEVENT
DTSTART;VALUE=DATE:20250207
DTEND;VALUE=DATE:20250208
DTSTAMP:20260423T160602
CREATED:20250205T122457Z
LAST-MODIFIED:20250205T122457Z
UID:10000082-1738886400-1738972799@otcecogranada.es
SUMMARY:Asistencia a Taller "PLAN DE IGUALDAD para una Comunidad Energética: diseño paso a paso".
DESCRIPTION:Técnicos de la OTC ECO GRANADA asisten a Osuna (Sevilla) al Taller presencial Plan de Igualdad para CE organizado por la OTC ENREDCOOP.
URL:https://otcecogranada.es/evento/asistencia-taller-plan-igualdad-comunidad-energeticadiseno-paso-paso/
LOCATION:ESCUELA ANDALUZA DE ECONOMÍA SOCIAL\, Pl. la Merced\, s/n\, Osuna\, Sevilla\, 41640
CATEGORIES:Comunidades Energéticas
ATTACH;FMTTYPE=image/jpeg:https://otcecogranada.es/wp-content/uploads/2025/02/recordar-aprender-a-aprender.jpg
ORGANIZER;CN="Oficina Provincial de la Energ%C3%ADa Diputaci%C3%B3n de Granada":MAILTO:oficinaenergia@dipgra.es
END:VEVENT
BEGIN:VEVENT
DTSTART;TZID=Europe/Madrid:20250212T100000
DTEND;TZID=Europe/Madrid:20250212T113000
DTSTAMP:20260423T160602
CREATED:20250205T123515Z
LAST-MODIFIED:20250205T123515Z
UID:10000084-1739354400-1739359800@otcecogranada.es
SUMMARY:Reuniones periódicas de coordinación sobre el Congreso andaluz de Comunidades Energéticas
DESCRIPTION:OTC ECO GRANADA se reúne con el resto de las OTC andaluzas para coordinar la organización conjunta del Congreso Andaluz sobre CE.
URL:https://otcecogranada.es/evento/reuniones-periodicas-coordinacion-congreso-andaluz-comunidades-energeticas-2/
CATEGORIES:Comunidades Energéticas
ATTACH;FMTTYPE=image/jpeg:https://otcecogranada.es/wp-content/uploads/2025/02/me-gusta2.jpg
END:VEVENT
BEGIN:VEVENT
DTSTART;VALUE=DATE:20250217
DTEND;VALUE=DATE:20250218
DTSTAMP:20260423T160602
CREATED:20250211T064001Z
LAST-MODIFIED:20250211T064001Z
UID:10000089-1739750400-1739836799@otcecogranada.es
SUMMARY:Reunión de colaboración con Universidad de Granada
DESCRIPTION:
URL:https://otcecogranada.es/evento/reunion-colaboracion-universidad-granada/
CATEGORIES:Comunidades Energéticas
ATTACH;FMTTYPE=image/avif:https://otcecogranada.es/wp-content/uploads/2025/02/1656060866-feb90b05-7306-4a8e-943f-351f8045664a_12-tipos-reunion.avif
ORGANIZER;CN="Oficina Provincial de la Energ%C3%ADa Diputaci%C3%B3n de Granada":MAILTO:oficinaenergia@dipgra.es
END:VEVENT
BEGIN:VEVENT
DTSTART;TZID=Europe/Madrid:20250219T100000
DTEND;TZID=Europe/Madrid:20250219T110000
DTSTAMP:20260423T160602
CREATED:20250205T114311Z
LAST-MODIFIED:20250205T114357Z
UID:10000079-1739959200-1739962800@otcecogranada.es
SUMMARY:JORNADA DE MOVILIDAD SOSTENIBLE “REVOLUCIONA TUS DESPLAZAMIENTOS”
DESCRIPTION:Intervención del personal de la OTC ECO GRANADA en la Jornada de movilidad sostenible organizada por la UGR. Concretamente abordará unos de los temas actuales para la ciudad como es la Zona de Bajas Emisiones\, su implantación y desafíos.
URL:https://otcecogranada.es/evento/jornada-movilidad-sostenible-revoluciona-tus-desplazamientos/
LOCATION:Facultad de Farmacia. Salón de actos\, Campus Universitario Cartuja\, s\,n\, Beiro\, Granada\, Granada
ATTACH;FMTTYPE=image/webp:https://otcecogranada.es/wp-content/uploads/2025/02/906420236_251467698_1706x1280.webp
ORGANIZER;CN="universidad de Granada":MAILTO:uca@ugr.es
END:VEVENT
BEGIN:VEVENT
DTSTART;VALUE=DATE:20250220
DTEND;VALUE=DATE:20250221
DTSTAMP:20260423T160602
CREATED:20250115T083958Z
LAST-MODIFIED:20250115T083958Z
UID:10000075-1740009600-1740095999@otcecogranada.es
SUMMARY:Presentación de la OTC ECO GRANADA dentro del proyecto Europeo PLAN4CET
DESCRIPTION:A través del curso Transition Manager impartido por OlivoEnergy bajo el proyecto europeo PLAN4CET\, la OTC ECO GRANADA tendrá la oportunidad de presentarse a 60 trabajadores públicos de toda España.
URL:https://otcecogranada.es/evento/presentacion-otc-eco-granada-del-proyecto-europeo-plan4cet/
LOCATION:Online
CATEGORIES:Comunidades Energéticas
ATTACH;FMTTYPE=image/png:https://otcecogranada.es/wp-content/uploads/2025/01/logo-nuevo_2.png
ORGANIZER;CN="Oficina Provincial de la Energ%C3%ADa Diputaci%C3%B3n de Granada":MAILTO:oficinaenergia@dipgra.es
END:VEVENT
BEGIN:VEVENT
DTSTART;VALUE=DATE:20250220
DTEND;VALUE=DATE:20250221
DTSTAMP:20260423T160602
CREATED:20250211T064505Z
LAST-MODIFIED:20250211T064505Z
UID:10000090-1740009600-1740095999@otcecogranada.es
SUMMARY:Colaboración con proyecto CO-SUSTAIN de la Universidad de Granada
DESCRIPTION:Técnico de la OTC colabora y participa en el proyecto CO-SUSTAIN de la UGR sobre comunidades energéticas y visita a la CCEE de Monachil.
URL:https://otcecogranada.es/evento/colaboracion-proyecto-co-sustain-universidad-granada/
LOCATION:monachil\, monachil\, granada\, 18193
CATEGORIES:Comunidades Energéticas
ATTACH;FMTTYPE=image/jpeg:https://otcecogranada.es/wp-content/uploads/2025/02/entorno-natural.jpg
ORGANIZER;CN="Oficina Provincial de la Energ%C3%ADa Diputaci%C3%B3n de Granada":MAILTO:oficinaenergia@dipgra.es
END:VEVENT
BEGIN:VEVENT
DTSTART;TZID=Europe/Madrid:20250221T133000
DTEND;TZID=Europe/Madrid:20250221T140000
DTSTAMP:20260423T160602
CREATED:20250224T071604Z
LAST-MODIFIED:20250224T071604Z
UID:10000094-1740144600-1740146400@otcecogranada.es
SUMMARY:Reunión con CIDE (Asociación de Distribuidores de Energía Eléctrica)
DESCRIPTION:El viernes tuvo lugar una reunión entre CIDE y la OTC ECO Granada. CIDE es la Asociación de Distribuidores de Energía Eléctrica formada por 190 compañías que dan servicio a dos millones de personas en medio millón de hogares de la España rural y que cumplen un importante papel en la sociedad:   \n\nGarantizan el suministro e impulsan la actividad económica en áreas que presentan riesgo de despoblación. \nJuegan un papel clave para no dejar atrás a las zonas rurales en la transición ecológica.  \n\nActualmente\, CIDE\, cuenta con diversas acciones en referencia a las Comunidades Energéticas (CE). Están trabajando en mecanismos de flexibilidad\, impulsando la creación de nuevas CE junto a otras empresas\, y por ello (Programa 58 Puentes)\, la OTC ECO Granada decició reunirse con ellos. La reunión fue muy interesante\, y en ella\, nos expusieron las distintas líneas de trabajo que están llevando a cabo.
URL:https://otcecogranada.es/evento/reunion-cide-asociacion-distribuidores-energia-electrica/
LOCATION:Reunión Online
ATTACH;FMTTYPE=image/png:https://otcecogranada.es/wp-content/uploads/2025/02/logo-cide-azul-5.png
END:VEVENT
BEGIN:VEVENT
DTSTART;VALUE=DATE:20250225
DTEND;VALUE=DATE:20250227
DTSTAMP:20260423T160602
CREATED:20250115T084837Z
LAST-MODIFIED:20250115T085002Z
UID:10000076-1740441600-1740614399@otcecogranada.es
SUMMARY:Presentación en Bruselas de esquemas sobre movilidad eléctrica rural desde las comunidades energéticas y movimiento cooperativista.
DESCRIPTION:Dentro del proyecto C4C\, la OTC ECO GRANADA participará en la presentación de posibles esquemas de movilidad eléctrica para el ámbito rural desde comunidades energéticas.
URL:https://otcecogranada.es/evento/presentacion-bruselas-esquemas-movilidad-electrica-rural-desde-comunidades-energeticas-movimiento-cooperativista/
LOCATION:Bruselas\, Belgium
CATEGORIES:Comunidades Energéticas
ATTACH;FMTTYPE=image/webp:https://otcecogranada.es/wp-content/uploads/2025/01/coche-electrico-en-la-montana.webp
END:VEVENT
BEGIN:VEVENT
DTSTART;TZID=Europe/Madrid:20250226T100000
DTEND;TZID=Europe/Madrid:20250226T113000
DTSTAMP:20260423T160602
CREATED:20250205T123712Z
LAST-MODIFIED:20250205T123712Z
UID:10000085-1740564000-1740569400@otcecogranada.es
SUMMARY:Reunión periódica de coordinación del Congreso andaluz sobre Comunidades Energéticas
DESCRIPTION:OTC ECO GRANADA se reúne con el resto de las OTC andaluzas para coordinar la organización conjunta del Congreso Andaluz sobre CE.
URL:https://otcecogranada.es/evento/reunion-periodica-coordinacion-del-congreso-andaluz-comunidades-energeticas/
CATEGORIES:Comunidades Energéticas
ATTACH;FMTTYPE=image/jpeg:https://otcecogranada.es/wp-content/uploads/2025/02/me-gusta2.jpg
END:VEVENT
BEGIN:VEVENT
DTSTART;TZID=Europe/Madrid:20250226T103000
DTEND;TZID=Europe/Madrid:20250226T123000
DTSTAMP:20260423T160602
CREATED:20250221T070145Z
LAST-MODIFIED:20250221T070145Z
UID:10000093-1740565800-1740573000@otcecogranada.es
SUMMARY:¡Open Day!: Descubre la incubadora de empresas El Carmen
DESCRIPTION:📢 ¡Atención emprendedores! Descubre la incubadora de empresas El Carmen en nuestra Jornada de Puertas Abiertas 🚀\nSi tienes una idea innovadora\, una startup en crecimiento o simplemente estás buscando el impulso que necesita tu negocio\, esta es tu oportunidad. \nTe invitamos a la Jornada de Puertas Abiertas de la Incubadora de Empresas El Carmen\, donde podrás conocer de primera mano este nuevo espacio diseñado para apoyar a los emprendedores con mentoría especializada\, formación\, networking y acceso a financiación. \n📆 Cuándo: 26 de febrero\n⏰ Hora: 10:30 h\n📍 Dónde: Edificio CIE Diputación (Avda. de Andalucía\, s/n\, Granada) \n💡 ¿Por qué asistir?\n✅ Conoce las instalaciones modernas y vanguardistas\, con zona startups\, salas de reuniones y mentoría\, zona office y espacio de exposiciones.\n✅ Descubre el programa de incubación gratuito\, intensivo y personalizado de 8 meses.\n✅ Conecta con expertos y otros emprendedores en un entorno que favorece la colaboración y el crecimiento.\n✅ Aprovecha esta oportunidad única para hacer despegar tu negocio con el respaldo de la Diputación de Granada y Telefónica. \nSi quieres dar un paso adelante y formar parte de un ecosistema de innovación que potencia startups con alto impacto\, ¡te esperamos! \n🔗 Reserva tu plaza aquí: https://www.eventbrite.es/e/entradas-open-day-incubadora-el-carmen-1254292906849?aff=oddtdtcreator \n📩 Más información: granadaempresas@dipgra.es \n¡No te pierdas esta oportunidad para impulsar tu proyecto! 🚀
URL:https://otcecogranada.es/evento/open-daydescubre-incubadora-empresas-carmen/
LOCATION:Incuvadora de Empresas del Edificio CIE de la Diputación de Granada
ATTACH;FMTTYPE=image/jpeg:https://otcecogranada.es/wp-content/uploads/2025/02/open-day-incubadora-el-carmen.jpg
ORGANIZER;CN="Oficina Provincial de la Energ%C3%ADa Diputaci%C3%B3n de Granada":MAILTO:oficinaenergia@dipgra.es
END:VEVENT
END:VCALENDAR