BEGIN:VCALENDAR
VERSION:2.0
PRODID:-//OTC Eco Granada - ECPv6.15.20//NONSGML v1.0//EN
CALSCALE:GREGORIAN
METHOD:PUBLISH
X-ORIGINAL-URL:https://otcecogranada.es
X-WR-CALDESC:Eventos para OTC Eco Granada
REFRESH-INTERVAL;VALUE=DURATION:PT1H
X-Robots-Tag:noindex
X-PUBLISHED-TTL:PT1H
BEGIN:VTIMEZONE
TZID:Europe/Madrid
BEGIN:DAYLIGHT
TZOFFSETFROM:+0100
TZOFFSETTO:+0200
TZNAME:CEST
DTSTART:20240331T010000
END:DAYLIGHT
BEGIN:STANDARD
TZOFFSETFROM:+0200
TZOFFSETTO:+0100
TZNAME:CET
DTSTART:20241027T010000
END:STANDARD
BEGIN:DAYLIGHT
TZOFFSETFROM:+0100
TZOFFSETTO:+0200
TZNAME:CEST
DTSTART:20250330T010000
END:DAYLIGHT
BEGIN:STANDARD
TZOFFSETFROM:+0200
TZOFFSETTO:+0100
TZNAME:CET
DTSTART:20251026T010000
END:STANDARD
BEGIN:DAYLIGHT
TZOFFSETFROM:+0100
TZOFFSETTO:+0200
TZNAME:CEST
DTSTART:20260329T010000
END:DAYLIGHT
BEGIN:STANDARD
TZOFFSETFROM:+0200
TZOFFSETTO:+0100
TZNAME:CET
DTSTART:20261025T010000
END:STANDARD
END:VTIMEZONE
BEGIN:VEVENT
DTSTART;VALUE=DATE:20250401
DTEND;VALUE=DATE:20250405
DTSTAMP:20260423T131323
CREATED:20250321T091321Z
LAST-MODIFIED:20250321T091321Z
UID:10000103-1743465600-1743811199@otcecogranada.es
SUMMARY:Sexta Edición del Foro Mundial del Desarrollo Económico Local
DESCRIPTION:La Sexta Edición del Foro Mundial del Desarrollo Económico Local atenderá a las prioridades globales en la temática de la triple transición\, la justicia social\, la formación para el empleo en el territorio\, la gestión pública\, las alianzas público-privadas y el rol del sector privado y la economía social y solidaria\, el empleo y el trabajo decente y el enfoque de una nueva economía que “cuida” desde el territorio\, así como las alianzas multinivel\, las políticas globales\, nacionales y descentralizadas (regionales-locales). \nLa web con la agenda y el formulario de registro la tenéis aquí: https://ledworldforum.org/es/vi-foro/
URL:https://otcecogranada.es/evento/sexta-edicion-del-foro-mundial-del-desarrollo-economico-local/
LOCATION:Palacio de Congresos y Exhibiciones (Sevilla)\, Sevilla\, España
ATTACH;FMTTYPE=image/png:https://otcecogranada.es/wp-content/uploads/2025/03/logo-es.png
END:VEVENT
BEGIN:VEVENT
DTSTART;TZID=Europe/Madrid:20250401T080000
DTEND;TZID=Europe/Madrid:20250401T170000
DTSTAMP:20260423T131323
CREATED:20250321T092021Z
LAST-MODIFIED:20250321T092021Z
UID:10000104-1743494400-1743526800@otcecogranada.es
SUMMARY:Coordinación Hitos Trimestrales (OTC's Andaluzas)
DESCRIPTION:Desde la OTC ECO Granada\, se coordinará toda la información recogida en el primer trimestre del año\, que hayan generado el resto de OTC de Andalucía. La información se procesará para enviarla después al IDAE. Allí toda la información se recopila y se crea un archivo centralizado con todo el conocimiento que se aporta por parte de los entes locales. \nLa web del programa: https://planderecuperacion.gob.es/noticias/conoce-programa-CE-Oficinas-para-impulsar-creacion-comunidades-energeticas-perte-erha-prtr \n  \n 
URL:https://otcecogranada.es/evento/coordinacion-hitos-trimestrales-otcs-andaluzas/
LOCATION:Salón de Actos de la Sede de la Diputación de Granada\, C/ Periodista Barrios Talavera\, 1\, Granada\, Granada\, 18014\, España
ATTACH;FMTTYPE=image/png:https://otcecogranada.es/wp-content/uploads/2025/03/destacado-otcs.png
ORGANIZER;CN="Oficina Provincial de la Energ%C3%ADa Diputaci%C3%B3n de Granada":MAILTO:oficinaenergia@dipgra.es
END:VEVENT
BEGIN:VEVENT
DTSTART;TZID=Europe/Madrid:20250402T100000
DTEND;TZID=Europe/Madrid:20250402T130000
DTSTAMP:20260423T131323
CREATED:20250214T092534Z
LAST-MODIFIED:20250408T054548Z
UID:10000092-1743588000-1743598800@otcecogranada.es
SUMMARY:Jornada de mecanismos de flexibilidad y Comunidades Energéticas
DESCRIPTION:Nos complace anunciar que el próximo día dos de abril\, tendrá lugar una jornada para descubrir e indagar en las distintas soluciones y tecnologías disponibles sobre mecanismos de flexibilidad\, todo ello en marcado en las Comuniades Energéticas. \nOs dedamos el enlace a la jornada\, para que la podáis ver en diferido: \nJORNADA DE MECANISMOS DE FLEXIBILIDAD Y COMUNIDADES ENERGÉTICAS \n \nLa asistencia a la jornada será online En el siguiente enlace te invitamos a que te apuntes (el registro ya está cerrado dado que el evento ya pasó): \nRegistro a la jornada de mecanismos de flexibilidad y comunidades energéticas \n \nEn el enlace tienes la agenda y horario de las distintas ponencias que tendrán lugar. \nSin más esperamos verte en la fecha señalada.
URL:https://otcecogranada.es/evento/jornada-mecanismos-flexibilidad-comunidades-energeticas/
LOCATION:Salón de Actos de la Sede de la Diputación de Granada\, C/ Periodista Barrios Talavera\, 1\, Granada\, Granada\, 18014\, España
ATTACH;FMTTYPE=image/jpeg:https://otcecogranada.es/wp-content/uploads/2025/02/793681334_235966932_1706x960-1194297031.jpg
ORGANIZER;CN="Oficina Provincial de la Energ%C3%ADa Diputaci%C3%B3n de Granada":MAILTO:oficinaenergia@dipgra.es
END:VEVENT
BEGIN:VEVENT
DTSTART;TZID=Europe/Madrid:20250403T103000
DTEND;TZID=Europe/Madrid:20250403T123000
DTSTAMP:20260423T131323
CREATED:20250311T085708Z
LAST-MODIFIED:20250311T085708Z
UID:10000098-1743676200-1743683400@otcecogranada.es
SUMMARY:Seminario de Economía Básica y Comunidades Energéticas junto a la UGR
DESCRIPTION:En la OTC ECO Granada contamos con un compañero economista que dará un seminario en la UGR. Lo acompañará otro compañero especialista en energía\, que aportará otro punto de vista acerca de temas actuales como la energía nuclear\, las renovables\, y todo el potencial que está por venir con las nuevas tecnologías de gestión de energía eléctrica que se están gestando.
URL:https://otcecogranada.es/evento/seminario-economia-basica-comunidades-energeticas-junto-ugr/
LOCATION:Aula D15 de la Facultad de Económicas
ATTACH;FMTTYPE=image/jpeg:https://otcecogranada.es/wp-content/uploads/2025/03/fachada-fccee_1_noticia-2643091464.jpg
END:VEVENT
BEGIN:VEVENT
DTSTART;TZID=Europe/Madrid:20250407T080000
DTEND;TZID=Europe/Madrid:20250407T170000
DTSTAMP:20260423T131323
CREATED:20250404T082838Z
LAST-MODIFIED:20250404T082838Z
UID:10000110-1744012800-1744045200@otcecogranada.es
SUMMARY:Reunión de preparación de nuestra participación como OTC en el IV Foro Iberoamericano de Economía Social
DESCRIPTION:Se está organizando un foro internacional sobre economía social. La OTC ECO Granada va a participar en dicho foro y con motivo de esta participación\, se asistirá a una reunión para preparar el evento. \nOs dejamos la web específica del evento aquí: \nhttps://foroeconomiasocial.com/ \n 
URL:https://otcecogranada.es/evento/reunion-preparacion-nuestra-participacion-otc-iv-foro-iberoamericano-economia-social/
LOCATION:Reunión Online
ATTACH;FMTTYPE=image/png:https://otcecogranada.es/wp-content/uploads/2025/04/captura-de-pantalla-2025-04-04-102736.png
ORGANIZER;CN="Oficina Provincial de la Energ%C3%ADa Diputaci%C3%B3n de Granada":MAILTO:oficinaenergia@dipgra.es
END:VEVENT
BEGIN:VEVENT
DTSTART;TZID=Europe/Madrid:20250409T090000
DTEND;TZID=Europe/Madrid:20250409T140000
DTSTAMP:20260423T131323
CREATED:20250404T114301Z
LAST-MODIFIED:20250404T114733Z
UID:10000115-1744189200-1744207200@otcecogranada.es
SUMMARY:Jornada de seguimiento del modelo económico para CC.EE.
DESCRIPTION:La OTC ECO Granada va a participar en una jornada sobre modelos económicos de CC.EE. Esta jornada nos permitirá adquirir más conocimiento sobre los distintos modelos de negocio que pueden tener las CC.EE. \nEsta jornada va a poder realizarse gracias a la Escuela de Economía Social (EES). Para tener más detalles tanto de la escuela en general como del proyecto en particular\, os dejamos los enlaces a ambos: \nPágina de inicio \n \nInicio \n \n 
URL:https://otcecogranada.es/evento/jornada-seguimiento-del-modelo-economico-cc-ee/
LOCATION:Sede FAECTA
ATTACH;FMTTYPE=image/png:https://otcecogranada.es/wp-content/uploads/2025/04/cropped-ees-logotipo.png
END:VEVENT
BEGIN:VEVENT
DTSTART;TZID=Europe/Madrid:20250409T100000
DTEND;TZID=Europe/Madrid:20250409T110000
DTSTAMP:20260423T131323
CREATED:20250312T065910Z
LAST-MODIFIED:20250312T065910Z
UID:10000099-1744192800-1744196400@otcecogranada.es
SUMMARY:Reunión periódica de coordinación del Congreso andaluz sobre Comunidades Energéticas
DESCRIPTION:OTC ECO GRANADA se reúne con el resto de las OTC andaluzas para coordinar la organización conjunta del Congreso Andaluz sobre CE.
URL:https://otcecogranada.es/evento/reunion-periodica-coordinacion-del-congreso-andaluz-comunidades-energeticas-3/
LOCATION:Reunión Online
ATTACH;FMTTYPE=image/jpeg:https://otcecogranada.es/wp-content/uploads/2025/02/me-gusta2.jpg
END:VEVENT
BEGIN:VEVENT
DTSTART;TZID=Europe/Madrid:20250410T100000
DTEND;TZID=Europe/Madrid:20250410T120000
DTSTAMP:20260423T131323
CREATED:20250328T113959Z
LAST-MODIFIED:20250328T113959Z
UID:10000108-1744279200-1744286400@otcecogranada.es
SUMMARY:Reunión con empresa Granadina
DESCRIPTION:El próximo día 10 de abril\, la OTC ECO Granada\, participará en una reunión con una conocida empresa Granadadina. En ella se presentarán los avances realizados por la empresa organizadora del evento y la OTC ECO Granada aprovechará la invitación para hablar sobre el trabajo que realiza. Creemos que tejer sinergias con los distintos actores granadinos nos puede ayudar a llegar a un mayor público.
URL:https://otcecogranada.es/evento/reunion-empresa-granadina/
LOCATION:Evento presencial
ATTACH;FMTTYPE=image/jpeg:https://otcecogranada.es/wp-content/uploads/2025/03/granada_spain_banner-3887261167.jpg
ORGANIZER;CN="Oficina Provincial de la Energ%C3%ADa Diputaci%C3%B3n de Granada":MAILTO:oficinaenergia@dipgra.es
END:VEVENT
BEGIN:VEVENT
DTSTART;TZID=Europe/Madrid:20250414T090000
DTEND;TZID=Europe/Madrid:20250414T120000
DTSTAMP:20260423T131323
CREATED:20250414T112157Z
LAST-MODIFIED:20250414T114836Z
UID:10000119-1744621200-1744632000@otcecogranada.es
SUMMARY:Visita a las instalaciones IFMIF-DONES
DESCRIPTION:La OTC ECO Granada ha realizado una visita a las instalaciones IFMIF-DONES de Granada para conocer de primera mano el futuro de otras alternativas de energía: https://ifmif-dones.es/es/
URL:https://otcecogranada.es/evento/visita-instalaciones-ifmif-dones/
LOCATION:IFMIF-DONES
ATTACH;FMTTYPE=image/png:https://otcecogranada.es/wp-content/uploads/2025/04/logo_ifmif_hor-1.png
ORGANIZER;CN="Oficina Provincial de la Energ%C3%ADa Diputaci%C3%B3n de Granada":MAILTO:oficinaenergia@dipgra.es
END:VEVENT
BEGIN:VEVENT
DTSTART;TZID=Europe/Madrid:20250422T093000
DTEND;TZID=Europe/Madrid:20250422T170000
DTSTAMP:20260423T131323
CREATED:20250423T053530Z
LAST-MODIFIED:20250423T054106Z
UID:10000125-1745314200-1745341200@otcecogranada.es
SUMMARY:VIII Semana de la Vega
DESCRIPTION:El próximo 22 de abril\, en el marco de la Semana de la Vega\, se celebrará la jornada “La Vega de Granada: proyectos y acciones en colaboración entre la Universidad de Granada y los municipios”\, una iniciativa promovida por el Consejo Comarcal del Área Metropolitana de la UGR dentro del contexto del proyecto Granada Tierra Viva y el proyecto europeo Erasmus+ ENGAGEgreen. \nEsta jornada tiene como objetivo reunir a los actores clave del territorio –participantes de los Consejos Comarcales UGR y representantes políticos y sociales de la Vega– para debatir sobre los principales desafíos y oportunidades de este espacio agrícola y cultural\, promoviendo su preservación y sostenibilidad. \nA través de un programa estructurado en tres actividades\, se analizará el impacto de la urbanización\, se evaluarán los avances del Pacto por la Vega y se definirán nuevas líneas de acción conjunta. \n  \nUn espacio para el debate y la acción en la Vega de Granada
URL:https://otcecogranada.es/evento/espacio-debate-accion-vega-granada-ugr/
LOCATION:Vega de Granada
ATTACH;FMTTYPE=image/png:https://otcecogranada.es/wp-content/uploads/2025/04/un-espacio-para-el-debate-y-la-accion-en-la-vega-de-granada-3-1-724x1024-1.png
END:VEVENT
BEGIN:VEVENT
DTSTART;TZID=Europe/Madrid:20250422T110000
DTEND;TZID=Europe/Madrid:20250422T120000
DTSTAMP:20260423T131323
CREATED:20250312T070020Z
LAST-MODIFIED:20250421T085208Z
UID:10000100-1745319600-1745323200@otcecogranada.es
SUMMARY:Reunión periódica de coordinación del Congreso andaluz sobre Comunidades Energéticas
DESCRIPTION:OTC ECO GRANADA se reúne con el resto de las OTC andaluzas para coordinar la organización conjunta del Congreso Andaluz sobre CE.
URL:https://otcecogranada.es/evento/reunion-periodica-coordinacion-del-congreso-andaluz-comunidades-energeticas-4/
LOCATION:Reunión Online
ATTACH;FMTTYPE=image/jpeg:https://otcecogranada.es/wp-content/uploads/2025/02/me-gusta2.jpg
END:VEVENT
BEGIN:VEVENT
DTSTART;TZID=Europe/Madrid:20250424T100000
DTEND;TZID=Europe/Madrid:20250424T120000
DTSTAMP:20260423T131323
CREATED:20250404T082102Z
LAST-MODIFIED:20250404T082102Z
UID:10000109-1745488800-1745496000@otcecogranada.es
SUMMARY:Visita a la planta de reciclaje y compostaje de Alhendín
DESCRIPTION:Desde la UGR se ha organizado una visita a la planta de reciclaje y compostaje de Alhendín. Desde la OTC\, van a asistir dos técnicos a dicha visita junto a los alumnos y profesores que promueven la visita. \nEl interés de dicha visita no sólo radica en el potencial de aprendizaje sobre economía circular y reciclaje\, sino también\, en las soluciones de energía renovables con las que cuenta la planta. Cabe destacar en este sentido la planta de generación fotovoltaica con la cuenta\, así como\, la generación de biogas que realizan.
URL:https://otcecogranada.es/evento/visita-planta-reciclaje-compostaje-alhendin/
ATTACH;FMTTYPE=image/jpeg:https://otcecogranada.es/wp-content/uploads/2025/04/proyect2_01-fileminimizer-4003956038.jpg
END:VEVENT
BEGIN:VEVENT
DTSTART;VALUE=DATE:20250425
DTEND;VALUE=DATE:20250426
DTSTAMP:20260423T131323
CREATED:20250407T115039Z
LAST-MODIFIED:20250407T115039Z
UID:10000116-1745539200-1745625599@otcecogranada.es
SUMMARY:I Jornadas Nacionales de Movilidad Rural
DESCRIPTION:Hoy os traemos las I Jornadas Nacionales de Movilidad Rural. La temática de la jornada versará sobre los nuevos modelos de gestión innovadora del transporte público en territorios no metropolitanos\, intermodal e intercompletencial. Uno de los integrantes de nuestra oficina OTC\, participará en las ponencias del evento. \nPara registraros\, ver los participantes y más información\, lo podéis hacer en este enlace: \nhttps://movilidadrural.com/ \nEl evento tendrá lugar en el teatro municipal de Guadix\, el viernes 25 de abril de 2025.
URL:https://otcecogranada.es/evento/jornadas-nacionales-movilidad-rural/
LOCATION:Teatro Municipal de Guadix
ATTACH;FMTTYPE=image/png:https://otcecogranada.es/wp-content/uploads/2025/04/captura-de-pantalla-2025-04-07-135008.png
END:VEVENT
END:VCALENDAR