BEGIN:VCALENDAR
VERSION:2.0
PRODID:-//OTC Eco Granada - ECPv6.15.17.1//NONSGML v1.0//EN
CALSCALE:GREGORIAN
METHOD:PUBLISH
X-WR-CALNAME:OTC Eco Granada
X-ORIGINAL-URL:https://otcecogranada.es
X-WR-CALDESC:Eventos para OTC Eco Granada
REFRESH-INTERVAL;VALUE=DURATION:PT1H
X-Robots-Tag:noindex
X-PUBLISHED-TTL:PT1H
BEGIN:VTIMEZONE
TZID:Europe/Madrid
BEGIN:DAYLIGHT
TZOFFSETFROM:+0100
TZOFFSETTO:+0200
TZNAME:CEST
DTSTART:20240331T010000
END:DAYLIGHT
BEGIN:STANDARD
TZOFFSETFROM:+0200
TZOFFSETTO:+0100
TZNAME:CET
DTSTART:20241027T010000
END:STANDARD
BEGIN:DAYLIGHT
TZOFFSETFROM:+0100
TZOFFSETTO:+0200
TZNAME:CEST
DTSTART:20250330T010000
END:DAYLIGHT
BEGIN:STANDARD
TZOFFSETFROM:+0200
TZOFFSETTO:+0100
TZNAME:CET
DTSTART:20251026T010000
END:STANDARD
BEGIN:DAYLIGHT
TZOFFSETFROM:+0100
TZOFFSETTO:+0200
TZNAME:CEST
DTSTART:20260329T010000
END:DAYLIGHT
BEGIN:STANDARD
TZOFFSETFROM:+0200
TZOFFSETTO:+0100
TZNAME:CET
DTSTART:20261025T010000
END:STANDARD
END:VTIMEZONE
BEGIN:VEVENT
DTSTART;TZID=Europe/Madrid:20251111T120000
DTEND;TZID=Europe/Madrid:20251111T130000
DTSTAMP:20260420T003104
CREATED:20251106T072256Z
LAST-MODIFIED:20251106T072842Z
UID:10000186-1762862400-1762866000@otcecogranada.es
SUMMARY:Jornada informativa sobre comunidades energéticas en Padul
DESCRIPTION:En la jornada descubrirás:\n⚡ Qué es una comunidad energética y cómo organizarla paso a paso\n🌞 Qué beneficios ofrece a ciudadanos\, asociaciones y entidades locales\n🔋 Ejemplos reales en Andalucía que ya están produciendo\, gestionando y compartiendo su energía renovable \n¡No dejes pasar esta oportunidad! \nRecuerda: 11 de noviembre de 2025\, a las 12:00 am (en la Sede del Grupo de Desarrollo Rural) \nTe esperamos.
URL:https://otcecogranada.es/evento/jornada-informativa-comunidades-energeticas-padul/
LOCATION:Sede Grupo Desarrollo Rural (GDR)\, C/Pablo Iglesias\, 22
CATEGORIES:Comunidades Energéticas
ATTACH;FMTTYPE=image/png:https://otcecogranada.es/wp-content/uploads/2025/11/20251111_-rrss-padul-.png
END:VEVENT
END:VCALENDAR